BEGIN:VCALENDAR
VERSION:2.0
PRODID:-//Sigi Forge - ECPv6.10.2//NONSGML v1.0//EN
CALSCALE:GREGORIAN
METHOD:PUBLISH
X-ORIGINAL-URL:https://sigiforge.com
X-WR-CALDESC:Events for Sigi Forge
REFRESH-INTERVAL;VALUE=DURATION:PT1H
X-Robots-Tag:noindex
X-PUBLISHED-TTL:PT1H
BEGIN:VTIMEZONE
TZID:America/New_York
BEGIN:DAYLIGHT
TZOFFSETFROM:-0500
TZOFFSETTO:-0400
TZNAME:EDT
DTSTART:20230312T070000
END:DAYLIGHT
BEGIN:STANDARD
TZOFFSETFROM:-0400
TZOFFSETTO:-0500
TZNAME:EST
DTSTART:20231105T060000
END:STANDARD
END:VTIMEZONE
BEGIN:VEVENT
DTSTART;VALUE=DATE:20230714
DTEND;VALUE=DATE:20230717
DTSTAMP:20260425T123938
CREATED:20230503T154936Z
LAST-MODIFIED:20230503T154936Z
UID:10000105-1689292800-1689551999@sigiforge.com
SUMMARY:Queen's Gambit
DESCRIPTION:Join us in Charlotte\, NC for a 3 day event with 9 tournaments\, plus workshops\, lectures\, and a masquerade ball with renaissance dancing! We will have cutting tournaments with Longsword and Sidesword. Sparring tournaments with Longsword\, Sidesword\, Spear\, and Dagger. Our Longsword\, Sidesword and Dagger tournaments will be split into Rose Division (fighters under 5’9″ tall) and Crown Division (fighters 5’9″ and above). \nDaggers are allowed as a companion weapon in the Longsword tournament. \n“Sideswords” may be any form of single-handed sword with a blade length less than or equal to 38” (e.g.\, rapiers\, sabers\, messers\, and arming swords are all acceptable in addition to “true” sideswords). Daggers\, Cloaks\, Bucklers\, and Targas are allowed as companion weapons in the Sidesword tournamnet. \nLoaner sharps will be available for both cutting tournaments. You are also welcome to bring your own sharp. \nFor full details\, rules\, and registration visit: www.sword.org/queen-s-gambit
URL:https://sigiforge.com/event/queens-gambit/
LOCATION:Sports Connection Northlake\, 8626 Hankins Rd\, Charlotte\, NC\, 28269\, United States
CATEGORIES:Dagger,Lecture,Longsword Open,Sword and Buckler,Workshop
ATTACH;FMTTYPE=image/jpeg:https://sigiforge.com/wp-content/uploads/2023/05/343827158_154554577579577_7109272805411672426_n.jpg
ORGANIZER;CN="Swordwind Historical Swordsmanship":MAILTO:SwordwindHS@gmail.com
END:VEVENT
END:VCALENDAR