BEGIN:VCALENDAR
VERSION:2.0
PRODID:-//Sigi Forge - ECPv6.10.2//NONSGML v1.0//EN
CALSCALE:GREGORIAN
METHOD:PUBLISH
X-WR-CALNAME:Sigi Forge
X-ORIGINAL-URL:https://sigiforge.com
X-WR-CALDESC:Events for Sigi Forge
REFRESH-INTERVAL;VALUE=DURATION:PT1H
X-Robots-Tag:noindex
X-PUBLISHED-TTL:PT1H
BEGIN:VTIMEZONE
TZID:America/New_York
BEGIN:DAYLIGHT
TZOFFSETFROM:-0500
TZOFFSETTO:-0400
TZNAME:EDT
DTSTART:20220313T070000
END:DAYLIGHT
BEGIN:STANDARD
TZOFFSETFROM:-0400
TZOFFSETTO:-0500
TZNAME:EST
DTSTART:20221106T060000
END:STANDARD
BEGIN:DAYLIGHT
TZOFFSETFROM:-0500
TZOFFSETTO:-0400
TZNAME:EDT
DTSTART:20230312T070000
END:DAYLIGHT
BEGIN:STANDARD
TZOFFSETFROM:-0400
TZOFFSETTO:-0500
TZNAME:EST
DTSTART:20231105T060000
END:STANDARD
BEGIN:DAYLIGHT
TZOFFSETFROM:-0500
TZOFFSETTO:-0400
TZNAME:EDT
DTSTART:20240310T070000
END:DAYLIGHT
BEGIN:STANDARD
TZOFFSETFROM:-0400
TZOFFSETTO:-0500
TZNAME:EST
DTSTART:20241103T060000
END:STANDARD
END:VTIMEZONE
BEGIN:VEVENT
DTSTART;TZID=America/New_York:20240315T080000
DTEND;TZID=America/New_York:20240315T170000
DTSTAMP:20260425T142734
CREATED:20240228T140021Z
LAST-MODIFIED:20240228T140021Z
UID:10000169-1710489600-1710522000@sigiforge.com
SUMMARY:Ascalon Sword Festival 2024
DESCRIPTION:Ascalon Sword Festival is a premiere HEMA tournament\, featuring longsword\, which will be divided into Division 1\, 2 and 3\, Saber\, Rapier & Dagger\, and Marginalized Gender Longsword Tournament. \nRegistration is now OPEN. See below for event specific details. \nThe Open Longsword event will be split across 3 separate events – Divisions 1-3. The Top 8 finishers of all 3 divisions will receive medals. Fencers are free to register and place themselves as they choose\, but are expected to accurately place themselves using the descriptions below. The tournament staff reserves the right to shift fencers that staff believe are improperly placed. \nDivision 1 is recommended for fencers who regularly place in the top 25% of open events and/or have a rank of C or greater. \nDivision 2 is recommended for fencers that do not qualify for Div1 or Div3. Fencers who regularly finish in the top 25% of tournaments should apply for Division 1. Division 2 fencers may also choose to participate in Division 1. If you normally participate in an “Open” without getting into the table of 8\, this is the level for you. \nDivision 3 is recommended for those that are new to HEMA\, have difficulty winning bouts in their pool\, or fencers who do not normally progress past the first round of a DE. Division 3 fencers may also choose to participate in Division 2. \nThe Marginalized Gender event is open to trans and cis women\, trans men\, non-binary people\, intersex people\, and any other gender expansive people who are often underrepresented in HEMA. \nSaber and Rapier & Dagger will be run a standard open tournament\, all skill levels are welcome to participate. \nPlease see the rules for additional details. (https://usahema.org/rules/view)
URL:https://sigiforge.com/event/ascalon-sword-festival-2024/
LOCATION:Royal Arts Fencing Academy\, 5770 Westbourne Ave\, Columbus\, OH\, United States
CATEGORIES:Advanced Longsword,Beginner tournament,Longsword Open,Marginalized Gender Longsword,Rapier and Dagger,Saber,Sword and Buckler,Tournament
ATTACH;FMTTYPE=image/jpeg:https://sigiforge.com/wp-content/uploads/2024/02/scaled_256.jpg
GEO:39.9850349;-82.8466339
X-APPLE-STRUCTURED-LOCATION;VALUE=URI;X-ADDRESS=Royal Arts Fencing Academy 5770 Westbourne Ave Columbus OH United States;X-APPLE-RADIUS=500;X-TITLE=5770 Westbourne Ave:geo:-82.8466339,39.9850349
END:VEVENT
BEGIN:VEVENT
DTSTART;TZID=America/New_York:20221119T080000
DTEND;TZID=America/New_York:20221120T170000
DTSTAMP:20260425T142734
CREATED:20221102T162613Z
LAST-MODIFIED:20221102T162613Z
UID:10000058-1668844800-1668963600@sigiforge.com
SUMMARY:Blue Box Open 2022
DESCRIPTION:Blue Box Open is a two day event featuring Open Longsword split into two divisions\, an open Saber event\, and a marginalized gender Longsword event. Food will be available for purchase throughout the event. \nLongsword will be divided into Division 1 and 2. \nDivision 1 is recommended for those that regularly place in the top 25% of open events. \nDivision 2 is recommended for those not regularly finishing in the top quarter as well as those new to tournaments. If you are unsure which to do\, reach out to us or select Division 2. \nMarginalized gender events include: trans and cis women\, trans men\, non-binary people\, intersex people\, and any other gender expansive people who are often underrepresented in HEMA.
URL:https://sigiforge.com/event/blue-box-open-2022/
LOCATION:Royal Arts Fencing Academy\, 5770 Westbourne Ave\, Columbus\, OH\, United States
CATEGORIES:Advanced Longsword,Longsword Open,Longsword Women,Saber
ATTACH;FMTTYPE=image/jpeg:https://sigiforge.com/wp-content/uploads/2022/11/bbox.jpg
GEO:39.9850349;-82.8466339
X-APPLE-STRUCTURED-LOCATION;VALUE=URI;X-ADDRESS=Royal Arts Fencing Academy 5770 Westbourne Ave Columbus OH United States;X-APPLE-RADIUS=500;X-TITLE=5770 Westbourne Ave:geo:-82.8466339,39.9850349
END:VEVENT
END:VCALENDAR