BEGIN:VCALENDAR
VERSION:2.0
PRODID:-//Sigi Forge - ECPv6.10.2//NONSGML v1.0//EN
CALSCALE:GREGORIAN
METHOD:PUBLISH
X-ORIGINAL-URL:https://sigiforge.com
X-WR-CALDESC:Events for Sigi Forge
REFRESH-INTERVAL;VALUE=DURATION:PT1H
X-Robots-Tag:noindex
X-PUBLISHED-TTL:PT1H
BEGIN:VTIMEZONE
TZID:Europe/Paris
BEGIN:DAYLIGHT
TZOFFSETFROM:+0100
TZOFFSETTO:+0200
TZNAME:CEST
DTSTART:20220327T010000
END:DAYLIGHT
BEGIN:STANDARD
TZOFFSETFROM:+0200
TZOFFSETTO:+0100
TZNAME:CET
DTSTART:20221030T010000
END:STANDARD
END:VTIMEZONE
BEGIN:VEVENT
DTSTART;TZID=Europe/Paris:20221126T090000
DTEND;TZID=Europe/Paris:20221127T180000
DTSTAMP:20260425T192805
CREATED:20221104T133247Z
LAST-MODIFIED:20221104T133247Z
UID:10000060-1669453200-1669572000@sigiforge.com
SUMMARY:THE MIGHT 2022
DESCRIPTION:THE MIGHT 2022 returns!😎\n👉 We are waiting for you with 4 tournaments this year:\n– Mixed Longsword\n– Side Sword\n– Sword and buckler\n– Dagger\nThe event will be held in Marseille\, at the Gymnase Bombardière\, 235 Rue Charles Kaddouz\, 13012 Marseille\nThe focus will be on the game.\nRules (in french) : https://drive.google.com/file/d/16AaxE9fjBcEYNWOZoySYjxQ2dpGhoWo0/\nRegistration : https://www.helloasso.com/associations/les-guerriers-du-lendemain/evenements/the-might-2022-bis
URL:https://sigiforge.com/event/the-might-2022/
LOCATION:Gymnase De La Bombardiére\, 235 Rue Charles Kaddouz\, Marseille\, 13012\, France
CATEGORIES:Dagger,Longsword Open,Single sword,Sword and Buckler
ATTACH;FMTTYPE=image/jpeg:https://sigiforge.com/wp-content/uploads/2022/11/panneau-attente.jpg
ORGANIZER;CN="Les Guerriers du Lendemain":MAILTO:contact.lgdl@gmail.com
GEO:43.3179474;5.4383498
X-APPLE-STRUCTURED-LOCATION;VALUE=URI;X-ADDRESS=Gymnase De La Bombardiére 235 Rue Charles Kaddouz Marseille 13012 France;X-APPLE-RADIUS=500;X-TITLE=235 Rue Charles Kaddouz:geo:5.4383498,43.3179474
END:VEVENT
END:VCALENDAR