BEGIN:VCALENDAR
VERSION:2.0
PRODID:-//Sigi Forge - ECPv6.10.2//NONSGML v1.0//EN
CALSCALE:GREGORIAN
METHOD:PUBLISH
X-ORIGINAL-URL:https://sigiforge.com
X-WR-CALDESC:Events for Sigi Forge
REFRESH-INTERVAL;VALUE=DURATION:PT1H
X-Robots-Tag:noindex
X-PUBLISHED-TTL:PT1H
BEGIN:VTIMEZONE
TZID:Europe/Bratislava
BEGIN:DAYLIGHT
TZOFFSETFROM:+0100
TZOFFSETTO:+0200
TZNAME:CEST
DTSTART:20240331T010000
END:DAYLIGHT
BEGIN:STANDARD
TZOFFSETFROM:+0200
TZOFFSETTO:+0100
TZNAME:CET
DTSTART:20241027T010000
END:STANDARD
END:VTIMEZONE
BEGIN:VTIMEZONE
TZID:UTC
BEGIN:STANDARD
TZOFFSETFROM:+0000
TZOFFSETTO:+0000
TZNAME:UTC
DTSTART:20230101T000000
END:STANDARD
END:VTIMEZONE
BEGIN:VEVENT
DTSTART;VALUE=DATE:20240322
DTEND;VALUE=DATE:20240325
DTSTAMP:20260425T142733
CREATED:20231218T074037Z
LAST-MODIFIED:20231218T074037Z
UID:10000139-1711065600-1711324799@sigiforge.com
SUMMARY:Keppinautur 2024
DESCRIPTION:The icelandic Hema club is hosting\, for the second time\, Keppinautur. This year will be our biggest so far! We’ll be competing in Longsword\, Rapier and maybe something more that will be announced later. If you’ve been looking for an excuse to come to Iceland\, this is it!
URL:https://sigiforge.com/event/keppinautur-2024/
LOCATION:íþróttamiðstöðin Hella\, Útskálar 4\, Hella\, 850\, Iceland
CATEGORIES:Longsword Open,Longsword Women,Rapier
ATTACH;FMTTYPE=image/png:https://sigiforge.com/wp-content/uploads/2023/12/Keppinautur-2024.png
ORGANIZER;CN="Reykjavik HEMA Club":MAILTO:reykjavikhemaclub@gmail.com
END:VEVENT
BEGIN:VEVENT
DTSTART;TZID=UTC:20230311T100000
DTEND;TZID=UTC:20230312T180000
DTSTAMP:20260425T142733
CREATED:20221028T082207Z
LAST-MODIFIED:20221028T090104Z
UID:10000039-1678528800-1678644000@sigiforge.com
SUMMARY:Keppinautur 2023 - Charity Tournament
DESCRIPTION:Keppinautur is a beginner friendly longsword charity tournament that is open to all HEMA practitioners.\nThere is a cap on registrations: 24 open slots total\nThis is the second Icelandic HEMA tournament for adults and is dedicated to the memory of Szczepan Łakomy\, who passed away in a fire on the 25th of June 2020.\nAll registration fees will be donated to Razom for Ukraine: \nHomepage \n\n1st place: 1 years bragging rights and more to be announced!\n2nd place: To be announced\n3rd place: To be announced\n(More prizes may be announced in the future)\nEvent Schedule\nSaturday 11th of March\n10:00 weapons and armor checks\n10:30 warmups\n11:00 longsword pools (4 pools with 6 people each)\nAttendance and pools will decide following timeslots for the rest of the day\n~16:00 elimination rounds\n~17:00 longsword finals\nA more detailed schedule will be announced later\nSunday 12th of March\n10:00-17:00 Workshops [announced later]\nEvent Address: Laugardalsvöllur\, 104 Reykjavík\nSee rules here:\n[Coming soon]\nNotice that to register to compete or volunteer you need to sign the form here:\n[Coming soon]\nas well as pay the registration fee (3000 isk) to kt. 640919-1240 & bank nr. 0515-26-004768\nbefore the 28th of February\nMore details to come as the event approaches ! Follow our Facebook event page for more updates: https://fb.me/e/2QmzyeaGz
URL:https://sigiforge.com/event/keppinautur-2023-charity-tournament/
LOCATION:Laugardalshöll\, Laugardalshöll\, Reykjavík\, Reykjavík\, 104\, Iceland
CATEGORIES:Beginner tournament,HEMA Ratings,Longsword Open,Tournament,Workshop
ATTACH;FMTTYPE=image/jpeg:https://sigiforge.com/wp-content/uploads/2022/10/RHC-LOGO-1.jpg
ORGANIZER;CN="Reykjavik HEMA Club":MAILTO:reykjavikhemaclub@gmail.com
GEO:64.1405661;-21.8770316
X-APPLE-STRUCTURED-LOCATION;VALUE=URI;X-ADDRESS=Laugardalshöll Laugardalshöll Reykjavík Reykjavík 104 Iceland;X-APPLE-RADIUS=500;X-TITLE=Laugardalshöll:geo:-21.8770316,64.1405661
END:VEVENT
BEGIN:VEVENT
DTSTART;TZID=UTC:20230304T100000
DTEND;TZID=UTC:20230305T180000
DTSTAMP:20260425T142733
CREATED:20221028T075414Z
LAST-MODIFIED:20221028T090111Z
UID:10000038-1677924000-1678039200@sigiforge.com
SUMMARY:Keppinautur - 12-16 year olds
DESCRIPTION:Keppinautur is a beginner friendly longsword charity tournament that is open to all HEMA practitioners.\nThis event is specifically for 12-16 year olds.\nThe cap on registrations is 24 participants.\nThis is the second Icelandic HEMA tournament but the first one dedicated solely for 12-16 year olds and is dedicated to the memory of Szczepan Łakomy\, who passed away in a fire on the 25th of June 2020.\nAll registration fees will be donated to Razom for Ukraine: \nHomepage \n\n1st place: 1 years bragging rights and more to be announced on the facebook event page!\n2nd place: To be announced\n3rd place: To be announced\n(More prizes may be announced in the future)\nEvent Schedule\nSaturday 4th of March\n10:00 weapons and armor checks\n10:30 warmups\n11:00 longsword pools for teens\nAttendance and pools will decide following timeslots for the rest of the day\n~17:00? longsword finals\nA more detailed schedule will be announced later\nSunday 5th of March\n10:00-17:00 Workshops [announced later]\nEvent Address: Laugardalsvöllur\, 104 Reykjavík\nSee rules here:\n[Coming soon]\nNotice that to register to compete or volunteer you need to sign the form here:\n[Coming soon]\nas well as pay the registration fee (3000 isk) to kt. 640919-1240 & bank nr. 0515-26-004768\nbefore the 28th of February\nMore details to come as the event approaches ! More updates on our Facebook event page: https://fb.me/e/2xMdBmNbQ
URL:https://sigiforge.com/event/keppinautur-12-16-year-olds/
LOCATION:Laugardalshöll\, Laugardalshöll\, Reykjavík\, Reykjavík\, 104\, Iceland
CATEGORIES:Beginner tournament,Kids tournament,Longsword Open,Tournament,Workshop
ATTACH;FMTTYPE=image/jpeg:https://sigiforge.com/wp-content/uploads/2022/10/RHC-LOGO.jpg
ORGANIZER;CN="Reykjavik HEMA Club":MAILTO:reykjavikhemaclub@gmail.com
GEO:64.1405661;-21.8770316
X-APPLE-STRUCTURED-LOCATION;VALUE=URI;X-ADDRESS=Laugardalshöll Laugardalshöll Reykjavík Reykjavík 104 Iceland;X-APPLE-RADIUS=500;X-TITLE=Laugardalshöll:geo:-21.8770316,64.1405661
END:VEVENT
END:VCALENDAR