BEGIN:VCALENDAR
VERSION:2.0
PRODID:-//Sigi Forge - ECPv6.10.2//NONSGML v1.0//EN
CALSCALE:GREGORIAN
METHOD:PUBLISH
X-ORIGINAL-URL:https://sigiforge.com
X-WR-CALDESC:Events for Sigi Forge
REFRESH-INTERVAL;VALUE=DURATION:PT1H
X-Robots-Tag:noindex
X-PUBLISHED-TTL:PT1H
BEGIN:VTIMEZONE
TZID:Europe/Bratislava
BEGIN:DAYLIGHT
TZOFFSETFROM:+0100
TZOFFSETTO:+0200
TZNAME:CEST
DTSTART:20240331T010000
END:DAYLIGHT
BEGIN:STANDARD
TZOFFSETFROM:+0200
TZOFFSETTO:+0100
TZNAME:CET
DTSTART:20241027T010000
END:STANDARD
BEGIN:DAYLIGHT
TZOFFSETFROM:+0100
TZOFFSETTO:+0200
TZNAME:CEST
DTSTART:20250330T010000
END:DAYLIGHT
BEGIN:STANDARD
TZOFFSETFROM:+0200
TZOFFSETTO:+0100
TZNAME:CET
DTSTART:20251026T010000
END:STANDARD
END:VTIMEZONE
BEGIN:VTIMEZONE
TZID:Europe/Berlin
BEGIN:DAYLIGHT
TZOFFSETFROM:+0100
TZOFFSETTO:+0200
TZNAME:CEST
DTSTART:20230326T010000
END:DAYLIGHT
BEGIN:STANDARD
TZOFFSETFROM:+0200
TZOFFSETTO:+0100
TZNAME:CET
DTSTART:20231029T010000
END:STANDARD
BEGIN:DAYLIGHT
TZOFFSETFROM:+0100
TZOFFSETTO:+0200
TZNAME:CEST
DTSTART:20240331T010000
END:DAYLIGHT
BEGIN:STANDARD
TZOFFSETFROM:+0200
TZOFFSETTO:+0100
TZNAME:CET
DTSTART:20241027T010000
END:STANDARD
END:VTIMEZONE
BEGIN:VEVENT
DTSTART;VALUE=DATE:20250628
DTEND;VALUE=DATE:20250630
DTSTAMP:20260425T123939
CREATED:20240913T151819Z
LAST-MODIFIED:20240913T151819Z
UID:10000246-1751068800-1751241599@sigiforge.com
SUMMARY:Dresdner HEMA-Cup 2025
DESCRIPTION:📣 Announcing the Dresdner HEMA-Cup 2025! 🗡️ \nWe are excited to invite you to the 4th annual Dresdner HEMA-Cup\, taking place on June 28th and 29th\, 2025! Join us for an exhilarating weekend of historical European martial arts\, where fencers from all over will compete in various disciplines. \nEvent Details:\n📅 Date: June 28-29\, 2025 📍 Venue: Dresden \nDisciplines: 🔸 Longsword Men 🔸 Longsword Women 🔸 Longsword Beginner 🔸 Sword & Buckler 🔸 Rapier & Dagger 🔸 Saber\nWhether you’re a seasoned competitor or new to HEMA\, this event offers a fantastic opportunity to showcase your skills\, learn from others\, and be part of the vibrant HEMA community. \nDon’t miss out on this exciting event! Mark your calendars and stay tuned for registration details. We look forward to seeing you there! 💪✨
URL:https://sigiforge.com/event/dresdner-hema-cup-2025/
LOCATION:Dresden\, Germany\, Dresden\, Germany
CATEGORIES:Beginner tournament,HEMA Ratings,Longsword Men,Longsword Women,Rapier and Dagger,Saber,Sword and Buckler
ATTACH;FMTTYPE=image/png:https://sigiforge.com/wp-content/uploads/2024/09/Longsword-Men-Longsword-Women-Longsword-Beginner.png
ORGANIZER;CN="Fencing Club Dresden":MAILTO:info@fencing-club.de
END:VEVENT
BEGIN:VEVENT
DTSTART;TZID=Europe/Bratislava:20241123T100000
DTEND;TZID=Europe/Bratislava:20241124T140000
DTSTAMP:20260425T123939
CREATED:20240821T113702Z
LAST-MODIFIED:20240821T113702Z
UID:10000237-1732356000-1732456800@sigiforge.com
SUMMARY:Antoni Olbrychski – Competitive Longsword Fencing + OPEN HALL on Sunday
DESCRIPTION:Seminar on Saturday / Open Hall on Sunday \nIn this seminar\, Antoni Olbrychski\, an internationally acclaimed fencer and instructor\, will delve into the intricacies of competitive longsword fencing. This session is designed to help participants enhance their performance by focusing on the most effective actions and exercises specifically tailored for competitive contexts. \nParticipants will explore how different HEMA rulesets (Polish\, Slovakian\, Scandinavian) emphasize various aspects of combat. Antoni will guide you through the tactical wheel of fencing\, showing how training under different rules can help you identify and improve weaker areas in your fencing technique. \nKey topics include: \nThe specifics of competitive longsword training\nTechniques for avoiding doubles during attacks\nEffective strategies for countering undercuts to the hands\nUnderstanding the benefits and risks of training with Right of Way\nIdentifying and developing a fencer’s special skills \nThe workshop will blend technical exercises with task-based sparring\, providing a comprehensive approach to mastering competitive longsword fencing. \nWhether you’re a seasoned competitor or looking to sharpen your skills\, this seminar offers valuable insights into the tactical and technical aspects of fencing under various rulesets\, helping you become a more versatile and effective fencer. \nFULL TOURNAMENT GEAR IS NEEDED!
URL:https://sigiforge.com/event/antoni-olbrychski-competitive-longsword-fencing-open-hall-on-sunday/
LOCATION:Dresden\, Germany\, Dresden\, Germany
CATEGORIES:Advanced Longsword,Longsword Open,Workshop
ATTACH;FMTTYPE=image/png:https://sigiforge.com/wp-content/uploads/2024/08/Antoni_Longsword.png
ORGANIZER;CN="Fencing Club Dresden":MAILTO:info@fencing-club.de
END:VEVENT
BEGIN:VEVENT
DTSTART;VALUE=DATE:20240622
DTEND;VALUE=DATE:20240624
DTSTAMP:20260425T123939
CREATED:20240102T153319Z
LAST-MODIFIED:20240102T153333Z
UID:10000146-1719014400-1719187199@sigiforge.com
SUMMARY:3. Dresdner HEMA-Cup
DESCRIPTION:The ultimate Fencival in Germany!\nThis time we want to offer:\n– Longsword Men\n– Longsword Women\n– Longsword Beginner\n– Sword and Buckler\n– Sabre\n– Rapier and Dagger\nStay tunded and SAVE THE DATE!
URL:https://sigiforge.com/event/3-dresdner-hema-cup/
LOCATION:Dresden\, Germany\, Dresden\, Germany
CATEGORIES:Beginner tournament,Longsword Men,Longsword Women,Rapier and Dagger,Saber,Sword and Buckler
ATTACH;FMTTYPE=image/jpeg:https://sigiforge.com/wp-content/uploads/2024/01/400959017_349097580966464_5676249410475796950_n.jpg
ORGANIZER;CN="Fencing Club Dresden":MAILTO:info@fencing-club.de
END:VEVENT
BEGIN:VEVENT
DTSTART;TZID=Europe/Berlin:20230708T080000
DTEND;TZID=Europe/Berlin:20230708T170000
DTSTAMP:20260425T123939
CREATED:20230403T154815Z
LAST-MODIFIED:20230403T154815Z
UID:10000097-1688803200-1688835600@sigiforge.com
SUMMARY:2. Dresdner HEMA-Cup
DESCRIPTION:On July 8\, 2023\, the 2nd Dresden HEMA Cup will take place. \nThere will be competitions in the discipline of Longsword for men (48 participants) and women (12 participants).
URL:https://sigiforge.com/event/2-dresdner-hema-cup/
LOCATION:Dresden\, Germany\, Dresden\, Germany
CATEGORIES:HEMA Ratings,Longsword Men,Longsword Women,Tournament
ATTACH;FMTTYPE=image/jpeg:https://sigiforge.com/wp-content/uploads/2023/04/323415273_496782442369656_1060964945400354831_n.jpg
ORGANIZER;CN="Fencing Club Dresden":MAILTO:info@fencing-club.de
END:VEVENT
END:VCALENDAR