BEGIN:VCALENDAR
VERSION:2.0
PRODID:-//Sigi Forge - ECPv6.10.2//NONSGML v1.0//EN
CALSCALE:GREGORIAN
METHOD:PUBLISH
X-ORIGINAL-URL:https://sigiforge.com
X-WR-CALDESC:Events for Sigi Forge
REFRESH-INTERVAL;VALUE=DURATION:PT1H
X-Robots-Tag:noindex
X-PUBLISHED-TTL:PT1H
BEGIN:VTIMEZONE
TZID:America/Chicago
BEGIN:DAYLIGHT
TZOFFSETFROM:-0600
TZOFFSETTO:-0500
TZNAME:CDT
DTSTART:20230312T080000
END:DAYLIGHT
BEGIN:STANDARD
TZOFFSETFROM:-0500
TZOFFSETTO:-0600
TZNAME:CST
DTSTART:20231105T070000
END:STANDARD
END:VTIMEZONE
BEGIN:VEVENT
DTSTART;VALUE=DATE:20230128
DTEND;VALUE=DATE:20230130
DTSTAMP:20260425T173557
CREATED:20230116T090217Z
LAST-MODIFIED:20230116T090217Z
UID:10000081-1674864000-1675036799@sigiforge.com
SUMMARY:Midwinter Armizare 2023
DESCRIPTION:In conjunction with the Midwest Historical Fencing League and Forteza Fitness & Martial Arts the Midwinter Armizare Open is a public display of skill with one and two-handed swords in a relatively rules-light format meant to emphasize the tactical priorities of fighting with sharp weapons in lethal combat. \nTOURNAMENTS:\n1. Longsword\n2. One-handed Sword (rapier\, sidesword\, dussack/messer)\,\n3. Sword and Companion (Buckler\, Rotella or Dagger) \nWHERE & WHEN:\nDate: Saturday\, 28 January & Sunday\, 29 January 2023\nLocation: Forteza Fitness & Martial Arts 4437 N. Ravenswood Ave\, Chicago\, IL 60640 \nSCHEDULE ~ SATURDAY:\n10:00 – Sign In 11:00 – Introduction: Rules and Demo 11:30 – Longsword 02:30 – Break 03:00 – Single Sword Tournament 05:30 – After Event Party \nSCHEDULE ~ SUNDAY:\n10:00 – Sign In 11:00 Sword & Companion Tournament 01:30 – Break 02:00 – MidWinter King Finals Tournament. 3:30 After Event Reception \nIf signing up for 2 events\, we will follow-up to confirm which events you are fighting in. \nNOTE: You MUST be vaccinated to attend this event\, with a current vaccination within the last six months of the tournament.\nDate: January 28\, 2023\nTime: 10:00 AM to 6:00 PM\nLocation: Main Location\n4437 N Ravenswood Ave\nChicago\, IL 60640 US\nDate: January 29\, 2023\nTime: 9:00 AM to 2:00 PM\nLocation: Main Location\n4437 N Ravenswood Ave\nChicago\, IL 60640 US
URL:https://sigiforge.com/event/midwinter-armizare-2023/
CATEGORIES:Advanced Longsword,Beginner tournament,Longsword Open
ATTACH;FMTTYPE=image/jpeg:https://sigiforge.com/wp-content/uploads/2023/01/315675518_10160921635148352_7526949702433215055_n.jpg
ORGANIZER;CN="chicago Swordplay Guild":MAILTO:info.Chicagoswordplayguild@gmail.com
END:VEVENT
END:VCALENDAR