BEGIN:VCALENDAR
VERSION:2.0
PRODID:-//Sigi Forge - ECPv6.10.2//NONSGML v1.0//EN
CALSCALE:GREGORIAN
METHOD:PUBLISH
X-WR-CALNAME:Sigi Forge
X-ORIGINAL-URL:https://sigiforge.com
X-WR-CALDESC:Events for Sigi Forge
REFRESH-INTERVAL;VALUE=DURATION:PT1H
X-Robots-Tag:noindex
X-PUBLISHED-TTL:PT1H
BEGIN:VTIMEZONE
TZID:Asia/Tbilisi
BEGIN:STANDARD
TZOFFSETFROM:+0400
TZOFFSETTO:+0400
TZNAME:+04
DTSTART:20260101T000000
END:STANDARD
END:VTIMEZONE
BEGIN:VEVENT
DTSTART;VALUE=DATE:20260718
DTEND;VALUE=DATE:20260720
DTSTAMP:20260425T053233
CREATED:20260414T201553Z
LAST-MODIFIED:20260414T201824Z
UID:10000481-1784332800-1784505599@sigiforge.com
SUMMARY:Wolf's Head
DESCRIPTION:We continue a tradition that has already become a landmark event for the Georgian HEMA community. Once again\, the tournament will bring together fencers ready to compete on the field in intense\, fair competition. \nPrepare for strong opponents and an atmosphere where every bout is a challenge. The tournament is organized by St. George’s HEMA School.
URL:https://sigiforge.com/event/wolfs-head-2/
LOCATION:Tbilisi\, https://l.facebook.com/l.php?u=httpswww.bing.commapsdefault.aspxv2pcFACEBKmid8100where11-320Giorgi20Chitaia20St2C20Tbilisi2C20GeorgiaFORMFBKPL1mkten-USfbclidIwZXh0bgNhZW0CMTAAYnJpZBExbUxzYkliT01nNHN6bEZEd3NydGMGYXBwX2lkEDIyMjAzOTE3ODgyMDA4OTIAAR4H1TuSEvGLnMLz47J84Hg02gq-wPd09CKCqOGPDD_K7lwtrkPZnRAEiX-i3Q_aem_WizZgxBG9bg4S-It_lZOnw&h=AT7XzEg62qoKndQ7GFcMkckTinfLzuGDsbuq-NjwCmFxO2euT4PzN1Jm9lK7_PGVfs2fh18k_drWqfWSwUWyC607DuMpJh17V7svNAZEgg7sqi-kYmHtU4oi7QnbJwrTaw\, Tbilisi\, 0141\, Georgia
CATEGORIES:Longsword Open,Saber
ATTACH;FMTTYPE=image/jpeg:https://sigiforge.com/wp-content/uploads/2026/04/wolfs-head-1-scaled.jpg
ORGANIZER;CN="St. George HEMA School":MAILTO:april.anna.vas@gmail.com
END:VEVENT
END:VCALENDAR