BEGIN:VCALENDAR
VERSION:2.0
PRODID:-//Sigi Forge - ECPv6.10.2//NONSGML v1.0//EN
CALSCALE:GREGORIAN
METHOD:PUBLISH
X-WR-CALNAME:Sigi Forge
X-ORIGINAL-URL:https://sigiforge.com
X-WR-CALDESC:Events for Sigi Forge
REFRESH-INTERVAL;VALUE=DURATION:PT1H
X-Robots-Tag:noindex
X-PUBLISHED-TTL:PT1H
BEGIN:VTIMEZONE
TZID:Europe/Bratislava
BEGIN:DAYLIGHT
TZOFFSETFROM:+0100
TZOFFSETTO:+0200
TZNAME:CEST
DTSTART:20260329T010000
END:DAYLIGHT
BEGIN:STANDARD
TZOFFSETFROM:+0200
TZOFFSETTO:+0100
TZNAME:CET
DTSTART:20261025T010000
END:STANDARD
END:VTIMEZONE
BEGIN:VTIMEZONE
TZID:America/Chicago
BEGIN:DAYLIGHT
TZOFFSETFROM:-0600
TZOFFSETTO:-0500
TZNAME:CDT
DTSTART:20260308T080000
END:DAYLIGHT
BEGIN:STANDARD
TZOFFSETFROM:-0500
TZOFFSETTO:-0600
TZNAME:CST
DTSTART:20261101T070000
END:STANDARD
END:VTIMEZONE
BEGIN:VTIMEZONE
TZID:Europe/Belgrade
BEGIN:DAYLIGHT
TZOFFSETFROM:+0100
TZOFFSETTO:+0200
TZNAME:CEST
DTSTART:20260329T010000
END:DAYLIGHT
BEGIN:STANDARD
TZOFFSETFROM:+0200
TZOFFSETTO:+0100
TZNAME:CET
DTSTART:20261025T010000
END:STANDARD
END:VTIMEZONE
BEGIN:VEVENT
DTSTART;VALUE=DATE:20260501
DTEND;VALUE=DATE:20260504
DTSTAMP:20260425T041056
CREATED:20251007T145415Z
LAST-MODIFIED:20251007T145415Z
UID:10000383-1777593600-1777852799@sigiforge.com
SUMMARY:SwordStrongKC 2026
DESCRIPTION:THE best swordfighting tournament in the Kansas City and surrounding area\, SwordStrong KC is held at the beginning of May each year and runs over three days. \nBoth seasoned and novice fighters have a space in this tournament\, providing everyone the opportunity to meet new friends\, have new experiences and swordfight. Bringing fighters\, speakers\, experts\, sponsors and vendors together in one space for competition\, comradery and education: SwordStrong KC is a tournament that gets better every year and holds a permanent place on every swordfighters calendar.
URL:https://sigiforge.com/event/swordstrongkc-2026/
LOCATION:All American Indoor Sports Arena\, 8875 Rosehill Rd\, Lenexa\, KS\, 66215\, United States
CATEGORIES:Longsword Open,Messer,Rapier and Dagger,Saber
ATTACH;FMTTYPE=image/jpeg:https://sigiforge.com/wp-content/uploads/2025/10/SwordStrong-KC-circle.jpg
ORGANIZER;CN="Baer Swords School of Western Martial Arts":MAILTO:baer@baerswords.com
END:VEVENT
BEGIN:VEVENT
DTSTART;TZID=America/Chicago:20260627T080000
DTEND;TZID=America/Chicago:20260628T180000
DTSTAMP:20260425T041056
CREATED:20260317T134137Z
LAST-MODIFIED:20260317T134137Z
UID:10000469-1782547200-1782669600@sigiforge.com
SUMMARY:Midsommar Slam 2026
DESCRIPTION:Welcome to Midsommar Slam! Two full days of competition in Rapier\, Longsword\, Dagger\, and Messer. We will also be hosting a series of workshops ranging from more traditional HEMA Offerings such as Longsword and Sword & Buckler as well as Japanese Sword Arts and a group fighting/small unit tactics workshop by our friends at Ninheim Viking Fight School. Join us for a fight-filled weekend!
URL:https://sigiforge.com/event/midsommar-slam-2026/
LOCATION:Austin Sports Academy\, 275 Lotus Circle\, Austin\, TX\, 78737\, United States
CATEGORIES:Dagger,Longsword Open,Messer,Rapier
ATTACH;FMTTYPE=image/jpeg:https://sigiforge.com/wp-content/uploads/2026/03/Midsommar_Slam_2026_Schedule-scaled.jpg
ORGANIZER;CN="Arena Weapon Arts":MAILTO:midsommarslam2026@arenaweaponarts.com
END:VEVENT
BEGIN:VEVENT
DTSTART;TZID=Europe/Belgrade:20260801T090000
DTEND;TZID=Europe/Belgrade:20260801T190000
DTSTAMP:20260425T041056
CREATED:20251130T140107Z
LAST-MODIFIED:20251130T140107Z
UID:10000399-1785574800-1785610800@sigiforge.com
SUMMARY:HEMA WashFechten 2026
DESCRIPTION:​HEMA WashFechten 2026 will be a single day historical fencing event focused on a number of tournaments alongside a separate sparring area to the side. \nThe disciplines will be longsword open\, longsword womens\, and a RoW longsword invitational tournament. \nWe will be posting further information about them all in future. \nThe overall format of the tournaments will be the same as last year\, while some aspects will hopefully be a worthy improvement based on the constructive comments we’ve received on our first version of WashFechten and from what we’ve seen of various tournaments globally in the meantime. The invitational discipline will feature a new format to Serbia. \nThe intent of this event is to have as many people enjoy as much great fencing as possible during a single day while also helping people get judging experience and giving various international fencers a chance to connect. \nWe look forward to having you at our event! \nEquipment rules: https://tinyurl.com/3mvcrtps (Subject to change) \nTournament rules: https://tinyurl.com/3e48krrr(Subject to change) ​ \nContact: hemawashfechten@gmail.com \nRegistration form: Will be added upon registration opening in March \nSchedule: Detailed link will be added\, but the full tournament will last roughly between 9 and 19h. \nLocation(Will be formally confirmed at a later date): https://maps.app.goo.gl/nE97gjuWhKqda68S9 \nFacebook event:\nhttps://www.facebook.com/events/783197534879011 \nPrevious years highlights: https://youtu.be/9VB2z0Ak3z4\n2025 event results: https://hemascorecard.com/infoSummary.php?e=613&t=0&m=0#
URL:https://sigiforge.com/event/hema-washfechten-2026/
LOCATION:Sumice\, Ustanička 125/1\, Beograd 11000\, Belgrade\, Serbia\, 11000\, Serbia
CATEGORIES:Longsword Open,Longsword Women
ATTACH;FMTTYPE=image/png:https://sigiforge.com/wp-content/uploads/2025/11/hema-washfechten2026.png
ORGANIZER;CN="School of historical fencing - Terca":MAILTO:tercafencing@gmail.com
END:VEVENT
BEGIN:VEVENT
DTSTART;VALUE=DATE:20261024
DTEND;VALUE=DATE:20261026
DTSTAMP:20260425T041056
CREATED:20251104T121617Z
LAST-MODIFIED:20251104T121617Z
UID:10000390-1792800000-1792972799@sigiforge.com
SUMMARY:Munich International Rapier Days and Ochsenstich Tournament 2026
DESCRIPTION:MIRD open rapier event with:\n– Open fencing hall all weekend long\n– On Saturday”Ochsenstich” tournament\n– On Sunday coached sparring and individual and small group coaching by present Trainers\n– Organized Fencing exchanges\n– List of attending trainers to book private lessons with them on\nhttp://ochsenstich.de/index.html\nHosted by https://www.schwertkampf-ochs.de
URL:https://sigiforge.com/event/munich-international-rapier-days-and-ochsenstich-tournament-2026/
LOCATION:Munich – Riesstraße\, Riesstraße 34\, Munich\, Bavaria\, 80992\, Germany
CATEGORIES:HEMA Ratings,Rapier,Rapier and sidearm,Tournament
ATTACH;FMTTYPE=image/jpeg:https://sigiforge.com/wp-content/uploads/2025/11/5426972520784983966.jpg
END:VEVENT
BEGIN:VEVENT
DTSTART;VALUE=DATE:20261024
DTEND;VALUE=DATE:20261026
DTSTAMP:20260425T041056
CREATED:20251106T065935Z
LAST-MODIFIED:20251106T070523Z
UID:10000391-1792800000-1792972799@sigiforge.com
SUMMARY:Munich International Rapier Days 2026
DESCRIPTION:MIRD open rapier event with:\n– Open fencing hall all weekend long\n– On Saturday”Ochsenstich” tournament\n– On Sunday coached sparring and individual and small group coaching by present Trainers\n– Organized Fencing exchanges\n– List of attending trainers to book private lessons with them on\nhttp://ochsenstich.de/index.html
URL:https://sigiforge.com/event/munich-international-rapier-days-2026/
LOCATION:Munich – Riesstraße\, Riesstraße 34\, Munich\, Bavaria\, 80992\, Germany
CATEGORIES:HEMA Ratings,Rapier,Rapier and sidearm,Tournament
ATTACH;FMTTYPE=image/jpeg:https://sigiforge.com/wp-content/uploads/2025/11/5426972520784983966-1.jpg
END:VEVENT
END:VCALENDAR