BEGIN:VCALENDAR
VERSION:2.0
PRODID:-//Sigi Forge - ECPv6.10.2//NONSGML v1.0//EN
CALSCALE:GREGORIAN
METHOD:PUBLISH
X-ORIGINAL-URL:https://sigiforge.com
X-WR-CALDESC:Events for Sigi Forge
REFRESH-INTERVAL;VALUE=DURATION:PT1H
X-Robots-Tag:noindex
X-PUBLISHED-TTL:PT1H
BEGIN:VTIMEZONE
TZID:Europe/Bratislava
BEGIN:DAYLIGHT
TZOFFSETFROM:+0100
TZOFFSETTO:+0200
TZNAME:CEST
DTSTART:20250330T010000
END:DAYLIGHT
BEGIN:STANDARD
TZOFFSETFROM:+0200
TZOFFSETTO:+0100
TZNAME:CET
DTSTART:20251026T010000
END:STANDARD
END:VTIMEZONE
BEGIN:VTIMEZONE
TZID:America/Toronto
BEGIN:DAYLIGHT
TZOFFSETFROM:-0500
TZOFFSETTO:-0400
TZNAME:EDT
DTSTART:20250309T070000
END:DAYLIGHT
BEGIN:STANDARD
TZOFFSETFROM:-0400
TZOFFSETTO:-0500
TZNAME:EST
DTSTART:20251102T060000
END:STANDARD
END:VTIMEZONE
BEGIN:VTIMEZONE
TZID:Europe/Zagreb
BEGIN:DAYLIGHT
TZOFFSETFROM:+0100
TZOFFSETTO:+0200
TZNAME:CEST
DTSTART:20250330T010000
END:DAYLIGHT
BEGIN:STANDARD
TZOFFSETFROM:+0200
TZOFFSETTO:+0100
TZNAME:CET
DTSTART:20251026T010000
END:STANDARD
END:VTIMEZONE
BEGIN:VTIMEZONE
TZID:Asia/Taipei
BEGIN:STANDARD
TZOFFSETFROM:+0800
TZOFFSETTO:+0800
TZNAME:CST
DTSTART:20250101T000000
END:STANDARD
END:VTIMEZONE
BEGIN:VEVENT
DTSTART;VALUE=DATE:20250614
DTEND;VALUE=DATE:20250616
DTSTAMP:20260425T220108
CREATED:20250428T133140Z
LAST-MODIFIED:20250428T133140Z
UID:10000334-1749859200-1750031999@sigiforge.com
SUMMARY:Österreichische Meisterschaft (Austrian Nationals)
DESCRIPTION:The time has finally come! After a long hiatus we are holding the next Austrian Nationals on the 14th and 15th of June 2025. Sign up for one out of a total of 149 entries across the disciplines ‘Longsword Open’\, ‘Longsword Womens’\, ‘Langes Messer’\, ‘Sabre’\, ‘Rapier’ and ‘Sword and Buckler’. For under 18s we are also hosting an additional Kids Tournament. For non competitiors there will be an open hall for sparring on both days. \nThe tournament takes place in the ‘Sporthalle Josef Preis Allee’ in Salzburg. (Adress: Josef Preis Allee 3-5 Salzburg)\nYou can find information on registration\, parking\, overnight stay\, and supporting program on our website: https://oem.historischesfechten.at\nAll are welcome\, no matter if you are an experienced tournament master\, a new beginner or a spectator. Don’t hesitate too long to register\, or you might find yourself on the waiting list.
URL:https://sigiforge.com/event/osterreichische-meisterschaft-austrian-nationals/
LOCATION:Turnhalle Josef Preis Allee Salzburg\, Josef Preis Allee 3-5\, Salzrburg\, Salzburg\, 5020\, Austria
CATEGORIES:HEMA Ratings,Kids tournament,Longsword Open,Longsword Women,Messer,Rapier,Saber,Sword and Buckler,Tournament
ATTACH;FMTTYPE=image/jpeg:https://sigiforge.com/wp-content/uploads/2025/04/OM-Logo.-1.4.3.1-White-scaled.jpg
ORGANIZER;CN="%C3%96FHF-HEMA Austria":MAILTO:info@historisches-fechten.at
END:VEVENT
BEGIN:VEVENT
DTSTART;TZID=Europe/Bratislava:20250614T090000
DTEND;TZID=Europe/Bratislava:20250614T180000
DTSTAMP:20260425T220108
CREATED:20250218T133017Z
LAST-MODIFIED:20250218T133017Z
UID:10000302-1749891600-1749924000@sigiforge.com
SUMMARY:Na Duel! HEMA Tournament 2025
DESCRIPTION:Duelists Announce Their Annual Tournament \nDisciplines:\n– SABER – Barbasetti rules (RoW) – 36 fencers\n– RAPIER – RK Prague rules – 14 fencers \nCapacity may increase if there is high demand. \n25 € for one discipline\n35 € for both disciplines\nChildren and military personnel: half price (limited to NATO armies). \nWeapon rental for 2 € / piece\nRegistration opens on May 1st at 15:15
URL:https://sigiforge.com/event/na-duel-hema-tournament-2025/
LOCATION:Tyrsuv dum\, Ujezd 450\, Praha\, 11801\, Czech Republic
CATEGORIES:Tournament
ATTACH;FMTTYPE=image/jpeg:https://sigiforge.com/wp-content/uploads/2025/02/naduel.jpg
ORGANIZER;CN="Duelanti od sv. Rocha":MAILTO:duelanti@centrum.cz
END:VEVENT
BEGIN:VEVENT
DTSTART;TZID=America/Toronto:20250620T160000
DTEND;TZID=America/Toronto:20250620T190000
DTSTAMP:20260425T220109
CREATED:20250213T152851Z
LAST-MODIFIED:20250213T152851Z
UID:10000291-1750435200-1750446000@sigiforge.com
SUMMARY:Ottawa Beta Cup
DESCRIPTION:The Ottawa Historical Fencing Society presets the first annual Ottawa Beta Cup! A new HEMA tournament in Ottawa\, Ontario\, Canada! Competitions in both Longsword and Sabre. On top of the regular tournaments and elimination there is a special round robin tournament for those who did not make it into eliminations we call the Underking. There has been huge demand for a tournament in Ottawa\, and we are happy to bring the first of many.
URL:https://sigiforge.com/event/ottawa-beta-cup/2025-06-20/
LOCATION:Nepean Sportsplex\, 1701 Woodroffe Ave\, Nepean\, Ontario\, K2G 1W2\, Canada
CATEGORIES:Longsword Open,Saber
ATTACH;FMTTYPE=image/png:https://sigiforge.com/wp-content/uploads/2025/02/BetaPoster_2025.png
ORGANIZER;CN="Ottawa Historical Fencing Society":MAILTO:info@ohfs.ca
END:VEVENT
BEGIN:VEVENT
DTSTART;VALUE=DATE:20250621
DTEND;VALUE=DATE:20250623
DTSTAMP:20260425T220109
CREATED:20250210T105908Z
LAST-MODIFIED:20250210T105908Z
UID:10000287-1750464000-1750636799@sigiforge.com
SUMMARY:Steel & Chill 2025
DESCRIPTION:Steel and Chill – The Ultimate HEMA Experience Returns! \nGet ready\, because Steel and Chill is returning to Daruvar! \nMark your calendars for 21. – 22. 06.\, when we’ll be hosting one of the most exciting and laid-back HEMA competitions around. Whether you’re a seasoned fighter or new to the sport\, come for the challenge\, stay for the fun! \nWhat you can expect:\nIntense matches in five categories:\n– Open Longsword (36)\n– Women’s Longsword (24)\n– Open Sidesword (24)\n– Women’s Sidesword (12)\n– Open Sword and Buckler (24) \nA community-focused atmosphere that’s all about fun and respect \nA chance to meet and compete against the best HEMA practitioners in the region \nPrizes\, surprises\, and maybe a few chill moments between fights! \nRegistration opens soon – stay tuned for all the details and follow the event page for future info: https://fb.me/e/68dK4c8X6 \nP.S. Check out our Facebook or web page for photos from previous years:\nhttps://www.facebook.com/profile.php?id=61572349797716\nhttps://steelnchill.com/
URL:https://sigiforge.com/event/steel-chill-2025/
LOCATION:Count Janković Castle\, Daruvar\, Ulica Ivana Gundulića 1\, Daruvar\, 43500\, Croatia (Local Name: Hrvatska)
CATEGORIES:Longsword Open,Longsword Women,Single sword,Sword and Buckler
ATTACH;FMTTYPE=image/jpeg:https://sigiforge.com/wp-content/uploads/2025/02/WhatsApp-Image-2025-01-29-at-13.35.49_057a4333.jpg
ORGANIZER;CN="Ars Gladiatoria Zagreb":MAILTO:info@arsgladiatoria.hr
END:VEVENT
BEGIN:VEVENT
DTSTART;TZID=America/Toronto:20250621T080000
DTEND;TZID=America/Toronto:20250621T190000
DTSTAMP:20260425T220109
CREATED:20250213T152851Z
LAST-MODIFIED:20250213T152851Z
UID:10000292-1750492800-1750532400@sigiforge.com
SUMMARY:Ottawa Beta Cup
DESCRIPTION:The Ottawa Historical Fencing Society presets the first annual Ottawa Beta Cup! A new HEMA tournament in Ottawa\, Ontario\, Canada! Competitions in both Longsword and Sabre. On top of the regular tournaments and elimination there is a special round robin tournament for those who did not make it into eliminations we call the Underking. There has been huge demand for a tournament in Ottawa\, and we are happy to bring the first of many.
URL:https://sigiforge.com/event/ottawa-beta-cup/2025-06-21/
LOCATION:Nepean Sportsplex\, 1701 Woodroffe Ave\, Nepean\, Ontario\, K2G 1W2\, Canada
CATEGORIES:Longsword Open,Saber
ATTACH;FMTTYPE=image/png:https://sigiforge.com/wp-content/uploads/2025/02/BetaPoster_2025.png
ORGANIZER;CN="Ottawa Historical Fencing Society":MAILTO:info@ohfs.ca
END:VEVENT
BEGIN:VEVENT
DTSTART;TZID=America/Toronto:20250622T080000
DTEND;TZID=America/Toronto:20250622T190000
DTSTAMP:20260425T220109
CREATED:20250213T152851Z
LAST-MODIFIED:20250213T152851Z
UID:10000293-1750579200-1750618800@sigiforge.com
SUMMARY:Ottawa Beta Cup
DESCRIPTION:The Ottawa Historical Fencing Society presets the first annual Ottawa Beta Cup! A new HEMA tournament in Ottawa\, Ontario\, Canada! Competitions in both Longsword and Sabre. On top of the regular tournaments and elimination there is a special round robin tournament for those who did not make it into eliminations we call the Underking. There has been huge demand for a tournament in Ottawa\, and we are happy to bring the first of many.
URL:https://sigiforge.com/event/ottawa-beta-cup/2025-06-22/
LOCATION:Nepean Sportsplex\, 1701 Woodroffe Ave\, Nepean\, Ontario\, K2G 1W2\, Canada
CATEGORIES:Longsword Open,Saber
ATTACH;FMTTYPE=image/png:https://sigiforge.com/wp-content/uploads/2025/02/BetaPoster_2025.png
ORGANIZER;CN="Ottawa Historical Fencing Society":MAILTO:info@ohfs.ca
END:VEVENT
BEGIN:VEVENT
DTSTART;VALUE=DATE:20250628
DTEND;VALUE=DATE:20250630
DTSTAMP:20260425T220109
CREATED:20240913T151819Z
LAST-MODIFIED:20240913T151819Z
UID:10000246-1751068800-1751241599@sigiforge.com
SUMMARY:Dresdner HEMA-Cup 2025
DESCRIPTION:📣 Announcing the Dresdner HEMA-Cup 2025! 🗡️ \nWe are excited to invite you to the 4th annual Dresdner HEMA-Cup\, taking place on June 28th and 29th\, 2025! Join us for an exhilarating weekend of historical European martial arts\, where fencers from all over will compete in various disciplines. \nEvent Details:\n📅 Date: June 28-29\, 2025 📍 Venue: Dresden \nDisciplines: 🔸 Longsword Men 🔸 Longsword Women 🔸 Longsword Beginner 🔸 Sword & Buckler 🔸 Rapier & Dagger 🔸 Saber\nWhether you’re a seasoned competitor or new to HEMA\, this event offers a fantastic opportunity to showcase your skills\, learn from others\, and be part of the vibrant HEMA community. \nDon’t miss out on this exciting event! Mark your calendars and stay tuned for registration details. We look forward to seeing you there! 💪✨
URL:https://sigiforge.com/event/dresdner-hema-cup-2025/
LOCATION:Dresden\, Germany\, Dresden\, Germany
CATEGORIES:Beginner tournament,HEMA Ratings,Longsword Men,Longsword Women,Rapier and Dagger,Saber,Sword and Buckler
ATTACH;FMTTYPE=image/png:https://sigiforge.com/wp-content/uploads/2024/09/Longsword-Men-Longsword-Women-Longsword-Beginner.png
ORGANIZER;CN="Fencing Club Dresden":MAILTO:info@fencing-club.de
END:VEVENT
BEGIN:VEVENT
DTSTART;VALUE=DATE:20250628
DTEND;VALUE=DATE:20250630
DTSTAMP:20260425T220109
CREATED:20250225T101050Z
LAST-MODIFIED:20250225T101050Z
UID:10000304-1751068800-1751241599@sigiforge.com
SUMMARY:2025 Clash of Steel
DESCRIPTION:Historical European Martial Arts (HEMA) is an endeavor started in the 20th century in the US and Europe\, its aim is to reconstruct European martial arts that has its lineage broken through the interpretation of period manuscripts. In Asia\, more and more people are joining the movement\, either based on the fascination with a foreign culture\, or through a passion for martial arts. A HEMA event for Asia – Clash of Steel. We invite everyone to join us. \nDue to renovation work at our originally planned venue\, we have decided to relocate this year’s event to Chung Mei Auditorium at Fu Jen Catholic University\, a private Catholic institution. This venue is a school gymnasium that resembles a Roman arena and hosted various university sports competitions every year\, including fencing\, basketball\, and volleyball tournaments. The surrounding area offers convenient transportation\, a wide variety of restaurants\, and ample accommodation and medical resources. \nWe hope you will enjoy great food\, have a fantastic time\, and leave with valuable experiences. \nThis year’s event will feature:\nOpen Longsword Tournament\nOpen Rapier & Dagger Tournament\nTen Different Weapon Workshops\nLARP Combat Event on the First Evening\nMore details will be announced on our Facebook page and official website. Please stay tuned for updates! \nIf you are a martial arts or related cultural instructor/coach that is interested in sharing your knowledge and techniques during our workshop sessions\, please contact me before March 31st.\nIf you are a vendor interested in setting up a booth at the event\, please reach out to me before April 30th. \nWe look forward to see you here! \nBest regards\,\nClash of Steel Team
URL:https://sigiforge.com/event/2025-clash-of-steel/
LOCATION:TX
CATEGORIES:Longsword Open,Rapier and Dagger,Tournament,Workshop
ATTACH;FMTTYPE=image/jpeg:https://sigiforge.com/wp-content/uploads/2025/02/FB首頁圖.jpg
ORGANIZER;CN="HEMA Union":MAILTO:hemaunionasia@gmail.com
END:VEVENT
END:VCALENDAR