BEGIN:VCALENDAR
VERSION:2.0
PRODID:-//Sigi Forge - ECPv6.10.2//NONSGML v1.0//EN
CALSCALE:GREGORIAN
METHOD:PUBLISH
X-WR-CALNAME:Sigi Forge
X-ORIGINAL-URL:https://sigiforge.com
X-WR-CALDESC:Events for Sigi Forge
REFRESH-INTERVAL;VALUE=DURATION:PT1H
X-Robots-Tag:noindex
X-PUBLISHED-TTL:PT1H
BEGIN:VTIMEZONE
TZID:UTC
BEGIN:STANDARD
TZOFFSETFROM:+0000
TZOFFSETTO:+0000
TZNAME:UTC
DTSTART:20220101T000000
END:STANDARD
END:VTIMEZONE
BEGIN:VTIMEZONE
TZID:America/Los_Angeles
BEGIN:DAYLIGHT
TZOFFSETFROM:-0800
TZOFFSETTO:-0700
TZNAME:PDT
DTSTART:20230312T100000
END:DAYLIGHT
BEGIN:STANDARD
TZOFFSETFROM:-0700
TZOFFSETTO:-0800
TZNAME:PST
DTSTART:20231105T090000
END:STANDARD
BEGIN:DAYLIGHT
TZOFFSETFROM:-0800
TZOFFSETTO:-0700
TZNAME:PDT
DTSTART:20240310T100000
END:DAYLIGHT
BEGIN:STANDARD
TZOFFSETFROM:-0700
TZOFFSETTO:-0800
TZNAME:PST
DTSTART:20241103T090000
END:STANDARD
END:VTIMEZONE
BEGIN:VTIMEZONE
TZID:Europe/Bratislava
BEGIN:DAYLIGHT
TZOFFSETFROM:+0100
TZOFFSETTO:+0200
TZNAME:CEST
DTSTART:20230326T010000
END:DAYLIGHT
BEGIN:STANDARD
TZOFFSETFROM:+0200
TZOFFSETTO:+0100
TZNAME:CET
DTSTART:20231029T010000
END:STANDARD
BEGIN:DAYLIGHT
TZOFFSETFROM:+0100
TZOFFSETTO:+0200
TZNAME:CEST
DTSTART:20240331T010000
END:DAYLIGHT
BEGIN:STANDARD
TZOFFSETFROM:+0200
TZOFFSETTO:+0100
TZNAME:CET
DTSTART:20241027T010000
END:STANDARD
BEGIN:DAYLIGHT
TZOFFSETFROM:+0100
TZOFFSETTO:+0200
TZNAME:CEST
DTSTART:20250330T010000
END:DAYLIGHT
BEGIN:STANDARD
TZOFFSETFROM:+0200
TZOFFSETTO:+0100
TZNAME:CET
DTSTART:20251026T010000
END:STANDARD
END:VTIMEZONE
BEGIN:VTIMEZONE
TZID:America/Detroit
BEGIN:DAYLIGHT
TZOFFSETFROM:-0500
TZOFFSETTO:-0400
TZNAME:EDT
DTSTART:20230312T070000
END:DAYLIGHT
BEGIN:STANDARD
TZOFFSETFROM:-0400
TZOFFSETTO:-0500
TZNAME:EST
DTSTART:20231105T060000
END:STANDARD
END:VTIMEZONE
BEGIN:VTIMEZONE
TZID:Europe/Prague
BEGIN:DAYLIGHT
TZOFFSETFROM:+0100
TZOFFSETTO:+0200
TZNAME:CEST
DTSTART:20240331T010000
END:DAYLIGHT
BEGIN:STANDARD
TZOFFSETFROM:+0200
TZOFFSETTO:+0100
TZNAME:CET
DTSTART:20241027T010000
END:STANDARD
BEGIN:DAYLIGHT
TZOFFSETFROM:+0100
TZOFFSETTO:+0200
TZNAME:CEST
DTSTART:20250330T010000
END:DAYLIGHT
BEGIN:STANDARD
TZOFFSETFROM:+0200
TZOFFSETTO:+0100
TZNAME:CET
DTSTART:20251026T010000
END:STANDARD
END:VTIMEZONE
BEGIN:VTIMEZONE
TZID:America/New_York
BEGIN:DAYLIGHT
TZOFFSETFROM:-0500
TZOFFSETTO:-0400
TZNAME:EDT
DTSTART:20250309T070000
END:DAYLIGHT
BEGIN:STANDARD
TZOFFSETFROM:-0400
TZOFFSETTO:-0500
TZNAME:EST
DTSTART:20251102T060000
END:STANDARD
END:VTIMEZONE
BEGIN:VTIMEZONE
TZID:Europe/Vienna
BEGIN:DAYLIGHT
TZOFFSETFROM:+0100
TZOFFSETTO:+0200
TZNAME:CEST
DTSTART:20250330T010000
END:DAYLIGHT
BEGIN:STANDARD
TZOFFSETFROM:+0200
TZOFFSETTO:+0100
TZNAME:CET
DTSTART:20251026T010000
END:STANDARD
END:VTIMEZONE
BEGIN:VEVENT
DTSTART;TZID=UTC:20221119T080000
DTEND;TZID=UTC:20221119T170000
DTSTAMP:20260425T123127
CREATED:20221020T054317Z
LAST-MODIFIED:20221103T160307Z
UID:10000013-1668844800-1668877200@sigiforge.com
SUMMARY:KR Őszi Torna 2022 / KR Autumn Tournament 2022
DESCRIPTION:Dear fencers!\nWe are announcing an open team competition on an experimental basis in Budapest. To which we cordially invite you!\nAt the time of registration\, we welcome the application of teams of 3+1 people. With 3 permanent and 1 reserve member\, the latter of which is optional.\nRegistration and details are expected in the coming weeks.\nThe finalized registration fee declaration will be at the same time as the registration announcement date.\nWe look forward to seeing you all!
URL:https://sigiforge.com/event/kr-oszi-torna-2022-kr-autumn-tournament-2022/
LOCATION:BKSzC Gundel Károly Vendéglátó\, Ecseri út 7\, Budapest\, 1097\, Hungary
CATEGORIES:Group tournament,Longsword Open,Tournament
ATTACH;FMTTYPE=image/jpeg:https://sigiforge.com/wp-content/uploads/2022/10/krautumn.jpg
ORGANIZER;CN="Kard Rendje":MAILTO:INFOKARDRENDJE@GMAIL.COM
GEO:47.4684016;19.106627
X-APPLE-STRUCTURED-LOCATION;VALUE=URI;X-ADDRESS=BKSzC Gundel Károly Vendéglátó Ecseri út 7 Budapest 1097 Hungary;X-APPLE-RADIUS=500;X-TITLE=Ecseri út 7:geo:19.106627,47.4684016
END:VEVENT
BEGIN:VEVENT
DTSTART;VALUE=DATE:20230217
DTEND;VALUE=DATE:20230220
DTSTAMP:20260425T123127
CREATED:20221215T081449Z
LAST-MODIFIED:20221215T081449Z
UID:10000074-1676592000-1676851199@sigiforge.com
SUMMARY:SoCal Swordfight 2023
DESCRIPTION:SoCal Swordfight 2023 is the largest Historical European Martial Arts Event and Tournaments in North America\,\nWe invite you to attend our 2023 event hosted at the OC Fair & Event Center – Costa Mesa\, California.\nFebruary 17 – 19\, 2023 \nThis year’s event will feature:\n– Over 70 hours of hands-on classes\, lectures\, and panels from more then 40 instructors\n– Antique weapons handling sessions\n– Synthetic Longsword Tournament\n– 3 Levels of Open Steel Longsword Tournaments\n– 2 Levels of Opens Steel Women’s Longsword Tournaments\n– 2 Levels of Open Steel Saber Tournaments\n– Open Single Rapier Tournament\n– Advanced Rapier & Dagger Tournament\n– Smallsword Tournament\n– Teen’s Synthetic Longsword Tournament (ages 13 -17)\n– Mixed Weapon Team Relay\n– Arming Sword Cutting Competition\n– 3 Levels of Longsword Cutting Competitions\n– Multiple vendors\n– and much\, much more! \nRegister Today at:\nhttps://www.socalswordfight.com
URL:https://sigiforge.com/event/socal-swordfight-2023/
LOCATION:OC Fair & Event Center – Costa Mesa\, California\, 88 Fair Drive\, Costa Mesa\, CA\, 92626\, United States
CATEGORIES:Advanced Longsword,Beginner tournament,Group tournament,HEMA Ratings,Kids tournament,Lecture,Longsword Men,Longsword Open,Longsword Women,Rapier,Rapier and Dagger,Saber,Synthetic swords,Women tournament,Workshop
ATTACH;FMTTYPE=image/png:https://sigiforge.com/wp-content/uploads/2022/12/hema-events-socal-swordfight-2023.png
ORGANIZER;CN="SoCal Swordfight":MAILTO:info@socalswordfight.com
END:VEVENT
BEGIN:VEVENT
DTSTART;VALUE=DATE:20230421
DTEND;VALUE=DATE:20230424
DTSTAMP:20260425T123127
CREATED:20221122T101608Z
LAST-MODIFIED:20221122T101608Z
UID:10000062-1682035200-1682294399@sigiforge.com
SUMMARY:Swordtrip - The Gathering
DESCRIPTION:Largest German-speaking HEMA event – with workshops and tournament.
URL:https://sigiforge.com/event/swordtrip-the-gathering/
LOCATION:Munich – Siemens Gymnasium\, Quiddestrasse 4a\, Munich\, Bavaria\, 81735\, Germany
CATEGORIES:Advanced Longsword,Group tournament,Lecture,Tournament,Workshop
ATTACH;FMTTYPE=image/jpeg:https://sigiforge.com/wp-content/uploads/2022/11/gathering.jpg
END:VEVENT
BEGIN:VEVENT
DTSTART;TZID=America/Detroit:20230505T080000
DTEND;TZID=America/Detroit:20230507T170000
DTSTAMP:20260425T123127
CREATED:20221108T080357Z
LAST-MODIFIED:20221108T080357Z
UID:10000061-1683273600-1683478800@sigiforge.com
SUMMARY:Ars Gladii Open
DESCRIPTION:AG Open is back in 2023! After such amazing support for the inaugural tournament in 2022 we are going bigger and better! \nThree days!\nDedicated free sparring area!\nSeparate gym for workshops to be run all weekend!\nClassroom for lectures to be run all weekend!\nTeams’ tournament even bigger and better than last year!\nShowers onsite! \nWhen: May 5-7th\, 2023\nWhere: The PARC\, 650 Church St.\, Plymouth MI\, 48170\nCost: $75\, early bird until Jan 15th\, $95 after Jan 15th \nTeam Longsword (1v1 matches\, kendo inspired. Not a melee)\nLongsword: Tier A/B/C (120 entry cap)\nWomen’s Longsword: Tier A/B (40 entry cap)\nMesser (40 entry cap)\nLongsword Cutting A/B (60 entry cap)\n*A/B/C will be skill divisions assigned by AGO tournament organizers\, based on fencers history/rating. \nWhat is Team Longsword? \nTeam Longsword is an 3-fencer team event designed to to promote school spirit and healthy competition between groups\, rather than just between individuals. All participants are eligible to participate. Teams will be registered the day of the tournament. Each team must consist of members of the same school or club. Those without a club or who do not have enough participating members will be randomly assigned to mixed school teams at the end of registration\nhttps://hemascorecard.com/infoSummary.php?e=273&t=0&m=0#
URL:https://sigiforge.com/event/ars-gladii-open/
LOCATION:Plymouth Arts & Recreation Complex (PARC)\, 650 Church St\, Plymouth\, MI\, 48170\, United States
CATEGORIES:Advanced Longsword,Group tournament,Lecture,Longsword Open,Longsword Women,Tournament,Women tournament,Workshop
ATTACH;FMTTYPE=image/png:https://sigiforge.com/wp-content/uploads/2022/11/AG_OPEN_2023_2.png
ORGANIZER;CN="Ars Gladii":MAILTO:Info@arsgladii.com
END:VEVENT
BEGIN:VEVENT
DTSTART;VALUE=DATE:20240216
DTEND;VALUE=DATE:20240219
DTSTAMP:20260425T123127
CREATED:20231021T090741Z
LAST-MODIFIED:20231021T090741Z
UID:10000134-1708041600-1708300799@sigiforge.com
SUMMARY:SoCal Swordfight 2024
DESCRIPTION:Join us February 16-18\, 2024 at the OC Fair & Event Center in Costa Mesa\, California for an unforgettable weekend of HEMA classes\, tournaments\, and fun. \nLast year\, SoCal Swordfight attracted over 1\,000 participants and spectators\, for what we feel was an unforgettable experience\, that we are planning to make even more exciting in 2024 with some significant enhancements that will help us not only live up to\, but surpass the high standards we set in 2023. \nSoCal Swordfight 2024 will feature:\n– Over 100 hours of courses led by more than 50 instructors from the U.S. and around the world\n– 25+ tournaments across multiple weapons sets\, divisions\, and tiers (Open\, URG\, Teen\, Cutting)\n– Antique Weapons Showcase (weapons\, manuscripts\, armor)\n– Expansive Vendor Selection\n– And so much more! \nRegister today at\nhttps://socalswordfight.com/ \nTournaments at SoCal Swordfight 2024\nOpen Tournaments\n– Open Steel Longsword (multiple tiers)\n– Open Steel Saber (multiple tiers)\n– Single Rapier (multiple tiers)\n– Rapier & Dagger (multiple tiers)\n– Smallsword\n– Longsword Cutting (multiple tiers)\n– Arming Sword Cutting (multiple tiers)\n– Yet-to-Be Disclosed Experimental Tournament \nURG Tournaments\n– URG Longsword (multiple tiers)\n– URG Rapier & Dagger (multiple tiers)\n– URG Saber \nU18 Tournaments (Teens 13 – 17 Years Old)\n– U18 Longsword\n– U18 Single Rapier\n– U18 Singlestick\n– U18 Longsword Cutting
URL:https://sigiforge.com/event/socal-swordfight-2024/
LOCATION:OC Fair & Event Center – Costa Mesa\, California\, 88 Fair Drive\, Costa Mesa\, CA\, 92626\, United States
CATEGORIES:Advanced Longsword,Beginner tournament,HEMA Ratings,Kids tournament,Lecture,Longsword Men,Longsword Open,Longsword Women,Rapier,Rapier and Dagger,Saber,Synthetic swords,Tournament,Training camp,Women tournament,Workshop
ATTACH;FMTTYPE=image/png:https://sigiforge.com/wp-content/uploads/2023/10/soc.png
ORGANIZER;CN="SoCal Swordfight":MAILTO:info@socalswordfight.com
END:VEVENT
BEGIN:VEVENT
DTSTART;VALUE=DATE:20241012
DTEND;VALUE=DATE:20241013
DTSTAMP:20260425T123127
CREATED:20240531T152654Z
LAST-MODIFIED:20240531T152654Z
UID:10000210-1728691200-1728777599@sigiforge.com
SUMMARY:All For One - One For All 2024 - team longsword tournament
DESCRIPTION:SHŠ Krkavci invites you to the first team longsword tournament in Czechia! \nTeams of 3-4 members compete in the tournament. In the first phase\, the team members compete in groups\, similarly to classic tournaments. Based on the group phase results\, a team elimination bracket is arranged\, where the whole teams compete in a relay format similar to the one used in sport fencing. \nThe tournament will take place in the big sports hall of TJ Pankrác in Prague\, on 12th October 2024. Further info will be published later\, follow these links not to miss them:\nhttps://www.facebook.com/events/1514311122487420\nhttps://krkavci.cz/en/tournament/afo-ofa-2024
URL:https://sigiforge.com/event/all-for-one-one-for-all-2024-team-longsword-tournament/
LOCATION:TJ Pankrác\, Lomnického 1\, Praha 4\, 140 00\, Czech Republic
CATEGORIES:Group tournament,Longsword Open,Tournament
ATTACH;FMTTYPE=image/png:https://sigiforge.com/wp-content/uploads/2024/05/afo-ofa.png
ORGANIZER;CN="SH%C5%A0 Krkavci":MAILTO:velitel@krkavci.cz
END:VEVENT
BEGIN:VEVENT
DTSTART;VALUE=DATE:20250308
DTEND;VALUE=DATE:20250310
DTSTAMP:20260425T123127
CREATED:20250302T095057Z
LAST-MODIFIED:20250302T095057Z
UID:10000308-1741392000-1741564799@sigiforge.com
SUMMARY:Ticinum Team Tournament
DESCRIPTION:The Ticinum Team Tournament is a team-of-three open-only competition event with these disciplines: cloak and sidesword\, sidesword and rotella\, sidesword and dagger. It will be held in Pavia\, Northern Italy.
URL:https://sigiforge.com/event/ticinum-team-tournament/
LOCATION:Marcignago\, via Pampuri\, Marcignago\, Pavia\, 27020\, Italy
CATEGORIES:Dagger,Group tournament,Mixed Steel,Tournament
ATTACH;FMTTYPE=image/png:https://sigiforge.com/wp-content/uploads/2025/03/Banner.png
ORGANIZER;CN="Scherma Storica Pavia":MAILTO:info@schermastoricapavia.it
END:VEVENT
BEGIN:VEVENT
DTSTART;VALUE=DATE:20250802
DTEND;VALUE=DATE:20250804
DTSTAMP:20260425T123127
CREATED:20250331T163624Z
LAST-MODIFIED:20250331T163624Z
UID:10000319-1754092800-1754265599@sigiforge.com
SUMMARY:HEMA WashFechten 2025
DESCRIPTION:HEMA WashFechten 2025 will be a 2 day historical fencing event focused on a number of tournaments alongside a separate sparring area to the side. \nThe disciplines will be longsword open\, longsword womens\, saber open and a mixed weapon team relay tournament. \nWe will be posting further information about them all in future. We are still accessing if further disciplines such as saber womens\, or rapier&dagger open may be feasible this year as well. If you are interested in such or have any other questions please write to us at hemawashfechten@gmail.com \nThe overall format of the tournaments will be the same as last year\, while some aspects will hopefully be a worthy improvement based on the constructive comments we’ve received on our first version of WashFechten and from what we’ve seen of various tournaments globally in the meantime. \nThe intent of this event is to have as many people enjoy as much great fencing as possible during a single day while also helping people get judging experience and giving various international fencers a chance to connect. \nWe look forward to having you at our event! \nEquipment rules: https://shorturl.at/q5ttN (Subject to change) \nTournament rules: https://shorturl.at/FUPB1 (Subject to change) ​ \nContact: hemawashfechten@gmail.com \nRegistration form: (will be added) ​ \nLocation(Will be formally confirmed at a later date): https://maps.app.goo.gl/JHBfKELNod56bUj5A \nLast year highlights: https://youtu.be/9VB2z0Ak3z4 \nLast years facebook event: https://www.facebook.com/events/1576528809571825 \n2024 event results: https://hemascorecard.com/infoSummary.php?e=546&t=0&m=0# https://hemaratings.com/events/details/2127/
URL:https://sigiforge.com/event/hema-washfechten-2025/
LOCATION:SC Rakovica\, 2 Viševačka\, 11090\, Beograd-Rakovica\, Grad Beograd\, Belgrade\, 11000\, Serbia
CATEGORIES:Group tournament,HEMA Ratings,Longsword Open,Longsword Women,Saber
ORGANIZER;CN="School of historical fencing - Terca":MAILTO:tercafencing@gmail.com
END:VEVENT
BEGIN:VEVENT
DTSTART;TZID=America/New_York:20250816T080000
DTEND;TZID=America/New_York:20250816T170000
DTSTAMP:20260425T123127
CREATED:20250728T145019Z
LAST-MODIFIED:20250728T145019Z
UID:10000363-1755331200-1755363600@sigiforge.com
SUMMARY:Historical Integrated Longsword Triathlon (H.I.L.T.)
DESCRIPTION:Inaugural event hosted by Fenris KDF in Lovettsville VA\, USA. Featuring Open\, URG and Youth Longsword fencing\, Paired Forms\, and Cutting.\nPrizes for individual competition winners as well as an overal Traiathlon Champion trophy.\nBoxed lunches are available (included in registration)\nPost event dinner reservations available (not included in registration).\n“Swag bag” gifts and personal schedule provided for contestants.
URL:https://sigiforge.com/event/historical-integrated-longsword-triathlon-h-i-l-t/
LOCATION:Lovettsville Community Center\, 57 East Broadway\, Lovettsville\, VA\, 20180\, United States
CATEGORIES:Kids tournament,Longsword Open,URG (Underrepresented Gender) Longsword
ATTACH;FMTTYPE=image/png:https://sigiforge.com/wp-content/uploads/2025/07/Hilt-logo-2025-basic5000.png
ORGANIZER;CN="Fenris Kunst des Fechtens":MAILTO:fenriskdf@gmail.com
END:VEVENT
BEGIN:VEVENT
DTSTART;TZID=Europe/Vienna:20250919T160000
DTEND;TZID=Europe/Vienna:20250921T170000
DTSTAMP:20260425T123127
CREATED:20250519T090845Z
LAST-MODIFIED:20250519T090845Z
UID:10000343-1758297600-1758474000@sigiforge.com
SUMMARY:Vindobona Bosch 2025
DESCRIPTION:Join us in the beautiful late-summer Vienna und fence with us in the categories longsword and sabre\, both in open and women and a fun mixed teams longsword competition. Two days of full fencing plus a workshop on Friday – we would love for you to fence with us and have a great weekend in the heart of Europe!
URL:https://sigiforge.com/event/vindobona-bosch-2025/
LOCATION:Vienna\, Wiederänders\, Vienna\, Vienna\, Austria
CATEGORIES:Longsword Open,Longsword Women,Saber
ATTACH;FMTTYPE=image/png:https://sigiforge.com/wp-content/uploads/2025/05/vindobona-square-schwarz.png
ORGANIZER;CN="Equinox":MAILTO:equinox.fechten@gmail.com
END:VEVENT
BEGIN:VEVENT
DTSTART;VALUE=DATE:20251011
DTEND;VALUE=DATE:20251012
DTSTAMP:20260425T123127
CREATED:20250604T140238Z
LAST-MODIFIED:20250604T140238Z
UID:10000350-1760140800-1760227199@sigiforge.com
SUMMARY:All For One - One For All 2025
DESCRIPTION:🇬🇧 SHŠ Krkavci invites you to a team longsword tournament! \nTeams of 3-4 members compete in the tournament. In the first phase\, the members compete in groups\, similarly to classic tournaments. Based on the group phase results\, a team elimination bracket is arranged\, where the whole teams compete in a relay format similar to the one used in sport fencing. \nDate: 11th October 2025\nVenue: Prague\, specific venue to be announced\nCategory: long sword open\nCapacity: at least 16 teams of 3-4 members\, with a possible increase up to 32 teams\nRegistration: https://forms.gle/VmJ8D9U77581wNph8\nEntry fee: 4500 CZK / 180 € or less\, for the whole team\nRuleset: https://krkavci.cz/en/tournament/afo-ofa-2025/ruleset.pdf \nAll info can also be found at https://krkavci.cz/tournament/afo-ofa-2025\, as well as at the Facebook event https://www.facebook.com/events/1067019321920390. \n🇨🇿 SHŠ Krkavci vás zve na týmový turnaj v dlouhém meči! \nV turnaji se utkají týmy o 3-4 členech. V první fázi turnaje se členové týmů utkají ve skupinách\, podobně jako na klasických turnajích. Na základě výsledků skupin se sestaví týmový eliminační pavouk\, ve kterém již budou soupeřit celé týmy\, a to ve štafetovém formátu podobném tomu\, který se používá ve sportovním šermu. \nDatum: 11.10.2025\nMísto: Praha\, konkrétní místo bude oznámeno\nKategorie: dlouhý meč open\nKapacita: nejméně 16 týmů o 3-4 členech\, možné rozšíření až na 32 týmů\nRegistrace: https://forms.gle/VmJ8D9U77581wNph8\nStartovné: 4500 Kč / 180 € nebo méně\, za celý tým\nPravidla: https://krkavci.cz/cs/tournament/afo-ofa-2025/pravidla.pdf \nVeškeré aktuální informace jsou také na https://krkavci.cz/tournament/afo-ofa-2025 a na Facebookové události https://www.facebook.com/events/1067019321920390.
URL:https://sigiforge.com/event/all-for-one-one-for-all-2025/
LOCATION:VA
CATEGORIES:Longsword Open
ATTACH;FMTTYPE=image/png:https://sigiforge.com/wp-content/uploads/2025/06/afoofa-logo.png
ORGANIZER;CN="SH%C5%A0 Krkavci":MAILTO:velitel@krkavci.cz
END:VEVENT
END:VCALENDAR