BEGIN:VCALENDAR
VERSION:2.0
PRODID:-//Sigi Forge - ECPv6.10.2//NONSGML v1.0//EN
CALSCALE:GREGORIAN
METHOD:PUBLISH
X-WR-CALNAME:Sigi Forge
X-ORIGINAL-URL:https://sigiforge.com
X-WR-CALDESC:Events for Sigi Forge
REFRESH-INTERVAL;VALUE=DURATION:PT1H
X-Robots-Tag:noindex
X-PUBLISHED-TTL:PT1H
BEGIN:VTIMEZONE
TZID:Europe/Prague
BEGIN:DAYLIGHT
TZOFFSETFROM:+0100
TZOFFSETTO:+0200
TZNAME:CEST
DTSTART:20250330T010000
END:DAYLIGHT
BEGIN:STANDARD
TZOFFSETFROM:+0200
TZOFFSETTO:+0100
TZNAME:CET
DTSTART:20251026T010000
END:STANDARD
END:VTIMEZONE
BEGIN:VEVENT
DTSTART;VALUE=DATE:20251011
DTEND;VALUE=DATE:20251012
DTSTAMP:20260425T184044
CREATED:20250604T140238Z
LAST-MODIFIED:20250604T140238Z
UID:10000350-1760140800-1760227199@sigiforge.com
SUMMARY:All For One - One For All 2025
DESCRIPTION:🇬🇧 SHŠ Krkavci invites you to a team longsword tournament! \nTeams of 3-4 members compete in the tournament. In the first phase\, the members compete in groups\, similarly to classic tournaments. Based on the group phase results\, a team elimination bracket is arranged\, where the whole teams compete in a relay format similar to the one used in sport fencing. \nDate: 11th October 2025\nVenue: Prague\, specific venue to be announced\nCategory: long sword open\nCapacity: at least 16 teams of 3-4 members\, with a possible increase up to 32 teams\nRegistration: https://forms.gle/VmJ8D9U77581wNph8\nEntry fee: 4500 CZK / 180 € or less\, for the whole team\nRuleset: https://krkavci.cz/en/tournament/afo-ofa-2025/ruleset.pdf \nAll info can also be found at https://krkavci.cz/tournament/afo-ofa-2025\, as well as at the Facebook event https://www.facebook.com/events/1067019321920390. \n🇨🇿 SHŠ Krkavci vás zve na týmový turnaj v dlouhém meči! \nV turnaji se utkají týmy o 3-4 členech. V první fázi turnaje se členové týmů utkají ve skupinách\, podobně jako na klasických turnajích. Na základě výsledků skupin se sestaví týmový eliminační pavouk\, ve kterém již budou soupeřit celé týmy\, a to ve štafetovém formátu podobném tomu\, který se používá ve sportovním šermu. \nDatum: 11.10.2025\nMísto: Praha\, konkrétní místo bude oznámeno\nKategorie: dlouhý meč open\nKapacita: nejméně 16 týmů o 3-4 členech\, možné rozšíření až na 32 týmů\nRegistrace: https://forms.gle/VmJ8D9U77581wNph8\nStartovné: 4500 Kč / 180 € nebo méně\, za celý tým\nPravidla: https://krkavci.cz/cs/tournament/afo-ofa-2025/pravidla.pdf \nVeškeré aktuální informace jsou také na https://krkavci.cz/tournament/afo-ofa-2025 a na Facebookové události https://www.facebook.com/events/1067019321920390.
URL:https://sigiforge.com/event/all-for-one-one-for-all-2025/
LOCATION:VA
CATEGORIES:Longsword Open
ATTACH;FMTTYPE=image/png:https://sigiforge.com/wp-content/uploads/2025/06/afoofa-logo.png
ORGANIZER;CN="SH%C5%A0 Krkavci":MAILTO:velitel@krkavci.cz
END:VEVENT
END:VCALENDAR