BEGIN:VCALENDAR
VERSION:2.0
PRODID:-//Sigi Forge - ECPv6.10.2//NONSGML v1.0//EN
CALSCALE:GREGORIAN
METHOD:PUBLISH
X-WR-CALNAME:Sigi Forge
X-ORIGINAL-URL:https://sigiforge.com
X-WR-CALDESC:Events for Sigi Forge
REFRESH-INTERVAL;VALUE=DURATION:PT1H
X-Robots-Tag:noindex
X-PUBLISHED-TTL:PT1H
BEGIN:VTIMEZONE
TZID:Europe/Malta
BEGIN:DAYLIGHT
TZOFFSETFROM:+0100
TZOFFSETTO:+0200
TZNAME:CEST
DTSTART:20240331T010000
END:DAYLIGHT
BEGIN:STANDARD
TZOFFSETFROM:+0200
TZOFFSETTO:+0100
TZNAME:CET
DTSTART:20241027T010000
END:STANDARD
END:VTIMEZONE
BEGIN:VEVENT
DTSTART;TZID=Europe/Malta:20241129T080000
DTEND;TZID=Europe/Malta:20241202T170000
DTSTAMP:20260426T044451
CREATED:20240819T075100Z
LAST-MODIFIED:20240819T075100Z
UID:10000236-1732867200-1733158800@sigiforge.com
SUMMARY:MALTA International Historical Fencing Meeting 2024
DESCRIPTION:Join us again in Malta for the 13th edition of the Malta Historical Fencing Meeting 2024.\nThis is the annual event organized by the Malta Historical Fencing Association. The event is spread over 4 days. The main focus are workshops given by top international instructors in different weapons and styles\, lots of time for sparring\, lectures\, and ofcourse all the social aspects that these kinds of events bring. All this is done in the beautiful backdrop of Fort St Angelo. Looking forward to seeing you all!
URL:https://sigiforge.com/event/malta-international-historical-fencing-meeting-2024/
LOCATION:Fort St Angelo\, Malta
CATEGORIES:Advanced Longsword,Marginalized Gender Longsword,Rapier,Rapier and sidearm,Saber,Single sword,Sword and Buckler,Workshop
ATTACH;FMTTYPE=image/jpeg:https://sigiforge.com/wp-content/uploads/2024/08/MHFA-2024-1.jpg
ORGANIZER;CN="Malta Historical Fencing Association":MAILTO:info@historicalfencingmalta.org
GEO:35.937496;14.375416
END:VEVENT
END:VCALENDAR