BEGIN:VCALENDAR
VERSION:2.0
PRODID:-//Sigi Forge - ECPv6.10.2//NONSGML v1.0//EN
CALSCALE:GREGORIAN
METHOD:PUBLISH
X-WR-CALNAME:Sigi Forge
X-ORIGINAL-URL:https://sigiforge.com
X-WR-CALDESC:Events for Sigi Forge
REFRESH-INTERVAL;VALUE=DURATION:PT1H
X-Robots-Tag:noindex
X-PUBLISHED-TTL:PT1H
BEGIN:VTIMEZONE
TZID:America/Toronto
BEGIN:DAYLIGHT
TZOFFSETFROM:-0500
TZOFFSETTO:-0400
TZNAME:EDT
DTSTART:20250309T070000
END:DAYLIGHT
BEGIN:STANDARD
TZOFFSETFROM:-0400
TZOFFSETTO:-0500
TZNAME:EST
DTSTART:20251102T060000
END:STANDARD
END:VTIMEZONE
BEGIN:VEVENT
DTSTART;TZID=America/Toronto:20250824T080000
DTEND;TZID=America/Toronto:20250824T180000
DTSTAMP:20260425T200856
CREATED:20250213T152901Z
LAST-MODIFIED:20250213T152901Z
UID:10000294-1756022400-1756058400@sigiforge.com
SUMMARY:Bytown Ottawa Sword Symposium (BOSS)
DESCRIPTION:The Ottawa Historical Fencing Society presets Ottawa’s first ever Sword Symposium! Come join us for two days of workshops\, sparring\, and meaningful encounters. Workshops in longsword\, rapier\, sabre\, irish stick\, and more!
URL:https://sigiforge.com/event/bytown-ottawa-sword-symposium-boss/
LOCATION:TX
CATEGORIES:Workshop
END:VEVENT
END:VCALENDAR