BEGIN:VCALENDAR
VERSION:2.0
PRODID:-//Sigi Forge - ECPv6.10.2//NONSGML v1.0//EN
CALSCALE:GREGORIAN
METHOD:PUBLISH
X-WR-CALNAME:Sigi Forge
X-ORIGINAL-URL:https://sigiforge.com
X-WR-CALDESC:Events for Sigi Forge
REFRESH-INTERVAL;VALUE=DURATION:PT1H
X-Robots-Tag:noindex
X-PUBLISHED-TTL:PT1H
BEGIN:VTIMEZONE
TZID:Europe/Athens
BEGIN:DAYLIGHT
TZOFFSETFROM:+0200
TZOFFSETTO:+0300
TZNAME:EEST
DTSTART:20260329T010000
END:DAYLIGHT
BEGIN:STANDARD
TZOFFSETFROM:+0300
TZOFFSETTO:+0200
TZNAME:EET
DTSTART:20261025T010000
END:STANDARD
END:VTIMEZONE
BEGIN:VEVENT
DTSTART;TZID=Europe/Athens:20260425T083000
DTEND;TZID=Europe/Athens:20260426T190000
DTSTAMP:20260425T041308
CREATED:20260109T090231Z
LAST-MODIFIED:20260109T155043Z
UID:10000413-1777105800-1777230000@sigiforge.com
SUMMARY:Fencer Cup 2026
DESCRIPTION:Welcome to the first edition of Fencer Cup 2026 taking place in Thessaloniki\, Greece! You will be able to participate in Open Longsword and Open Rapier on the 25th and 26th of April 2026 respectively. We will be delighted to have you!
URL:https://sigiforge.com/event/fencer-cup-2026/
CATEGORIES:Longsword Open,Rapier
ATTACH;FMTTYPE=image/png:https://sigiforge.com/wp-content/uploads/2026/01/Image2.png
ORGANIZER;CN="Xiphomachos":MAILTO:hemathessaloniki@proton.me
END:VEVENT
END:VCALENDAR