BEGIN:VCALENDAR
VERSION:2.0
PRODID:-//Sigi Forge - ECPv6.10.2//NONSGML v1.0//EN
CALSCALE:GREGORIAN
METHOD:PUBLISH
X-ORIGINAL-URL:https://sigiforge.com
X-WR-CALDESC:Events for Sigi Forge
REFRESH-INTERVAL;VALUE=DURATION:PT1H
X-Robots-Tag:noindex
X-PUBLISHED-TTL:PT1H
BEGIN:VTIMEZONE
TZID:Europe/Bratislava
BEGIN:DAYLIGHT
TZOFFSETFROM:+0100
TZOFFSETTO:+0200
TZNAME:CEST
DTSTART:20250330T010000
END:DAYLIGHT
BEGIN:STANDARD
TZOFFSETFROM:+0200
TZOFFSETTO:+0100
TZNAME:CET
DTSTART:20251026T010000
END:STANDARD
END:VTIMEZONE
BEGIN:VTIMEZONE
TZID:Europe/Sofia
BEGIN:DAYLIGHT
TZOFFSETFROM:+0200
TZOFFSETTO:+0300
TZNAME:EEST
DTSTART:20250330T010000
END:DAYLIGHT
BEGIN:STANDARD
TZOFFSETFROM:+0300
TZOFFSETTO:+0200
TZNAME:EET
DTSTART:20251026T010000
END:STANDARD
END:VTIMEZONE
BEGIN:VEVENT
DTSTART;VALUE=DATE:20250301
DTEND;VALUE=DATE:20250303
DTSTAMP:20260426T021226
CREATED:20241128T110237Z
LAST-MODIFIED:20241128T110237Z
UID:10000263-1740787200-1740959999@sigiforge.com
SUMMARY:Berlin Hema Cup
DESCRIPTION:Join us! The Berlin HEMA Cup 2025 is your perfect chance to compete with fighters from around the world. On March 1st and 2nd\, the event will feature Longsword\, Rapier & Dagger\, and Saber in both Open and Women+ categories. With a format designed to guarantee as many fights as possible for each participant. Look forward to a tournament with an international focus\, a large number of participants\, and quality judging. \nEvent Details: \n📅 Date: March 1-2\, 2025\n📍 Location: Berlin\, Germany\n⚔️ Categories: Longsword\, Rapier & Dagger\, Saber\n🏆 Divisions: Open & Women+ \nSave the date and be part of a unique tournament in the heart of Germany! \nStay tuned on: \nTournament \n\nhttps://www.instagram.com/berlinhema.cup\nhttps://www.facebook.com/share/aRTMYP9zKHSmKwLZ/
URL:https://sigiforge.com/event/berlin-hema-cup/
LOCATION:OSC Berlin Fechten\, Münchener Str. 50\, Berlin\, 10779\, Germany
CATEGORIES:Tournament
ATTACH;FMTTYPE=image/png:https://sigiforge.com/wp-content/uploads/2024/11/Vorlage-Hema-Cup-_20241128_162905_0000.png
ORGANIZER;CN="Twerhau e.V.":MAILTO:Vorstand@Twerchhau.de
END:VEVENT
BEGIN:VEVENT
DTSTART;TZID=Europe/Sofia:20250316T140000
DTEND;TZID=Europe/Sofia:20250319T140000
DTSTAMP:20260426T021226
CREATED:20250216T165258Z
LAST-MODIFIED:20250216T165258Z
UID:10000296-1742133600-1742392800@sigiforge.com
SUMMARY:Spring is coming - sparring camp 2025
DESCRIPTION:We are gathering just before the coming of spring for a few days dedicated to Historical fencing freeplay. We will have not only Open floor\, but fencing games\, sparring coaching\, ruleset variations experiments\, judged matches etc. A few short workshops will be focused on how to fence safely and efficiently during your freeplay time\, specially if you are with unknown opponents.\nWe might also have a small unofficial competition to top it off.\nI have chosen a hotel that offers accommodation\, 3 meals a day and a training hall specially for us. Cost will be 155 Euro per person for the whole event with everything included.\nAt least partial\, preferably full gear is required for participation. However I can lend some elements if notified early enough. There is an option for providing swords and transport from Sofia if anyone decides to fly in
URL:https://sigiforge.com/event/spring-is-coming-sparring-camp-2025/
LOCATION:Hotel Olymp Bansko\, Bansko\, Bulgaria
ORGANIZER;CN="Historical Swordsmanship - Angel Chernaev":MAILTO:angel.chernaev@gmail.com
END:VEVENT
END:VCALENDAR