BEGIN:VCALENDAR
VERSION:2.0
PRODID:-//Sigi Forge - ECPv6.10.2//NONSGML v1.0//EN
CALSCALE:GREGORIAN
METHOD:PUBLISH
X-WR-CALNAME:Sigi Forge
X-ORIGINAL-URL:https://sigiforge.com
X-WR-CALDESC:Events for Sigi Forge
REFRESH-INTERVAL;VALUE=DURATION:PT1H
X-Robots-Tag:noindex
X-PUBLISHED-TTL:PT1H
BEGIN:VTIMEZONE
TZID:Europe/Sofia
BEGIN:DAYLIGHT
TZOFFSETFROM:+0200
TZOFFSETTO:+0300
TZNAME:EEST
DTSTART:20250330T010000
END:DAYLIGHT
BEGIN:STANDARD
TZOFFSETFROM:+0300
TZOFFSETTO:+0200
TZNAME:EET
DTSTART:20251026T010000
END:STANDARD
END:VTIMEZONE
BEGIN:VTIMEZONE
TZID:Europe/Berlin
BEGIN:DAYLIGHT
TZOFFSETFROM:+0100
TZOFFSETTO:+0200
TZNAME:CEST
DTSTART:20250330T010000
END:DAYLIGHT
BEGIN:STANDARD
TZOFFSETFROM:+0200
TZOFFSETTO:+0100
TZNAME:CET
DTSTART:20251026T010000
END:STANDARD
END:VTIMEZONE
BEGIN:VTIMEZONE
TZID:America/Indiana/Indianapolis
BEGIN:DAYLIGHT
TZOFFSETFROM:-0500
TZOFFSETTO:-0400
TZNAME:EDT
DTSTART:20250309T070000
END:DAYLIGHT
BEGIN:STANDARD
TZOFFSETFROM:-0400
TZOFFSETTO:-0500
TZNAME:EST
DTSTART:20251102T060000
END:STANDARD
END:VTIMEZONE
BEGIN:VEVENT
DTSTART;TZID=Europe/Sofia:20251108T080000
DTEND;TZID=Europe/Sofia:20251109T210000
DTSTAMP:20260425T123147
CREATED:20250815T172651Z
LAST-MODIFIED:20250815T172651Z
UID:10000367-1762588800-1762722000@sigiforge.com
SUMMARY:Sofia CrossSwords
DESCRIPTION:Sofia CrossSwords is coming this autumn yet again\, with a total of 6 tournament categories\, all with WEAPONS PROVIDED! \nYou can compete in: \n* Open Arming Sword\n* Ladies Arming Sword\n* Open Sword & Buckler\n* Ladies Sword & Buckler\n* Open Light Longsword\n* Ladies Light Longsword \nSpend 2 days with some of the best fencers on the Balkans and Europe in one of the biggest tournaments on the peninsula.\nRegistration is NOW OPEN!\n📣 https://sofiaxswords.com/scs25reg \nFull ruleset is posted on the website. Basic scoring is:\n– 2 points for any clean hit\n– 1 point for the first hit followed by an “afterblow”\n– 0 points for any double hit\n– No afterblow after head hit\n– Hit quality required\, unopposed flats allowed to the head\, edge required on all other targets\n– First to 10 points in pools wins; first to 13 points in elimination wins \nFull protective required. Full list is posted on the website.\nAdditional information will be presented later on at the FB page and website. \nhttps://www.facebook.com/events/728023463443692\nhttps://sofiaxswords.com
URL:https://sigiforge.com/event/sofia-crossswords/
LOCATION:Sport Hall Triaditsa\, ul. "Haydushka Polyana" 57-58\, 1612 Motopista\, Sofia\, Sofia\, Bulgaria
CATEGORIES:HEMA Ratings,Longsword Open,Longsword Women,Single sword,Sword and Buckler,Tournament
ATTACH;FMTTYPE=image/jpeg:https://sigiforge.com/wp-content/uploads/2025/08/532031896_122252198006238892_839870019427496410_n.jpg
ORGANIZER;CN="Sofia CrossSwords":MAILTO:sofia.crossswords@gmail.com
END:VEVENT
BEGIN:VEVENT
DTSTART;TZID=Europe/Berlin:20251108T090000
DTEND;TZID=Europe/Berlin:20251109T163000
DTSTAMP:20260425T123148
CREATED:20250803T121750Z
LAST-MODIFIED:20250803T121750Z
UID:10000364-1762592400-1762705800@sigiforge.com
SUMMARY:Leipziger Fechtwochenende 2025 with Johann-Georg-Pascha-Tournament
DESCRIPTION:In 2025\, we will once again organise a fencing gathering in Leipzig: A weekend featuring two tournaments\, seminars\, and a big free fencing area (planned with a small separate cutting test corner). \nTournaments:\nSaturday: Johann-Georg-Pascha-Tournament (Longsword Open\, planned capacity: 24 fencers)\nSunday: Mix&Match-Tournament (Various weapon types\, fencers can adapt the rules for each bout\, fun format) \nCurrently planned seminars:\nFencing with the staff according to Andre Paurñfeyndt\nPractice and theory of Polish cross-cutting based on (hardly any) historical sources \nThe freefencing area will be available at all times\, in parallel with everything else.
URL:https://sigiforge.com/event/leipziger-fechtwochenende-2025-with-johann-georg-pascha-tournament/
LOCATION:Leipzig\, Germany\, Schulsporthalle Schule am Grünen Gleis\, Baumannstraße 13\, Leipzig\, Saxony\, 04229\, Germany
CATEGORIES:HEMA Ratings,Longsword Open,Tournament
ATTACH;FMTTYPE=image/png:https://sigiforge.com/wp-content/uploads/2025/08/Logo.png
ORGANIZER;CN="Leipziger Klingen e. V.":MAILTO:event@leipziger-klingen.de
END:VEVENT
BEGIN:VEVENT
DTSTART;VALUE=DATE:20251115
DTEND;VALUE=DATE:20251117
DTSTAMP:20260425T123148
CREATED:20250714T194837Z
LAST-MODIFIED:20250714T194837Z
UID:10000357-1763164800-1763337599@sigiforge.com
SUMMARY:Circle City Steel Clash
DESCRIPTION:Join Us for Our 5th Circle City Steel Clash tournament!\nWe’re thrilled to announce our fifth tournament\, and we’re committed to making it the best one yet! Our goal is to deliver a smooth\, fun\, and low-stress competitive experience for both our fencers and the local community.\nEvent Schedule:\nFoam Sword Event – Saturday\, November 15th at 2:00 PM\nRegistration opens at 1:00 PM\nPerfect for beginners or anyone without full protective gear — accessible\, fun\, and open to all skill levels! \nSteel Longsword Events:\nNovice Division – Saturday\, November 15th at 3:00 PM\nAdvanced Division – Sunday\, November 16th at 12:00 PM \nSteel Rapier Event – Sunday\, November 16th at 10:00 AM\nRegistration for Sunday events opens at 9:00 AM. \nVolunteer Judges & Club Participation:\nThis event is also a valuable opportunity for our volunteer directors and side judges to gain hands-on experience in a welcoming and educational environment.\nWe also welcome judges and directors from other clubs sending 3 or more fencers — feel free to reach out if you’d like to get involved! \nAwards & Recognition:\nAs part of our tournament tradition\, we’ll be awarding:\n1st\, 2nd\, and two 3rd place medals for each event\n“Best Performance” medals\, chosen by our tournament directors\, honor spirit\, skill\, and standout moments.\nWe’re incredibly excited to share another fantastic weekend with you\, whether you’re competing\, supporting\, or just curious. Let’s make this our most unforgettable tournament yet!
URL:https://sigiforge.com/event/circle-city-steel-clash-6/2025-11-15/1/
LOCATION:1706 Pleasant St.Noblesville IN 46060\, US\, 1706 Pleasant St.\, Noblesville\, IN\, 46060\, United States
CATEGORIES:Advanced Longsword,Longsword Open,Rapier
ATTACH;FMTTYPE=image/jpeg:https://sigiforge.com/wp-content/uploads/2025/07/tournament_header_with_logo-November_4-3-2025.jpg
ORGANIZER;CN="Indianapolis Fencing Club":MAILTO:natalie.chaykina@seabirdgroup.com
END:VEVENT
BEGIN:VEVENT
DTSTART;VALUE=DATE:20251115
DTEND;VALUE=DATE:20251116
DTSTAMP:20260425T123148
CREATED:20250714T194837Z
LAST-MODIFIED:20250714T194837Z
UID:10000358-1763215200-1763236800@sigiforge.com
SUMMARY:Circle City Steel Clash
DESCRIPTION:Join Us for Our 5th Circle City Steel Clash tournament!\nWe’re thrilled to announce our fifth tournament\, and we’re committed to making it the best one yet! Our goal is to deliver a smooth\, fun\, and low-stress competitive experience for both our fencers and the local community.\nEvent Schedule:\nFoam Sword Event – Saturday\, November 15th at 2:00 PM\nRegistration opens at 1:00 PM\nPerfect for beginners or anyone without full protective gear — accessible\, fun\, and open to all skill levels! \nSteel Longsword Events:\nNovice Division – Saturday\, November 15th at 3:00 PM\nAdvanced Division – Sunday\, November 16th at 12:00 PM \nSteel Rapier Event – Sunday\, November 16th at 10:00 AM\nRegistration for Sunday events opens at 9:00 AM. \nVolunteer Judges & Club Participation:\nThis event is also a valuable opportunity for our volunteer directors and side judges to gain hands-on experience in a welcoming and educational environment.\nWe also welcome judges and directors from other clubs sending 3 or more fencers — feel free to reach out if you’d like to get involved! \nAwards & Recognition:\nAs part of our tournament tradition\, we’ll be awarding:\n1st\, 2nd\, and two 3rd place medals for each event\n“Best Performance” medals\, chosen by our tournament directors\, honor spirit\, skill\, and standout moments.\nWe’re incredibly excited to share another fantastic weekend with you\, whether you’re competing\, supporting\, or just curious. Let’s make this our most unforgettable tournament yet!
URL:https://sigiforge.com/event/circle-city-steel-clash-6/2025-11-15/2/
LOCATION:1706 Pleasant St.Noblesville IN 46060\, US\, 1706 Pleasant St.\, Noblesville\, IN\, 46060\, United States
CATEGORIES:Advanced Longsword,Longsword Open,Rapier
ATTACH;FMTTYPE=image/jpeg:https://sigiforge.com/wp-content/uploads/2025/07/tournament_header_with_logo-November_4-3-2025.jpg
ORGANIZER;CN="Indianapolis Fencing Club":MAILTO:natalie.chaykina@seabirdgroup.com
END:VEVENT
BEGIN:VEVENT
DTSTART;VALUE=DATE:20251116
DTEND;VALUE=DATE:20251117
DTSTAMP:20260425T123148
CREATED:20250714T194837Z
LAST-MODIFIED:20250714T194837Z
UID:10000359-1763283600-1763323200@sigiforge.com
SUMMARY:Circle City Steel Clash
DESCRIPTION:Join Us for Our 5th Circle City Steel Clash tournament!\nWe’re thrilled to announce our fifth tournament\, and we’re committed to making it the best one yet! Our goal is to deliver a smooth\, fun\, and low-stress competitive experience for both our fencers and the local community.\nEvent Schedule:\nFoam Sword Event – Saturday\, November 15th at 2:00 PM\nRegistration opens at 1:00 PM\nPerfect for beginners or anyone without full protective gear — accessible\, fun\, and open to all skill levels! \nSteel Longsword Events:\nNovice Division – Saturday\, November 15th at 3:00 PM\nAdvanced Division – Sunday\, November 16th at 12:00 PM \nSteel Rapier Event – Sunday\, November 16th at 10:00 AM\nRegistration for Sunday events opens at 9:00 AM. \nVolunteer Judges & Club Participation:\nThis event is also a valuable opportunity for our volunteer directors and side judges to gain hands-on experience in a welcoming and educational environment.\nWe also welcome judges and directors from other clubs sending 3 or more fencers — feel free to reach out if you’d like to get involved! \nAwards & Recognition:\nAs part of our tournament tradition\, we’ll be awarding:\n1st\, 2nd\, and two 3rd place medals for each event\n“Best Performance” medals\, chosen by our tournament directors\, honor spirit\, skill\, and standout moments.\nWe’re incredibly excited to share another fantastic weekend with you\, whether you’re competing\, supporting\, or just curious. Let’s make this our most unforgettable tournament yet!
URL:https://sigiforge.com/event/circle-city-steel-clash-6/2025-11-16/
LOCATION:1706 Pleasant St.Noblesville IN 46060\, US\, 1706 Pleasant St.\, Noblesville\, IN\, 46060\, United States
CATEGORIES:Advanced Longsword,Longsword Open,Rapier
ATTACH;FMTTYPE=image/jpeg:https://sigiforge.com/wp-content/uploads/2025/07/tournament_header_with_logo-November_4-3-2025.jpg
ORGANIZER;CN="Indianapolis Fencing Club":MAILTO:natalie.chaykina@seabirdgroup.com
END:VEVENT
END:VCALENDAR