BEGIN:VCALENDAR
VERSION:2.0
PRODID:-//Sigi Forge - ECPv6.10.2//NONSGML v1.0//EN
CALSCALE:GREGORIAN
METHOD:PUBLISH
X-WR-CALNAME:Sigi Forge
X-ORIGINAL-URL:https://sigiforge.com
X-WR-CALDESC:Events for Sigi Forge
REFRESH-INTERVAL;VALUE=DURATION:PT1H
X-Robots-Tag:noindex
X-PUBLISHED-TTL:PT1H
BEGIN:VTIMEZONE
TZID:Europe/Bratislava
BEGIN:DAYLIGHT
TZOFFSETFROM:+0100
TZOFFSETTO:+0200
TZNAME:CEST
DTSTART:20250330T010000
END:DAYLIGHT
BEGIN:STANDARD
TZOFFSETFROM:+0200
TZOFFSETTO:+0100
TZNAME:CET
DTSTART:20251026T010000
END:STANDARD
END:VTIMEZONE
BEGIN:VEVENT
DTSTART;TZID=Europe/Bratislava:20250809T100000
DTEND;TZID=Europe/Bratislava:20250810T160000
DTSTAMP:20260425T173557
CREATED:20250626T185222Z
LAST-MODIFIED:20250626T185222Z
UID:10000355-1754733600-1754841600@sigiforge.com
SUMMARY:Tag des Schwertes 2025 - Burg Reichenstein
DESCRIPTION:Zur Veranstaltung \nDie Faszination Schwert begleitet den Menschen schon lange Zeit. In Büchern und Filmen werden Schwerter von Held*innen geführt. Kinder wie auch Erwachsene sind von der Gefahr des geschliffenen Stahls\, der Symbolkraft des europäischen Langschwerts oder der Eleganz in den Bewegungen bezaubert. Am „Tag des Schwertes“ wollen wir dieser Faszination Raum geben. Eine bunte Palette unterschiedlicher Beschäftigungsmöglichkeiten zum Thema Schwert wird geboten: Von Präsentationen aus alten über 600 Jahre alten Fechtbüchern\, aber auch der Vorstellung einer modernen Sportart (HEMA)\, die das Schwert als Sportgerät nutzt\, hin zur Betrachtung eines Originalfund im Museum der Burg. Eines ist für uns klar: Zumindest einmal im Leben sollte man ein Schwert in der Hand gehabt haben. Das Gewicht der Klinge spüren. Den Wunsch\, die Klinge schwingen zu lassen\, erleben. Komm vorbei\, erlebe das Schwert. \nProgramm \nSamstag – Tag des Schwertes\n10:00 Die Burg ist für Fechter*innen geöffnet.\n13:00 Die Burg ist für die Öffentlichkeit geöffnet.\n13:30 Begrüßung\n14:00 bis 18:00 Programm\n18:00 Verabschiedung und Schließen der Burgtore\n18:00 bis Open End: „Vinathek“ die interne Feier für Fechter*innen \nSonntag – Workshops und Training\n7:00 – 16:00 Trainingsprogramm für Fechter*innen \nFür Fechter*innen \nKomm vorbei und fechte mit uns\, den Teilnehmer*innen der Fechtwoche. Die Burg bietet eine wundervolle Kulisse\, auf mehreren Ebenen und in unterschiedlichen Räumen ist genügend Platz für allerlei fechterische Freuden: Freies Fechten sowie technischer Austausch ist durchgehend möglich. \nNatürlich kannst du auch am restlichen Programm teilnehmen\, Workshops besuchen\, schnitttesten\, zuschauen\, mitmachen. Ein kurzer Besuch im Burgenmuseum zum Thema Lebensraum Burg ist sicher auch einen Abstecher wert. \nEssen und Getränke\, die (hoffentlich) Sonne genießen und gemütlich beisammen sein. Wir freuen uns auf dich. \nAm Samstag Abend findet die „Vinathek“\, unsere Afterparty auf der Hochburg mit tanzbarer Musik\, Getränken\, Livemusik und Lagerfeuer + Feuershow statt. \nAm Sonntag gibt es wieder Workshops/Trainings\, die von dir besucht werden können: Gemeinsames Mobilisieren am Morgen\, technisches Training\, Sparrings & Schnitttesten. \nMitbringen: Fechtequipment\, Badezeug (falls ihr nach dem Bewegen einen kurzen Badestopp in der Waldaist einlegen wollt)\, Sonnenschutz \nÜbernachtung: Mit Zelt oder Wohnwagen etc. möglich von Samstag auf Sonntag auf der Wiese der Burg. Wir bitten euch\, nicht früher anzureisen. Vorhanden sind Feuerstelle\, Dixiklo (WC-Anlagen der Burg können auch mitverwendet werden). \nVerpflegung: Es gibt die Möglichkeit\, mit der Fechtwochencrew zu essen. \nAlkohol: Bei Teilnahme am Fechtprogramm gilt 0\,0‰ \nKosten:\n40€ Umkostenbeitrag Tag des Schwertes\n20€ Umkostenbeitrag für Teilnahme an Sonntagsworkshops\n+ Essensbeitrag\n-10€ Treuebonus für Fechter*innen die letztes Jahr schon dabei waren. \nAnmeldung: \nTag des Schwertes  Burg Reichenstein 2025
URL:https://sigiforge.com/event/tag-des-schwertes-2025-burg-reichenstein/
LOCATION:Burg Reichenstein\, Reichenstein 1\, Gutau\, 4230\, Austria
CATEGORIES:Workshop
ATTACH;FMTTYPE=image/jpeg:https://sigiforge.com/wp-content/uploads/2025/06/Tag-des-Schwertes-Banner-WEB-1.jpg
END:VEVENT
BEGIN:VEVENT
DTSTART;TZID=Europe/Bratislava:20250822T160000
DTEND;TZID=Europe/Bratislava:20250824T170000
DTSTAMP:20260425T173557
CREATED:20250414T083058Z
LAST-MODIFIED:20250414T083058Z
UID:10000326-1755878400-1756054800@sigiforge.com
SUMMARY:Swiss Blades 2025
DESCRIPTION:The Swiss Blades is an international Historical European Martial Arts event\, organised by the HEMA division of the Association Médiévale Romande. It is limited to 120 attendees in order to offer everyone the best conditions. It represents about : \n15 workshops on 2 days\n1 fechtfeder tournament\n3 conferences\n12 world-aknowledged instructors\n10 referees\n20 volunteers\nA typically Swiss welcome pack \nwww.hema-swiss-blades.ch/en
URL:https://sigiforge.com/event/swiss-blades-2025/
LOCATION:Le landeron\, Neuchâtel\, Switzerland\, Le Landeron\, Neuchâtel\, 2525\, Switzerland
CATEGORIES:Tournament,Training camp,Workshop
ATTACH;FMTTYPE=image/png:https://sigiforge.com/wp-content/uploads/2025/04/Presentation-Swiss-Blades-2025.png
ORGANIZER;CN="Association M%C3%A9di%C3%A9vale Romande":MAILTO:contact@hema-swiss-blades.ch
END:VEVENT
END:VCALENDAR