BEGIN:VCALENDAR
VERSION:2.0
PRODID:-//Sigi Forge - ECPv6.10.2//NONSGML v1.0//EN
CALSCALE:GREGORIAN
METHOD:PUBLISH
X-WR-CALNAME:Sigi Forge
X-ORIGINAL-URL:https://sigiforge.com
X-WR-CALDESC:Events for Sigi Forge
REFRESH-INTERVAL;VALUE=DURATION:PT1H
X-Robots-Tag:noindex
X-PUBLISHED-TTL:PT1H
BEGIN:VTIMEZONE
TZID:Europe/Paris
BEGIN:DAYLIGHT
TZOFFSETFROM:+0100
TZOFFSETTO:+0200
TZNAME:CEST
DTSTART:20250330T010000
END:DAYLIGHT
BEGIN:STANDARD
TZOFFSETFROM:+0200
TZOFFSETTO:+0100
TZNAME:CET
DTSTART:20251026T010000
END:STANDARD
END:VTIMEZONE
BEGIN:VTIMEZONE
TZID:Europe/Bratislava
BEGIN:DAYLIGHT
TZOFFSETFROM:+0100
TZOFFSETTO:+0200
TZNAME:CEST
DTSTART:20250330T010000
END:DAYLIGHT
BEGIN:STANDARD
TZOFFSETFROM:+0200
TZOFFSETTO:+0100
TZNAME:CET
DTSTART:20251026T010000
END:STANDARD
END:VTIMEZONE
BEGIN:VEVENT
DTSTART;TZID=Europe/Paris:20250308T090000
DTEND;TZID=Europe/Paris:20250309T170000
DTSTAMP:20260426T012325
CREATED:20250113T121209Z
LAST-MODIFIED:20250113T121209Z
UID:10000275-1741424400-1741539600@sigiforge.com
SUMMARY:Montpellier Hema Tournament 2025
DESCRIPTION:Women challenge\nOpen Longsword\nOpen Sidesword\nOpen Saber\nOpen Rapier&Dagger
URL:https://sigiforge.com/event/montpellier-hema-tournament-2025/
LOCATION:Gymnase Georges Frêche\, Rue le Titien\, Montpellier\, Hérault\, 34000\, France
CATEGORIES:Longsword Open,Rapier and Dagger,Saber,Single sword,Women tournament
ATTACH;FMTTYPE=image/jpeg:https://sigiforge.com/wp-content/uploads/2025/01/HEMA2025.jpg
ORGANIZER;CN="Ecole Chevaleresque":MAILTO:contact@chevaleresque.com
END:VEVENT
BEGIN:VEVENT
DTSTART;VALUE=DATE:20250315
DTEND;VALUE=DATE:20250317
DTSTAMP:20260426T012325
CREATED:20241204T094453Z
LAST-MODIFIED:20241204T094453Z
UID:10000264-1741996800-1742169599@sigiforge.com
SUMMARY:Flos Duellatorum with Federico Malagutti
DESCRIPTION:The “Compagnia del Corvo Grigio” is happy to invite everyone to our next workshop hosted in Ticino with Federico Malagutti as our guest instructor. We are going to have two days of lessons about Fiore dei Liberi’s Flos Duellatorum tecniques with the longsword.\nFor more informations and reservations\, contact us via the e-mail provided in the event image
URL:https://sigiforge.com/event/flos-duellatorum-with-federico-malagutti/
LOCATION:Via Agostino Maspoli\, 6850 Mendrisio\, Via Agostino Maspoli\, Mendrisio\, TI\, 6850\, Switzerland
CATEGORIES:Workshop
ATTACH;FMTTYPE=image/jpeg:https://sigiforge.com/wp-content/uploads/2024/12/CG-Workshop-Malagutti-2025-1.jpg
ORGANIZER;CN="Compagnia Del Corvo Grigio":MAILTO:compagniacorvogrigio@gmail.com
END:VEVENT
END:VCALENDAR