BEGIN:VCALENDAR
VERSION:2.0
PRODID:-//Sigi Forge - ECPv6.10.2//NONSGML v1.0//EN
CALSCALE:GREGORIAN
METHOD:PUBLISH
X-ORIGINAL-URL:https://sigiforge.com
X-WR-CALDESC:Events for Sigi Forge
REFRESH-INTERVAL;VALUE=DURATION:PT1H
X-Robots-Tag:noindex
X-PUBLISHED-TTL:PT1H
BEGIN:VTIMEZONE
TZID:Pacific/Auckland
BEGIN:STANDARD
TZOFFSETFROM:+1300
TZOFFSETTO:+1200
TZNAME:NZST
DTSTART:20250405T140000
END:STANDARD
BEGIN:DAYLIGHT
TZOFFSETFROM:+1200
TZOFFSETTO:+1300
TZNAME:NZDT
DTSTART:20250927T140000
END:DAYLIGHT
END:VTIMEZONE
BEGIN:VTIMEZONE
TZID:Europe/Bratislava
BEGIN:DAYLIGHT
TZOFFSETFROM:+0100
TZOFFSETTO:+0200
TZNAME:CEST
DTSTART:20250330T010000
END:DAYLIGHT
BEGIN:STANDARD
TZOFFSETFROM:+0200
TZOFFSETTO:+0100
TZNAME:CET
DTSTART:20251026T010000
END:STANDARD
END:VTIMEZONE
BEGIN:VEVENT
DTSTART;TZID=Pacific/Auckland:20250531T090000
DTEND;TZID=Pacific/Auckland:20250602T170000
DTSTAMP:20260425T230143
CREATED:20250501T083800Z
LAST-MODIFIED:20250501T083800Z
UID:10000337-1748682000-1748883600@sigiforge.com
SUMMARY:Unicorn Fight Club 5
DESCRIPTION:We are mixing things up a bit this time and running the following tournaments: \n– Longsword\, Tiers A&B\n– Sabre\, Tiers A&B\n– Open Spear (Partisan)\n– Open Sidesword\n– Open Rapier & Dagger\nFor the longword & sabre tournaments this year we are running A&B divisions\, these will be seeded by fencer’s HEMAratings (weighted ratings) after registration closes.\nThe top four fencers from the “B” tier tournaments will also be added to the subsequent “A” tier pools\, allowing for another chance at medaling. \nThis event will also be the first New Zealand HEMA tournament to be included in the Australian Historical Fencing League circuit\, so expect some hotly contested finals. \nPut aside the date\, book your flights to Christchurch\, New Zealand\, and get training for UFC5!
URL:https://sigiforge.com/event/unicorn-fight-club-5/
LOCATION:avonhub\, 77 North Parade\, Richmond\, Christchurch 8013\, Christchurch\, Canterbury\, 8013\, New Zealand
CATEGORIES:Longsword Open,Rapier and Dagger,Saber,Single sword,Tournament
ATTACH;FMTTYPE=image/png:https://sigiforge.com/wp-content/uploads/2025/05/Asset-1.png
ORGANIZER;CN="Canterbury Historical Fencing Club":MAILTO:canterburyhfc@gmail.com
END:VEVENT
BEGIN:VEVENT
DTSTART;VALUE=DATE:20250614
DTEND;VALUE=DATE:20250616
DTSTAMP:20260425T230143
CREATED:20250428T133140Z
LAST-MODIFIED:20250428T133140Z
UID:10000334-1749859200-1750031999@sigiforge.com
SUMMARY:Österreichische Meisterschaft (Austrian Nationals)
DESCRIPTION:The time has finally come! After a long hiatus we are holding the next Austrian Nationals on the 14th and 15th of June 2025. Sign up for one out of a total of 149 entries across the disciplines ‘Longsword Open’\, ‘Longsword Womens’\, ‘Langes Messer’\, ‘Sabre’\, ‘Rapier’ and ‘Sword and Buckler’. For under 18s we are also hosting an additional Kids Tournament. For non competitiors there will be an open hall for sparring on both days. \nThe tournament takes place in the ‘Sporthalle Josef Preis Allee’ in Salzburg. (Adress: Josef Preis Allee 3-5 Salzburg)\nYou can find information on registration\, parking\, overnight stay\, and supporting program on our website: https://oem.historischesfechten.at\nAll are welcome\, no matter if you are an experienced tournament master\, a new beginner or a spectator. Don’t hesitate too long to register\, or you might find yourself on the waiting list.
URL:https://sigiforge.com/event/osterreichische-meisterschaft-austrian-nationals/
LOCATION:Turnhalle Josef Preis Allee Salzburg\, Josef Preis Allee 3-5\, Salzrburg\, Salzburg\, 5020\, Austria
CATEGORIES:HEMA Ratings,Kids tournament,Longsword Open,Longsword Women,Messer,Rapier,Saber,Sword and Buckler,Tournament
ATTACH;FMTTYPE=image/jpeg:https://sigiforge.com/wp-content/uploads/2025/04/OM-Logo.-1.4.3.1-White-scaled.jpg
ORGANIZER;CN="%C3%96FHF-HEMA Austria":MAILTO:info@historisches-fechten.at
END:VEVENT
BEGIN:VEVENT
DTSTART;VALUE=DATE:20250628
DTEND;VALUE=DATE:20250630
DTSTAMP:20260425T230143
CREATED:20240913T151819Z
LAST-MODIFIED:20240913T151819Z
UID:10000246-1751068800-1751241599@sigiforge.com
SUMMARY:Dresdner HEMA-Cup 2025
DESCRIPTION:📣 Announcing the Dresdner HEMA-Cup 2025! 🗡️ \nWe are excited to invite you to the 4th annual Dresdner HEMA-Cup\, taking place on June 28th and 29th\, 2025! Join us for an exhilarating weekend of historical European martial arts\, where fencers from all over will compete in various disciplines. \nEvent Details:\n📅 Date: June 28-29\, 2025 📍 Venue: Dresden \nDisciplines: 🔸 Longsword Men 🔸 Longsword Women 🔸 Longsword Beginner 🔸 Sword & Buckler 🔸 Rapier & Dagger 🔸 Saber\nWhether you’re a seasoned competitor or new to HEMA\, this event offers a fantastic opportunity to showcase your skills\, learn from others\, and be part of the vibrant HEMA community. \nDon’t miss out on this exciting event! Mark your calendars and stay tuned for registration details. We look forward to seeing you there! 💪✨
URL:https://sigiforge.com/event/dresdner-hema-cup-2025/
LOCATION:Dresden\, Germany\, Dresden\, Germany
CATEGORIES:Beginner tournament,HEMA Ratings,Longsword Men,Longsword Women,Rapier and Dagger,Saber,Sword and Buckler
ATTACH;FMTTYPE=image/png:https://sigiforge.com/wp-content/uploads/2024/09/Longsword-Men-Longsword-Women-Longsword-Beginner.png
ORGANIZER;CN="Fencing Club Dresden":MAILTO:info@fencing-club.de
END:VEVENT
END:VCALENDAR