BEGIN:VCALENDAR
VERSION:2.0
PRODID:-//Sigi Forge - ECPv6.10.2//NONSGML v1.0//EN
CALSCALE:GREGORIAN
METHOD:PUBLISH
X-ORIGINAL-URL:https://sigiforge.com
X-WR-CALDESC:Events for Sigi Forge
REFRESH-INTERVAL;VALUE=DURATION:PT1H
X-Robots-Tag:noindex
X-PUBLISHED-TTL:PT1H
BEGIN:VTIMEZONE
TZID:Europe/Paris
BEGIN:DAYLIGHT
TZOFFSETFROM:+0100
TZOFFSETTO:+0200
TZNAME:CEST
DTSTART:20250330T010000
END:DAYLIGHT
BEGIN:STANDARD
TZOFFSETFROM:+0200
TZOFFSETTO:+0100
TZNAME:CET
DTSTART:20251026T010000
END:STANDARD
END:VTIMEZONE
BEGIN:VEVENT
DTSTART;TZID=Europe/Paris:20250201T090000
DTEND;TZID=Europe/Paris:20250202T170000
DTSTAMP:20260426T045048
CREATED:20241026T214150Z
LAST-MODIFIED:20241026T214150Z
UID:10000260-1738400400-1738515600@sigiforge.com
SUMMARY:Open du Port de la Lune/ Bordeaux HEMA Open 2025
DESCRIPTION:Les samedi 1er et dimanche 2 Février 2025 aura lieu la première édition de l’Open du Port de Lune/ Bordeaux HEMA Open 2025 organisé par “BATESTA”\, à Bordeaux. \nNous vous convions pour un week-end de compétition autours de 3 armes phares: \n– L’épée longue\n– L’épée bocle\n– Le sabre militaire \nCe tout premier tournoi organisé par notre club se déroulera sur 2 jours. Les inscriptions\, réglements\, et autres renseignements utiles seront bientôt communiqués\n______________________________________________________________________ \nOn Saturday 1st and Sunday 2nd February 2025\, the first edition of the Open du Port de Lune/ Bordeaux HEMA Open 2025 will take place\, organized by “BATESTA”\, in Bordeaux. \nWe invite you to a weekend of competition around 3 flagship weapons: \n– Longsword\n– Sword and Buckler\n– Military Saber \nThis very first tournament organized by our club will take place over 2 days. Registrations\, regulations\, and other useful information will be communicated soon.\n______________________________________________________________________ \nLIEU/ PLACE:\nGymnase Nelson Paillou\, 53 Rue Pauline Kergomard\, 33800 BORDEAUX. PS: Le gymnase est situé juste au dessus du BEC ESCRIME/ The gym is located just above BEC ESCRIME
URL:https://sigiforge.com/event/open-du-port-de-la-lune-bordeaux-hema-open-2025/
LOCATION:Gymnase Nelson Paillou\, 53 Rue Pauline Kergormard\, BORDEAUX\, Gironde\, 33800\, France
CATEGORIES:Longsword Open,Saber,Sword and Buckler,Tournament
ATTACH;FMTTYPE=image/jpeg:https://sigiforge.com/wp-content/uploads/2024/10/Open-du-Port-de-la-Lune-2025.jpg
ORGANIZER;CN="Batesta":MAILTO:batesta.bordeaux@gmail.com
END:VEVENT
END:VCALENDAR