BEGIN:VCALENDAR
VERSION:2.0
PRODID:-//Sigi Forge - ECPv6.10.2//NONSGML v1.0//EN
CALSCALE:GREGORIAN
METHOD:PUBLISH
X-ORIGINAL-URL:https://sigiforge.com
X-WR-CALDESC:Events for Sigi Forge
REFRESH-INTERVAL;VALUE=DURATION:PT1H
X-Robots-Tag:noindex
X-PUBLISHED-TTL:PT1H
BEGIN:VTIMEZONE
TZID:Europe/Rome
BEGIN:DAYLIGHT
TZOFFSETFROM:+0100
TZOFFSETTO:+0200
TZNAME:CEST
DTSTART:20260329T010000
END:DAYLIGHT
BEGIN:STANDARD
TZOFFSETFROM:+0200
TZOFFSETTO:+0100
TZNAME:CET
DTSTART:20261025T010000
END:STANDARD
END:VTIMEZONE
BEGIN:VEVENT
DTSTART;TZID=Europe/Rome:20260425T090000
DTEND;TZID=Europe/Rome:20260425T190000
DTSTAMP:20260425T022716
CREATED:20251221T115153Z
LAST-MODIFIED:20260218T115402Z
UID:10000406-1777107600-1777143600@sigiforge.com
SUMMARY:Fante di Spade II - Smallsword and Sidesword & Dagger Tournament
DESCRIPTION:Welcome to the second edition of Fante di Spade (Ace of Swords) that will be held in the city of Lecco\, Italy on 25 of april 2026.\nThis year there will be a competition of sidesword and dagger in the morning followed by a competition of smallsword in the afternoon.\nThe partecipation fee wil be 35€\nMore information on the facebook event page:\nhttps://www.facebook.com/events/1559312925485789/?active_tab=about
URL:https://sigiforge.com/event/fante-di-spade-ii-smallsword-and-sidesword-dagger-tournament/
LOCATION:via Gaggio 3\, Malgrate (LC) Italy\, via Gaggio 3\, Malgrate\, Lecco\, 23864\, Italy
CATEGORIES:Dagger,Sidesword
ATTACH;FMTTYPE=image/jpeg:https://sigiforge.com/wp-content/uploads/2025/12/fante-di-spade-2-locandina-A4-ORIZZONTALE.jpg
END:VEVENT
END:VCALENDAR