BEGIN:VCALENDAR
VERSION:2.0
PRODID:-//Sigi Forge - ECPv6.10.2//NONSGML v1.0//EN
CALSCALE:GREGORIAN
METHOD:PUBLISH
X-WR-CALNAME:Sigi Forge
X-ORIGINAL-URL:https://sigiforge.com
X-WR-CALDESC:Events for Sigi Forge
REFRESH-INTERVAL;VALUE=DURATION:PT1H
X-Robots-Tag:noindex
X-PUBLISHED-TTL:PT1H
BEGIN:VTIMEZONE
TZID:Europe/Bratislava
BEGIN:DAYLIGHT
TZOFFSETFROM:+0100
TZOFFSETTO:+0200
TZNAME:CEST
DTSTART:20260329T010000
END:DAYLIGHT
BEGIN:STANDARD
TZOFFSETFROM:+0200
TZOFFSETTO:+0100
TZNAME:CET
DTSTART:20261025T010000
END:STANDARD
END:VTIMEZONE
BEGIN:VTIMEZONE
TZID:America/Chicago
BEGIN:DAYLIGHT
TZOFFSETFROM:-0600
TZOFFSETTO:-0500
TZNAME:CDT
DTSTART:20260308T080000
END:DAYLIGHT
BEGIN:STANDARD
TZOFFSETFROM:-0500
TZOFFSETTO:-0600
TZNAME:CST
DTSTART:20261101T070000
END:STANDARD
END:VTIMEZONE
BEGIN:VTIMEZONE
TZID:Australia/Brisbane
BEGIN:STANDARD
TZOFFSETFROM:+1000
TZOFFSETTO:+1000
TZNAME:AEST
DTSTART:20260101T000000
END:STANDARD
END:VTIMEZONE
BEGIN:VTIMEZONE
TZID:Asia/Tbilisi
BEGIN:STANDARD
TZOFFSETFROM:+0400
TZOFFSETTO:+0400
TZNAME:+04
DTSTART:20260101T000000
END:STANDARD
END:VTIMEZONE
BEGIN:VEVENT
DTSTART;VALUE=DATE:20260710
DTEND;VALUE=DATE:20260713
DTSTAMP:20260425T054814
CREATED:20260310T111539Z
LAST-MODIFIED:20260310T111539Z
UID:10000461-1783641600-1783900799@sigiforge.com
SUMMARY:Rapier Vienna 2026
DESCRIPTION:Let’s turn it up to eleven! Another edition of the magnificent Rapier Vienna is coming up this summer from 10.07. – 12.07.\nA long weekend packed with workshops and lectures\, and the “Qaudrangulo di Ferro” Fun-Tournament (©FISAS)\nSee all the details on our website: www.rapiervienna.at.
URL:https://sigiforge.com/event/rapier-vienna-2026/
LOCATION:Vienna\, Wiederänders\, Vienna\, Vienna\, Austria
CATEGORIES:Rapier,Sidesword,Workshop
ATTACH;FMTTYPE=image/png:https://sigiforge.com/wp-content/uploads/2026/03/RV26_Logo_tidyHQ-1.png
END:VEVENT
BEGIN:VEVENT
DTSTART;VALUE=DATE:20260711
DTEND;VALUE=DATE:20260712
DTSTAMP:20260425T054814
CREATED:20260325T090133Z
LAST-MODIFIED:20260325T090720Z
UID:10000476-1783728000-1783814399@sigiforge.com
SUMMARY:Sioux Falls Tournament of Blades
DESCRIPTION:The Sioux Falls Tournament of Blades is a unique martial arts event that brings together practitioners from a wide range of bladed weapon traditions for a day of learning\, camaraderie\, and friendly competition. Unlike most tournaments that focus on a single art\, the Tournament of Blades celebrates the diversity of weapon-based martial arts by hosting divisions in multiple systems including Olympic-style fencing\, Historical European Martial Arts (HEMA)\, modern Kendo\, and padded sword competition. \nHosted by Dynamic Martial Arts of Sioux Falls\, the Tournament of Blades is a the premier open-format edged weapons event in the region. Now in it’s second year\, this event was created to provide a place where practitioners from different traditions can come together to test their skills\, share knowledge\, and grow as martial artists. Whether you are stepping into competition for the first time or are an experienced competitor\, the tournament is designed to encourage respectful competition\, personal improvement\, and the exchange of ideas between arts. \nWe look forward to welcoming competitors\, coaches\, and spectators to Sioux Falls for a day dedicated to the martial traditions of the blade.
URL:https://sigiforge.com/event/sioux-falls-tournament-of-blades-2/
LOCATION:Augustana College\, ​2001 S. Summit Ave.\, Sioux Falls\, SD\, 57197\, United States
CATEGORIES:Advanced Longsword,Beginner tournament,Longsword Men,Longsword Open,Sword and Buckler,Synthetic swords,Tournament
ATTACH;FMTTYPE=image/jpeg:https://sigiforge.com/wp-content/uploads/2026/03/Tourney-of-Blades-Banner.jpg
ORGANIZER;CN="Dynamic Martial Arts":MAILTO:info@dmaofsiouxfalls.org
END:VEVENT
BEGIN:VEVENT
DTSTART;VALUE=DATE:20260711
DTEND;VALUE=DATE:20260713
DTSTAMP:20260425T054814
CREATED:20260225T074631Z
LAST-MODIFIED:20260225T074631Z
UID:10000452-1783728000-1783900799@sigiforge.com
SUMMARY:Sword Fight VIII
DESCRIPTION:Sword Fight VIII\, Australian fencing at its best. The Gold Coast\, Australia at its best! \nThe premier Gold Coast HEMA tournament is back in action! Housed in the beautiful scenic rim of the Gold Coast Hinterland\, we are taking historical fencing to the highlands. This two day event will showcase some of Australia’s best fencers in Longsword\, Sidesword\, Rapier\, and Sabre\, + a URG open weapons event!\nThis will be a double-pool then elimination event.\nInterstate travelers will be assisted with billeting and travel to and from the venue.\nRules and equipment: Sword Fighter Standard rules\, based on closely on the HFA rules and equipment\nParticipants: Competitors must be insured and come from a recognised/reputable historical fencing club.\nVolunteers: Events are only possible with the help of volunteers\, if you would like to be involved please let us know.\nSpectators: Free for spectators. Limited seating available
URL:https://sigiforge.com/event/sword-fight-viii/
LOCATION:2-4 Knoll Rd\, Tamborine Mountain QLD 4272\, Australia\, 2-4 Knoll Rd\, QLD \, Australia\, Tamborine Mountain\, Queensland\, 4272\, Australia
CATEGORIES:Advanced Longsword,Rapier,Saber,Sidesword,URG (Underrepresented Gender) Longsword
ATTACH;FMTTYPE=image/png:https://sigiforge.com/wp-content/uploads/2026/02/Sword-Fight-VIII1.png
ORGANIZER;CN="Sword Fighter":MAILTO:swordfighteraus@gmail.com
END:VEVENT
BEGIN:VEVENT
DTSTART;VALUE=DATE:20260718
DTEND;VALUE=DATE:20260720
DTSTAMP:20260425T054814
CREATED:20260414T201553Z
LAST-MODIFIED:20260414T201824Z
UID:10000481-1784332800-1784505599@sigiforge.com
SUMMARY:Wolf's Head
DESCRIPTION:We continue a tradition that has already become a landmark event for the Georgian HEMA community. Once again\, the tournament will bring together fencers ready to compete on the field in intense\, fair competition. \nPrepare for strong opponents and an atmosphere where every bout is a challenge. The tournament is organized by St. George’s HEMA School.
URL:https://sigiforge.com/event/wolfs-head-2/
LOCATION:Tbilisi\, https://l.facebook.com/l.php?u=httpswww.bing.commapsdefault.aspxv2pcFACEBKmid8100where11-320Giorgi20Chitaia20St2C20Tbilisi2C20GeorgiaFORMFBKPL1mkten-USfbclidIwZXh0bgNhZW0CMTAAYnJpZBExbUxzYkliT01nNHN6bEZEd3NydGMGYXBwX2lkEDIyMjAzOTE3ODgyMDA4OTIAAR4H1TuSEvGLnMLz47J84Hg02gq-wPd09CKCqOGPDD_K7lwtrkPZnRAEiX-i3Q_aem_WizZgxBG9bg4S-It_lZOnw&h=AT7XzEg62qoKndQ7GFcMkckTinfLzuGDsbuq-NjwCmFxO2euT4PzN1Jm9lK7_PGVfs2fh18k_drWqfWSwUWyC607DuMpJh17V7svNAZEgg7sqi-kYmHtU4oi7QnbJwrTaw\, Tbilisi\, 0141\, Georgia
CATEGORIES:Longsword Open,Saber
ATTACH;FMTTYPE=image/jpeg:https://sigiforge.com/wp-content/uploads/2026/04/wolfs-head-1-scaled.jpg
ORGANIZER;CN="St. George HEMA School":MAILTO:april.anna.vas@gmail.com
END:VEVENT
BEGIN:VEVENT
DTSTART;TZID=Europe/Bratislava:20260725T080000
DTEND;TZID=Europe/Bratislava:20260725T170000
DTSTAMP:20260425T054814
CREATED:20260422T210327Z
LAST-MODIFIED:20260422T210327Z
UID:10000488-1784966400-1784998800@sigiforge.com
SUMMARY:In the Name of Saint George! II
DESCRIPTION:“In the Name of Saint George! II” returns this year as 2 day event – featuring Longsword\, Saber and Rapier & Dagger tournaments\, July 25 – 26\, 2026. \nSaint George\, the legendary warrior-saint and dragon slayer stands as a timeless symbol and example of courage\, chivalry and unwavering resolve in the face of adversity. For centuries\, Saint George has been the patron saint of knights\, warriors\, fencers and those who take up arms for honor\, defense and virtue. Our tournament “In the Name of Saint George” is a celebration of those knightly virtues that Saint George embodies and is not just a contest of arms but also a tribute to the chivalric spirit of discipline\, respect and valor that defines the martial traditions of Europe. He slew the dragon\, he died a martyr. In his name we compete\, not for glory alone but to carry forward a legacy of skill\, honor and virtue. \nRegistration is now open\, space is limited so make sure to sign up asap. You can register here: \nhttps://nashvillehistoricalfencing.tidyhq.com/public/schedule/events/81051-in-the-name-of-st-george-ii \nThe event will take place at: \nRussellville High School gymnasium\, 1101 W 9th St\, Russellville\, KY 42276 \nRussellville\, KY is about 1 hour north of Nashville\, TN. For those traveling from out of state and needing a place to stay\, we recommend looking for hotels in Bowling Green\, KY for more options\, it’s about 25 minutes from the event location.
URL:https://sigiforge.com/event/in-the-name-of-saint-george-ii/2026-07-25/
LOCATION:Russellville High School Gymnasium\, 1101 W 9th St\, Russellville\, KY 42276\, Russellville\, KY\, 42202\, United States
CATEGORIES:Longsword Open,Rapier and Dagger,Saber
ATTACH;FMTTYPE=image/png:https://sigiforge.com/wp-content/uploads/2026/04/st-george-website.png
ORGANIZER;CN="Nashville School of Historical Fencing":MAILTO:nashvillehema@gmail.com
END:VEVENT
END:VCALENDAR