BEGIN:VCALENDAR
VERSION:2.0
PRODID:-//Sigi Forge - ECPv6.10.2//NONSGML v1.0//EN
CALSCALE:GREGORIAN
METHOD:PUBLISH
X-WR-CALNAME:Sigi Forge
X-ORIGINAL-URL:https://sigiforge.com
X-WR-CALDESC:Events for Sigi Forge
REFRESH-INTERVAL;VALUE=DURATION:PT1H
X-Robots-Tag:noindex
X-PUBLISHED-TTL:PT1H
BEGIN:VTIMEZONE
TZID:Pacific/Auckland
BEGIN:STANDARD
TZOFFSETFROM:+1300
TZOFFSETTO:+1200
TZNAME:NZST
DTSTART:20260404T140000
END:STANDARD
BEGIN:DAYLIGHT
TZOFFSETFROM:+1200
TZOFFSETTO:+1300
TZNAME:NZDT
DTSTART:20260926T140000
END:DAYLIGHT
END:VTIMEZONE
BEGIN:VTIMEZONE
TZID:Europe/Warsaw
BEGIN:DAYLIGHT
TZOFFSETFROM:+0100
TZOFFSETTO:+0200
TZNAME:CEST
DTSTART:20260329T010000
END:DAYLIGHT
BEGIN:STANDARD
TZOFFSETFROM:+0200
TZOFFSETTO:+0100
TZNAME:CET
DTSTART:20261025T010000
END:STANDARD
END:VTIMEZONE
BEGIN:VTIMEZONE
TZID:Europe/Bratislava
BEGIN:DAYLIGHT
TZOFFSETFROM:+0100
TZOFFSETTO:+0200
TZNAME:CEST
DTSTART:20260329T010000
END:DAYLIGHT
BEGIN:STANDARD
TZOFFSETFROM:+0200
TZOFFSETTO:+0100
TZNAME:CET
DTSTART:20261025T010000
END:STANDARD
END:VTIMEZONE
BEGIN:VTIMEZONE
TZID:Europe/Brussels
BEGIN:DAYLIGHT
TZOFFSETFROM:+0100
TZOFFSETTO:+0200
TZNAME:CEST
DTSTART:20260329T010000
END:DAYLIGHT
BEGIN:STANDARD
TZOFFSETFROM:+0200
TZOFFSETTO:+0100
TZNAME:CET
DTSTART:20261025T010000
END:STANDARD
END:VTIMEZONE
BEGIN:VTIMEZONE
TZID:Europe/Vilnius
BEGIN:DAYLIGHT
TZOFFSETFROM:+0200
TZOFFSETTO:+0300
TZNAME:EEST
DTSTART:20260329T010000
END:DAYLIGHT
BEGIN:STANDARD
TZOFFSETFROM:+0300
TZOFFSETTO:+0200
TZNAME:EET
DTSTART:20261025T010000
END:STANDARD
END:VTIMEZONE
BEGIN:VTIMEZONE
TZID:Europe/Zagreb
BEGIN:DAYLIGHT
TZOFFSETFROM:+0100
TZOFFSETTO:+0200
TZNAME:CEST
DTSTART:20260329T010000
END:DAYLIGHT
BEGIN:STANDARD
TZOFFSETFROM:+0200
TZOFFSETTO:+0100
TZNAME:CET
DTSTART:20261025T010000
END:STANDARD
END:VTIMEZONE
BEGIN:VTIMEZONE
TZID:Asia/Taipei
BEGIN:STANDARD
TZOFFSETFROM:+0800
TZOFFSETTO:+0800
TZNAME:CST
DTSTART:20260101T000000
END:STANDARD
END:VTIMEZONE
BEGIN:VTIMEZONE
TZID:America/New_York
BEGIN:DAYLIGHT
TZOFFSETFROM:-0500
TZOFFSETTO:-0400
TZNAME:EDT
DTSTART:20260308T070000
END:DAYLIGHT
BEGIN:STANDARD
TZOFFSETFROM:-0400
TZOFFSETTO:-0500
TZNAME:EST
DTSTART:20261101T060000
END:STANDARD
END:VTIMEZONE
BEGIN:VTIMEZONE
TZID:America/Chicago
BEGIN:DAYLIGHT
TZOFFSETFROM:-0600
TZOFFSETTO:-0500
TZNAME:CDT
DTSTART:20260308T080000
END:DAYLIGHT
BEGIN:STANDARD
TZOFFSETFROM:-0500
TZOFFSETTO:-0600
TZNAME:CST
DTSTART:20261101T070000
END:STANDARD
END:VTIMEZONE
BEGIN:VEVENT
DTSTART;TZID=Pacific/Auckland:20260530T080000
DTEND;TZID=Pacific/Auckland:20260601T200000
DTSTAMP:20260425T040613
CREATED:20260128T140333Z
LAST-MODIFIED:20260128T140333Z
UID:10000421-1780128000-1780344000@sigiforge.com
SUMMARY:Unicorn Fight Club 6
DESCRIPTION:Unicorn Fight Club is back for our sixth year! \nThe following tournaments are available: \nLongsword\, Tiers A&B\nSabre\, Tiers A&B\nOpen Spear (Partisan)\nOpen Sidesword\nOpen Rapier & Dagger\nFor the longword & sabre tournaments this year we are running A&B divisions\, these will be seeded by fencer’s HEMA ratings (weighted ratings) after registration closes; the top six fencers from the “B” tier tournaments will also be added to the “A” tier pools\, allowing for another chance at medaling. \nThis event will also be included in the Australian Historical Fencing League circuit\, so expect some hotly contested finals. \nPut aside the date\, book your flights to Christchurch\, New Zealand\, and get training for UFC6!
URL:https://sigiforge.com/event/unicorn-fight-club-6/
LOCATION:avonhub\, 77 North Parade\, Richmond\, Christchurch 8013\, Christchurch\, Canterbury\, 8013\, New Zealand
CATEGORIES:Longsword Open,Rapier and Dagger,Saber,Sidesword,Tournament
ATTACH;FMTTYPE=image/png:https://sigiforge.com/wp-content/uploads/2026/01/testing-socials-04png.png
ORGANIZER;CN="Canterbury Historical Fencing Club":MAILTO:canterburyhfc@gmail.com
END:VEVENT
BEGIN:VEVENT
DTSTART;TZID=Europe/Warsaw:20260605T150000
DTEND;TZID=Europe/Warsaw:20260607T180000
DTSTAMP:20260425T040613
CREATED:20240402T113729Z
LAST-MODIFIED:20240402T113731Z
UID:10000202-1780671600-1780855200@sigiforge.com
SUMMARY:Black Horns Cup 2024
DESCRIPTION:Black Horns Cup is a cyclical HEMA tournament organized since 2018\, part of the Polish FEDER League. \nWorkshops and competitions:\n– Open Longsword\n– Open Sabre\n– Open Rapier & Dagger\n– Open Sword & Buckler\n– Women’s competition (weapon TBA)\n– Cutting competition \nhttps://www.blackhornscup.com/en
URL:https://sigiforge.com/event/black-horns-cup-2023-2/2026-06-05/
LOCATION:Kórnickie Centrum Rekreacji i Sportu OAZA\, Ul. Ignacego Krasickiego 1\, Kórnik\, 62-035\, Poland
CATEGORIES:Longsword Open,Rapier and Dagger,Saber,Sword and Buckler,Women tournament,Workshop
ATTACH;FMTTYPE=image/jpeg:https://sigiforge.com/wp-content/uploads/2022/12/BHC-tlo-2023.jpg
ORGANIZER;CN="Black Horns Cup":MAILTO:info@blackhornscup.com
END:VEVENT
BEGIN:VEVENT
DTSTART;VALUE=DATE:20260606
DTEND;VALUE=DATE:20260607
DTSTAMP:20260425T040613
CREATED:20251125T061437Z
LAST-MODIFIED:20251125T061437Z
UID:10000398-1780704000-1780790399@sigiforge.com
SUMMARY:Pražský argument 2026
DESCRIPTION:⚔️⚔️⚔️ Dear fencers! ⚔️⚔️⚔️\nWe’d like to invite you to the 5th edition of the Pražský argument HEMA tournament! We are looking forward to seeing you and your fighting (and fairplay) spirit!\nSo\, mark a spot in your calendars on 6th June 2026. More information is coming soon! \nRuleset ⚖️\nTBA \nCategories ⚔️\nLongsword OPEN & Longsword WOMEN \nRegistration and entry fees 💰\nTBA \nSchedule ⏱️\nTBA \n—\n⚔️⚔️⚔️Drahé šermířky a šermíři! ⚔️⚔️⚔️\nRádi bychom Vás pozvali na pátý ročník HEMA turnaje Pražský argument. Moc se těšíme na Vás a Váš bojový (a také fairplay) zápal!\nUdělejte si tedy křížek ve Vašem kalendáři na 6.června 2026. Více informací o turnaji již brzy! \nPravidla ⚖️\nBude upřesněno \nKategorie ⚔️\nDlouhý meč OPEN & dlouhý meč ženy \nRegistrace a startovné 💰\nBude upřesněno \nHarmonogram ⏱️\nBude upřesněno
URL:https://sigiforge.com/event/prazsky-argument-2026/
LOCATION:Sportovní hala Jedenáctka\, Mírového hnutí 3\, Praha 11\, 14900\, Czech Republic
CATEGORIES:Longsword Open,Longsword Women
ATTACH;FMTTYPE=image/png:https://sigiforge.com/wp-content/uploads/2025/11/Prazsky-Argument-logo-cerne-digital.png
ORGANIZER;CN="Posledn%C3%AD argument":MAILTO:posledni.argument@gmail.com
END:VEVENT
BEGIN:VEVENT
DTSTART;VALUE=DATE:20260606
DTEND;VALUE=DATE:20260608
DTSTAMP:20260425T040613
CREATED:20260313T130931Z
LAST-MODIFIED:20260313T131118Z
UID:10000466-1780704000-1780876799@sigiforge.com
SUMMARY:HEMAlympcis - The Bunny Hop 2026
DESCRIPTION:Be there when Zurich becomes the arena for the 5th HEMAlympics! ⚔️\nRegistration: https://forms.fillout.com/t/23PQn8pta7us \nSaturday – HEMAlympics Games\nOn Saturday\, the HEMAlympics games will take place! All participants will be divided into groups of 4–5 people and will compete together for first place.\nIn around 8 different games\, you’ll be able to demonstrate your skill\, teamwork\, and creativity. All games are connected to HEMA\, but they are quite different from regular training – focusing much more on fun\, challenges\, and team spirit.\nIf you would like to get an idea of what to expect\, feel free to visit our website\, Facebook\, or Instagram. There you will find pictures and videos from previous years.\nDon’t worry: you don’t need years of HEMA experience to participate. All experience levels are very welcome! \nSunday – Workshops\nOn Sunday\, three exciting workshops await you\, as well as plenty of space and time for free fencing.\nThis year we will offer workshops on staff fighting\, wrestling\, and longsword. You can find the latest information about the workshops on the HEMAlympics event page.\nAll experience levels are welcome!
URL:https://sigiforge.com/event/hemalympcis-the-bunny-hop-2026/
LOCATION:Kantonsschule Hottingen\, Minervastrasse 14\, Zürich\, Zürich\, \, 8090 Zürich\, Switzerland
CATEGORIES:Group tournament,Workshop
ATTACH;FMTTYPE=image/png:https://sigiforge.com/wp-content/uploads/2026/03/fg-event-banner-2026.png
ORGANIZER;CN="HADU":MAILTO:info@hadu.ch
END:VEVENT
BEGIN:VEVENT
DTSTART;TZID=Europe/Brussels:20260612T180000
DTEND;TZID=Europe/Brussels:20260614T170000
DTSTAMP:20260425T040613
CREATED:20260222T131539Z
LAST-MODIFIED:20260223T153135Z
UID:10000446-1781287200-1781456400@sigiforge.com
SUMMARY:MORTFEST 2026: Year of the Highlander
DESCRIPTION:Introducing the fourth edition of Mortfest! \nThis year\, we will partially focus on the history and culture of the Scottish Highlands\, with some workshops\, lectures and entertainment focusing on the subject. \n2026 will be the Year of the Highlander! \nWhat to expect?\n– More than 10 workshops & 4 lectures\, given by the finest instructors around\n– Bagpipes and tunes\, straight from the Highlands\n– The McBane Challenge\n– Highland Games inspired challenges\n– Kilts! Kilts everywhere!\n– “Why’s the whisky gone?” \nRegistration:\nhttps://forms.gle/cb53nfTmJGfp51PT8
URL:https://sigiforge.com/event/mortfest-2026-year-of-the-highlander/
LOCATION:Jeugdverblijf Heywijck\, Lange Rekstraat 52\, Sint-Niklaas\, Oost-Vlaanderen\, 9100\, Belgium
CATEGORIES:Broadsword,Dagger,Lecture,Marginalized Gender Longsword,Mixed Steel,Rapier,Saber,Sword and Buckler,Training camp,Workshop
ATTACH;FMTTYPE=image/jpeg:https://sigiforge.com/wp-content/uploads/2026/02/processed-FFD7C232-71EE-4797-97F4-B45A47540CDE-scaled.jpeg
ORGANIZER;CN="Arte Mortiferum":MAILTO:artemortiferum@gmail.com
END:VEVENT
BEGIN:VEVENT
DTSTART;VALUE=DATE:20260613
DTEND;VALUE=DATE:20260615
DTSTAMP:20260425T040613
CREATED:20260201T192759Z
LAST-MODIFIED:20260201T193813Z
UID:10000427-1781308800-1781481599@sigiforge.com
SUMMARY:Meet n' Beat 2026
DESCRIPTION:Meet n’ Beat is a tournament held in Eskişehir/Turkey for the third time and will be this year the first time open for participants from foreign countries.\nOur categories will be:\nLongsword Open\nTurkish Saber Open\nMilitary Sabre Open\nTurkish Saber & Shield (currently not confirmed)\nRapier (currently not confirmed.\nWe thank you for your attendance.
URL:https://sigiforge.com/event/meet-n-beat-2026/
LOCATION:KY
END:VEVENT
BEGIN:VEVENT
DTSTART;TZID=Europe/Vilnius:20260620T100000
DTEND;TZID=Europe/Vilnius:20260620T220000
DTSTAMP:20260425T040613
CREATED:20260225T074934Z
LAST-MODIFIED:20260225T074934Z
UID:10000451-1781949600-1781992800@sigiforge.com
SUMMARY:Alberio Kalavijas IV
DESCRIPTION:!!FOLLOW FACEBOOK EVENT FOR UP-TO-DATE INFORMATION!!\nREGISTRATION:https://forms.cloud.microsoft/e/eZ3scuwX7v\nDATE: 2026-06-20\, 10:00-22:00\nLOCATION: VALDOVŲ RŪMŲ KIEMAS/ GRAND DUKE’S PALACE COURTYARD\nRULES(SABRE&LONGSWORD): AVAILABLE SOON\nRULES(REENACTMENT-STYLE SWORD&SHIELD): AVAILABLE SOON\nSCHEDULE: TO BE ANNOUNCED\nPARTICIPATION FEE: 30 Euros + 5 Euros for additional categories. \n⚔Alberio Kalavijas returns!⚔\nThe fourth in the series\, and still the biggest longsword tournament in Lithuania. In the majestic courtyard of the Grand Duke’s Palace\, you’ll witness: \n⚔Open Longsword⚔\n⚔Women’s Longsword⚔\n⚔Women’s Sabre⚔\n⚔Reenactment-style Sword&Shield!⚔ \nOur initial sponsors: \nMalleus Martialis\nRegenyei Armory\nSIGI Forge\nMartin Fabian\nKrieger Historical Weapons\nSPES Historical Fencing\nVytis Historical Fencing\nBlackfencer
URL:https://sigiforge.com/event/alberio-kalavijas-iv/
LOCATION:KY
CATEGORIES:Longsword Open,Longsword Women,Saber
ATTACH;FMTTYPE=image/png:https://sigiforge.com/wp-content/uploads/2026/02/Marketing-Logo_transparent.png
ORGANIZER;CN="Freifechter von Vilnius":MAILTO:alberausvuhema@gmail.com
END:VEVENT
BEGIN:VEVENT
DTSTART;VALUE=DATE:20260627
DTEND;VALUE=DATE:20260629
DTSTAMP:20260425T040613
CREATED:20260217T093314Z
LAST-MODIFIED:20260217T093314Z
UID:10000444-1782518400-1782691199@sigiforge.com
SUMMARY:Steel & Chill 2026
DESCRIPTION:Steel and Chill – The Ultimate HEMA Experience Returns! \nGet ready\, because Steel and Chill is returning to Daruvar! \nMark your calendars for 27. – 28. 06.\, when we’ll be hosting one of the most exciting and laid-back HEMA competitions around. Whether you’re a seasoned fighter or new to the sport\, come for the challenge\, stay for the fun! \nWhat you can expect:\nIntense matches in five categories:\n– Open Longsword – Tier A (24)\n– Open Longsword – Tier B (24)\n– Women’s Longsword (24)\n– Open Sidesword (24)\n– Women’s Sidesword (24)\n– Open Sword and Buckler (24) \nA community-focused atmosphere that’s all about fun and respect \nA chance to meet and compete against the best HEMA practitioners in the region \nPrizes\, surprises\, and maybe a few chill moments between fights! \nRegistrations open March 1st\, 2026. – stay tuned for all the details and follow the event page for future info: https://fb.me/e/3aOLCDUvo \nP.S. Check out our Facebook or web page for photos from previous years:\nhttps://www.facebook.com/profile.php?id=61572349797716\nhttps://steelnchill.com/
URL:https://sigiforge.com/event/steel-chill-2026-2/
LOCATION:Count Janković Castle\, Daruvar\, Ulica Ivana Gundulića 1\, Daruvar\, 43500\, Croatia (Local Name: Hrvatska)
CATEGORIES:Longsword Open,Longsword Women,Sidesword,Sword and Buckler,Tournament
ATTACH;FMTTYPE=image/png:https://sigiforge.com/wp-content/uploads/2026/02/Rakun-1.png
ORGANIZER;CN="Ars Gladiatoria Zagreb":MAILTO:info@arsgladiatoria.hr
END:VEVENT
BEGIN:VEVENT
DTSTART;VALUE=DATE:20260627
DTEND;VALUE=DATE:20260629
DTSTAMP:20260425T040613
CREATED:20260323T064728Z
LAST-MODIFIED:20260323T064728Z
UID:10000470-1782518400-1782691199@sigiforge.com
SUMMARY:2026 Clash of Steel
DESCRIPTION:Join us in Taiwan for Clash of Steel 2026\, one of Asia’s premier HEMA gatherings! \nThis two-day event features a great mix of high-intensity tournaments and diverse historical martial arts workshops. This year\, our main competitive events will feature Steel Longsword and Rapier & Dagger tournaments. \nWhether you are looking to test your skills against top fencers in Asia or learn from experienced international instructors\, you will find your place here. Come cross swords with us! \nWebsite / Registration: https://clashofsteeltw.com/2026/03/07/2026-get-tickets/\nContact: clashofsteel.tw@gmail.com / schaowfang@hemaunion.com
URL:https://sigiforge.com/event/2026-clash-of-steel/
LOCATION:Chung Mei Auditorium\, Fu Jen Catholic University (New Taipei City\, Taiwan)\, No. 510\, Zhongzheng Rd.\, Xinzhuang Dist.\,\, New Taipei City\, R.O.C\, 242\, Taiwan
CATEGORIES:Longsword Open,Rapier and Dagger,Workshop
ATTACH;FMTTYPE=image/jpeg:https://sigiforge.com/wp-content/uploads/2026/03/2026-Clash-of-Steel-宣傳-1.jpg
ORGANIZER;CN="HEMA Union":MAILTO:hemaunionasia@gmail.com
END:VEVENT
BEGIN:VEVENT
DTSTART;TZID=America/New_York:20260627T080000
DTEND;TZID=America/New_York:20260628T170000
DTSTAMP:20260425T040613
CREATED:20260404T090421Z
LAST-MODIFIED:20260404T090421Z
UID:10000478-1782547200-1782666000@sigiforge.com
SUMMARY:Hot Sword Summer 2026
DESCRIPTION:Hot Sword Summer 2026 is live!\nThis year we have FIVE total events!\nSaturday –\nRapier with optional offhand\,\nSinglestick\nand Sword and Buckler! \nSunday-\nBeginners Longsword\nand Open Longsword! \nWe will have our Iron Fencer and URG award again this year as well\nGet your tickets here!\nCheck out the rules at this link!
URL:https://sigiforge.com/event/hot-sword-summer-2026/
LOCATION:KY
CATEGORIES:Beginner tournament,Longsword Open,Rapier and sidearm,Singlestick,Sword and Buckler
ATTACH;FMTTYPE=image/png:https://sigiforge.com/wp-content/uploads/2026/04/Society-of-Historical-Fencing-Presents-1.png
ORGANIZER;CN="Society of Historical Fencing":MAILTO:societyofhistoricalfencing@gmail.com
END:VEVENT
BEGIN:VEVENT
DTSTART;TZID=America/Chicago:20260627T080000
DTEND;TZID=America/Chicago:20260628T180000
DTSTAMP:20260425T040613
CREATED:20260317T134137Z
LAST-MODIFIED:20260317T134137Z
UID:10000469-1782547200-1782669600@sigiforge.com
SUMMARY:Midsommar Slam 2026
DESCRIPTION:Welcome to Midsommar Slam! Two full days of competition in Rapier\, Longsword\, Dagger\, and Messer. We will also be hosting a series of workshops ranging from more traditional HEMA Offerings such as Longsword and Sword & Buckler as well as Japanese Sword Arts and a group fighting/small unit tactics workshop by our friends at Ninheim Viking Fight School. Join us for a fight-filled weekend!
URL:https://sigiforge.com/event/midsommar-slam-2026/
LOCATION:Austin Sports Academy\, 275 Lotus Circle\, Austin\, TX\, 78737\, United States
CATEGORIES:Dagger,Longsword Open,Messer,Rapier
ATTACH;FMTTYPE=image/jpeg:https://sigiforge.com/wp-content/uploads/2026/03/Midsommar_Slam_2026_Schedule-scaled.jpg
ORGANIZER;CN="Arena Weapon Arts":MAILTO:midsommarslam2026@arenaweaponarts.com
END:VEVENT
BEGIN:VEVENT
DTSTART;TZID=Europe/Bratislava:20260627T100000
DTEND;TZID=Europe/Bratislava:20260628T170000
DTSTAMP:20260425T040614
CREATED:20260203T170558Z
LAST-MODIFIED:20260203T170558Z
UID:10000430-1782554400-1782666000@sigiforge.com
SUMMARY:FANTASTIC FECHT VOL. 2
DESCRIPTION:⚔️ FANTASTIC FECHT VOL. 2 ⚔️\nWe’re back again. In Ostrava. At Fantastická Ostrava.\nAnd now even more fantasyfechtfechtier.\nA community gathering\, now with added value that truly makes sense.\nAnd not just that.\n⚫ What’s new this year?\n🗓 Saturday\, June 27\, 2026\nOfficial tournament in the longsword category.\nLimited capacity\n➡️ Increased to 18 participants.\nWe want to create space for high-quality bouts\, a sufficient number of matches\, and a fair tournament pace.\nFor this reason\, the number of spots is strictly limited\, and we recommend registering as soon as registration opens.\n➡️ THE TOURNAMENT COUNTS TOWARDS HEMA RATINGS‼️\n⚪ Sunday = open sparring\n🗓 Sunday\, June 28\, 2026\nThe second day will be dedicated to open sparring without fixed category divisions.\nWe are primarily expecting:\nsabre\nrapier\nsword and buckler\nand other weapons that participants bring with them\nThe goal is to create an open space for technique\, exchange of experience\, and the joy of fencing across styles.\n🔴 Entry fee\n990 CZK / both days\nThe entry fee includes:\nparticipation in the Saturday tournament\nSunday open sparring\na two-day ticket to the Fantastická Ostrava 2026 festival\, of which the event is a part\n❤️ A tournament with a heart ❤️\nWe don’t want Fantastic Fecht to be just a sporting event.\nPart of the registration proceeds will be donated to the Solidarity Fund of the Ministry of Defence of the Czech Republic\, specifically to support war veterans.\nThese are people who\, in service to the state\, risked their health and lives due to wars and often carry the consequences long after the conflict has ended for others.\nSupporting veterans is not a formal gesture for us\, but a natural part of the values connected to fencing\, discipline\, and respect for the craft of arms.\nThanks to your participation\, the tournament will therefore have a real and meaningful impact. ❤️‍🔥\nThe Solidarity Fund should be presented on site as a partner organization of the tournament.\n🏰 Accommodation & afterparty\nAccommodation is provided for participants in the premises of our fencing salle.\nAvailable facilities:\nWC\nrefrigerator\ncoffee maker\nmicrowave oven\nThe weekend also includes an afterparty in the fencing salle. Bottles of various contents will be opened\, fechtbücher will once again be spread out on the table\, and debates will kick off about what the author actually meant five hundred years ago.\n🛏 Bring your own sleeping bag and sleeping mat.\n📍 Venue\nK Trojhalí\, Moravská Ostrava and Přívoz\nAvailable on site:\na full-size tournament piste\nhigh-quality flooring\nqualified referees 👨‍⚖️\n📜 Registration\nRegistration will open at the end of March.\nDue to limited capacity\, we recommend keeping an eye on the date and being ready.\n🗣️ Contact\n📧 freifechterova@gmail.com\n📱 +420 737 088 548\nCome\, fence well\, meet the HEMA community\, stormtroopers\, space marines\, or Nazgûl.\nAnd now\, through your participation and time well spent doing one of your favorite activities\, you’ll also help someone – and that is the right thing to do.\n———————————————————————————————————————————————————————————\n⚔️ FANTASTIC FECHT VOL. 2 ⚔️\nUž jsme tady zas. V Ostravě. Na Fantastické Ostravě.\nA nyní ještě fantasyfechtfechtější.\nKomunitní setkání ale nyní však s přidanou hodnotu\, která dává smysl.\nA nejen to.\n⚫ Co vše je tedy letos nového?\n🗓 Sobota 27. 6. 2026\nOficiální turnaj v kategorii dlouhý meč (longsword).\nOmezená kapacita\n➡️Zvyšuje se na 18 účastníků.\nChceme dát prostor kvalitním soubojům\, dostatku zápasů a férovému tempu turnaje.\nProto je počet míst pevně omezený \, doporučujeme pro to registraci hned po spuštění.\n➡️TURNAJ SE ZAPOČÍTÁVÁ DO HEMA RATINGS‼️\n⚪Neděle = otevřený sparring\n🗓 Neděle 28. 6. 2026\nDruhý den bude věnován volným sparringům bez pevného rozdělení kategorií.\nPočítáme zejména se:\n– šavlí\n– rapírem\n– meč a štítek\na dalšími zbraněmi\, které si účastníci přivezou\nCílem je otevřený prostor pro techniku\, výměnu zkušeností a radost ze šermu napříč odlišnými přístupy.\n🔴 Startovné\n990 Kč / oba dny\nStartovné zahrnuje:\núčast na sobotním turnaji\nnedělní otevřený sparring\ndvoudenní vstupenku na festival Fantastická Ostrava 2026\, jehož je akce součástí\n❤️Turnaj se srdcem ❤️\nFantastic Fecht nechceme dělat jen jako sportovní událost.\nČást výtěžku z registrací bude věnována Fondu solidarity Ministerstva obrany ČR\, konkrétně na podporu válečných veteránů.\nJde o lidi\, kteří ve službě státu kvůli válkám riskovali zdraví i život a často si své následky nesou dlouho poté\, co pro ostatní konflikt skončil.\nPodpora veteránů pro nás není formální gesto\, ale přirozená součást hodnot\, které ke šermu\, disciplíně a respektu k řemeslu zbraní patří.\nI díky vaší účasti tak bude mít turnaj skutečný přesah. ❤️‍🔥\nFond solidarity by měl být na místě prezentován jako partnerská organizace turnaje.\n🏰 Ubytování & afterparty\nPro účastníky je zajištěno ubytování v prostorách naší šermírny.\nK dispozici:\nWC\nlednice\nkávovar\nmikrovlnná trouba\nSoučástí víkendu je také afterparty v šermírně. Otevřou se láhve rozličného obsahu\, fechtbuchy se znovu rozloží na stůl a rozjedou se debaty o tom\, co tím autor vlastně myslel před pěti sty lety.\n🛏 Vlastní spacák a karimatku s sebou.\n📍 Místo konání\nK Trojhalí\, Moravská Ostrava a Přívoz\nK dispozici bude:\nplnohodnotný turnajový planš\nkvalitní povrch\nkvalifikovaní rozhodčí 👨‍⚖️\n📜 Registrace\nRegistrace se otevře na konci března.\nVzhledem k omezené kapacitě doporučujeme sledovat termín a být připraveni.\n🗣️ Kontakt\n📧 freifechterova@gmail.com\n📱 +420 737 088 548\nPřijeď si dobře zašermovat\, potkat se s hema komunitou\, stormtroopery\, space marines či nazgûly.\nNavíc nyní svou účastí a dobře stráveným cašem tvou jednou z nejoblíbenější činnosti někomu pomůžeš a to je správná věc.
URL:https://sigiforge.com/event/fantastic-fecht-vol-2/
LOCATION:Fantastická Ostrava\, Trojhalí\, K Trojhalí\, 702 00 Moravská Ostrava a Přívoz\, Ostrava\, Silesia\, 702 00\, Czech Republic
CATEGORIES:Beginner tournament
ORGANIZER;CN="Freifechter Ostrava":MAILTO:filipstoklassa@gmail.com
END:VEVENT
END:VCALENDAR