BEGIN:VCALENDAR
VERSION:2.0
PRODID:-//Sigi Forge - ECPv6.10.2//NONSGML v1.0//EN
CALSCALE:GREGORIAN
METHOD:PUBLISH
X-ORIGINAL-URL:https://sigiforge.com
X-WR-CALDESC:Events for Sigi Forge
REFRESH-INTERVAL;VALUE=DURATION:PT1H
X-Robots-Tag:noindex
X-PUBLISHED-TTL:PT1H
BEGIN:VTIMEZONE
TZID:Europe/Vilnius
BEGIN:DAYLIGHT
TZOFFSETFROM:+0200
TZOFFSETTO:+0300
TZNAME:EEST
DTSTART:20260329T010000
END:DAYLIGHT
BEGIN:STANDARD
TZOFFSETFROM:+0300
TZOFFSETTO:+0200
TZNAME:EET
DTSTART:20261025T010000
END:STANDARD
END:VTIMEZONE
BEGIN:VTIMEZONE
TZID:Europe/Warsaw
BEGIN:DAYLIGHT
TZOFFSETFROM:+0100
TZOFFSETTO:+0200
TZNAME:CEST
DTSTART:20260329T010000
END:DAYLIGHT
BEGIN:STANDARD
TZOFFSETFROM:+0200
TZOFFSETTO:+0100
TZNAME:CET
DTSTART:20261025T010000
END:STANDARD
END:VTIMEZONE
BEGIN:VEVENT
DTSTART;VALUE=DATE:20260119
DTEND;VALUE=DATE:20260120
DTSTAMP:20260425T055038
CREATED:20260120T073456Z
LAST-MODIFIED:20260120T073456Z
UID:10000420-1768780800-1768867199@sigiforge.com
SUMMARY:Vilnius HEMA Open 2026
DESCRIPTION:Event Organizers:\nFreifechter Von Vilnius\nKalavijo meistrystės mokykla\nKardo valdymo mokykla “Husaras”\nVilnius Espada Ropera\nHospitalierių Ordinas \nEvent Sponsors:\nVytis Historical Fencing\nSigi Forge \nTournament Categories:\nWomen’s Singlestick\nOPEN Sabre\nOPEN Sword & Buckler\nOPEN Single Rapier \nEvent results will be uploaded to HEMA Scorecard and HEMA Ratings
URL:https://sigiforge.com/event/vilnius-hema-open-2026/
LOCATION:KY
ATTACH;FMTTYPE=image/jpeg:https://sigiforge.com/wp-content/uploads/2026/01/618918355_4427866037441281_6251077580410129042_n.jpg
END:VEVENT
BEGIN:VEVENT
DTSTART;TZID=Europe/Warsaw:20260124T080000
DTEND;TZID=Europe/Warsaw:20260125T170000
DTSTAMP:20260425T055038
CREATED:20260105T112106Z
LAST-MODIFIED:20260105T112106Z
UID:10000411-1769241600-1769360400@sigiforge.com
SUMMARY:Swordmasters Cup Grand Finale 2025
DESCRIPTION:🏆 SWORDMASTERS CUP – FINAL TOURNAMENT OF THE 2025 SEASON! 🏆 \nDear fencers! \nWe are pleased to invite you to the last tournament of this season’s SWORDMASTERS CUP\, which will take place on January 24-25\, 2026\, in Wrocław\, Poland! \nThe competition will feature the following categories: \n⚔ RAPIER & DAGGER – OPEN & WOMEN’S categories\n🗡 SMALLSWORD – OPEN & WOMEN’S categories\n👀 Surprise category ! \n📽 Want to see how previous editions looked?\nCheck out our video and photo gallery: \n🔗 Link to media \nhttps://fb.watch/xubwXScFJc/ \nhttps://www.facebook.com/permalink.php?story_fbid=1003151307954056&id=100047775885738&rdid=1Xl8ExLLmC5mjAoH\n📌 Registration is now opened: https://docs.google.com/forms/d/e/1FAIpQLSfIn1cb3bOtHBnQyOY-1wbGScjXVCytLBV9fY1ZqHD62yqShA/viewform \n📜 Rules and further details coming soon! \nSee you on the piste! ⚔\nSTAY TUNED!
URL:https://sigiforge.com/event/swordmasters-cup-grand-finale-2025/
LOCATION:KY
ATTACH;FMTTYPE=image/jpeg:https://sigiforge.com/wp-content/uploads/2026/01/SM425.jpg
END:VEVENT
END:VCALENDAR