BEGIN:VCALENDAR
VERSION:2.0
PRODID:-//Sigi Forge - ECPv6.10.2//NONSGML v1.0//EN
CALSCALE:GREGORIAN
METHOD:PUBLISH
X-ORIGINAL-URL:https://sigiforge.com
X-WR-CALDESC:Events for Sigi Forge
REFRESH-INTERVAL;VALUE=DURATION:PT1H
X-Robots-Tag:noindex
X-PUBLISHED-TTL:PT1H
BEGIN:VTIMEZONE
TZID:America/Edmonton
BEGIN:DAYLIGHT
TZOFFSETFROM:-0700
TZOFFSETTO:-0600
TZNAME:MDT
DTSTART:20250309T090000
END:DAYLIGHT
BEGIN:STANDARD
TZOFFSETFROM:-0600
TZOFFSETTO:-0700
TZNAME:MST
DTSTART:20251102T080000
END:STANDARD
END:VTIMEZONE
BEGIN:VTIMEZONE
TZID:Europe/Bratislava
BEGIN:DAYLIGHT
TZOFFSETFROM:+0100
TZOFFSETTO:+0200
TZNAME:CEST
DTSTART:20250330T010000
END:DAYLIGHT
BEGIN:STANDARD
TZOFFSETFROM:+0200
TZOFFSETTO:+0100
TZNAME:CET
DTSTART:20251026T010000
END:STANDARD
END:VTIMEZONE
BEGIN:VTIMEZONE
TZID:Europe/Prague
BEGIN:DAYLIGHT
TZOFFSETFROM:+0100
TZOFFSETTO:+0200
TZNAME:CEST
DTSTART:20250330T010000
END:DAYLIGHT
BEGIN:STANDARD
TZOFFSETFROM:+0200
TZOFFSETTO:+0100
TZNAME:CET
DTSTART:20251026T010000
END:STANDARD
END:VTIMEZONE
BEGIN:VTIMEZONE
TZID:Europe/Belgrade
BEGIN:DAYLIGHT
TZOFFSETFROM:+0100
TZOFFSETTO:+0200
TZNAME:CEST
DTSTART:20250330T010000
END:DAYLIGHT
BEGIN:STANDARD
TZOFFSETFROM:+0200
TZOFFSETTO:+0100
TZNAME:CET
DTSTART:20251026T010000
END:STANDARD
END:VTIMEZONE
BEGIN:VTIMEZONE
TZID:America/Toronto
BEGIN:DAYLIGHT
TZOFFSETFROM:-0500
TZOFFSETTO:-0400
TZNAME:EDT
DTSTART:20250309T070000
END:DAYLIGHT
BEGIN:STANDARD
TZOFFSETFROM:-0400
TZOFFSETTO:-0500
TZNAME:EST
DTSTART:20251102T060000
END:STANDARD
END:VTIMEZONE
BEGIN:VEVENT
DTSTART;VALUE=DATE:20251004
DTEND;VALUE=DATE:20251006
DTSTAMP:20260425T123200
CREATED:20250816T062326Z
LAST-MODIFIED:20250816T062326Z
UID:10000370-1759536000-1759708799@sigiforge.com
SUMMARY:Nordschlag 2025
DESCRIPTION:The Academy of European Swordsmanship welcomes you to Nordschlag 2025\, which will be held in Edmonton Alberta at the Shriner’s Hall (14511 142 St NW\, Edmonton\, AB)! \nTournament includes open longsword\, random mixed weapons\, rapier\, and women’s longsword \nWorkshop taught by Phil Swift:\nTwo Masters\, Two Paths: Exploring Divergent Fencing Traditions \nTake a deep dive into two worlds of swordplay. In this unique class\, we’ll explore and compare the tactical decision-making of two historical fencing masters from different countries and eras: Francesco Lorenz de Rada (Spain\, 1705) and Nicoletto Giganti (Italy\, 1606). \nThrough guided drills and discussion\, we’ll unpack the distinct decision trees each master presents — analyzing how their approaches to timing\, distance\, and initiative reflect their cultural and martial priorities. \nTournament: Oct 4\nWorkshop: Oct 5
URL:https://sigiforge.com/event/nordschlag-2025/2025-10-04/1/
LOCATION:The Shriner’s Hall located at 14511 142 St NW\, Edmonton\, AB in Edmonton Alberta\, 4620 105 Ave\, Edmonton\, Alberta\, Canada
CATEGORIES:Longsword Open,Longsword Women,Rapier,Workshop
ATTACH;FMTTYPE=image/png:https://sigiforge.com/wp-content/uploads/2025/08/Nordschlag-2025-drawing-1.png
ORGANIZER;CN="Academy of European Swordsmanship":MAILTO:johanus@swordsmanship.ca
END:VEVENT
BEGIN:VEVENT
DTSTART;VALUE=DATE:20251004
DTEND;VALUE=DATE:20251005
DTSTAMP:20260425T123200
CREATED:20250816T062326Z
LAST-MODIFIED:20250816T062326Z
UID:10000371-1759564800-1759597200@sigiforge.com
SUMMARY:Nordschlag 2025
DESCRIPTION:The Academy of European Swordsmanship welcomes you to Nordschlag 2025\, which will be held in Edmonton Alberta at the Shriner’s Hall (14511 142 St NW\, Edmonton\, AB)! \nTournament includes open longsword\, random mixed weapons\, rapier\, and women’s longsword \nWorkshop taught by Phil Swift:\nTwo Masters\, Two Paths: Exploring Divergent Fencing Traditions \nTake a deep dive into two worlds of swordplay. In this unique class\, we’ll explore and compare the tactical decision-making of two historical fencing masters from different countries and eras: Francesco Lorenz de Rada (Spain\, 1705) and Nicoletto Giganti (Italy\, 1606). \nThrough guided drills and discussion\, we’ll unpack the distinct decision trees each master presents — analyzing how their approaches to timing\, distance\, and initiative reflect their cultural and martial priorities. \nTournament: Oct 4\nWorkshop: Oct 5
URL:https://sigiforge.com/event/nordschlag-2025/2025-10-04/2/
LOCATION:The Shriner’s Hall located at 14511 142 St NW\, Edmonton\, AB in Edmonton Alberta\, 4620 105 Ave\, Edmonton\, Alberta\, Canada
CATEGORIES:Longsword Open,Longsword Women,Rapier,Workshop
ATTACH;FMTTYPE=image/png:https://sigiforge.com/wp-content/uploads/2025/08/Nordschlag-2025-drawing-1.png
ORGANIZER;CN="Academy of European Swordsmanship":MAILTO:johanus@swordsmanship.ca
END:VEVENT
BEGIN:VEVENT
DTSTART;TZID=America/Edmonton:20251004T080000
DTEND;TZID=America/Edmonton:20251004T170000
DTSTAMP:20260425T123200
CREATED:20250816T062333Z
LAST-MODIFIED:20250816T062333Z
UID:10000368-1759564800-1759597200@sigiforge.com
SUMMARY:Nordschlag Tournament & Workshop 2025
DESCRIPTION:Tournament: Oct 4\nWorkshop: Oct 5\nTournament includes open longsword\, random mixed weapons\, rapier\, and women’s longsword \nWorkshop taught by Phil Swift:\n“Two Masters\, Two Paths: Exploring Divergent Fencing Traditions”\nTake a deep dive into two worlds of swordplay. In this unique class\, we’ll explore and compare the tactical decision-making of two historical fencing masters from different countries and eras: Francesco Lorenz de Rada (Spain\, 1705) and Nicoletto Giganti (Italy\, 1606).\nThrough guided drills and discussion\, we’ll unpack the distinct decision trees each master presents — analyzing how their approaches to timing\, distance\, and initiative reflect their cultural and martial priorities. \nRegistration and further information: https://forms.gle/jsTYaEC3NqnpfJP67
URL:https://sigiforge.com/event/nordschlag-tournament-workshop-2025/2025-10-04/1/
LOCATION:Shriner Hall\, Edmonton\, Canada\, 14511-142nd Street NW\, Edmonton\, Alberta\, T6V 1H8\, Canada
CATEGORIES:Longsword Open,Longsword Women,Mixed Steel,Rapier,Workshop
ATTACH;FMTTYPE=image/png:https://sigiforge.com/wp-content/uploads/2025/08/Nordschlag-2025-drawing.png
ORGANIZER;CN="The Academy of European Swordsmanship":MAILTO:johanus@swordsmanship.ca
END:VEVENT
BEGIN:VEVENT
DTSTART;TZID=Europe/Bratislava:20251004T080000
DTEND;TZID=Europe/Bratislava:20251005T190000
DTSTAMP:20260425T123200
CREATED:20250717T093300Z
LAST-MODIFIED:20250717T093300Z
UID:10000360-1759564800-1759690800@sigiforge.com
SUMMARY:III LAKE HEMA
DESCRIPTION:Biggest Italian Tournament\, located in Como \nLongsword Open and Women\nRapier Open and Women\nSabre Open and Women\nSidesword Open and Women
URL:https://sigiforge.com/event/iii-lake-hema/
LOCATION:Villa Guardia (Co) 22079\, Via Tevere 30\, Via Tevere 30\, Villaguardia\, Como\, 22079\, Italy
CATEGORIES:Longsword Open,Longsword Women,Rapier,Saber,Single sword
ATTACH;FMTTYPE=image/jpeg:https://sigiforge.com/wp-content/uploads/2025/07/Copertina.jpeg
END:VEVENT
BEGIN:VEVENT
DTSTART;TZID=America/Edmonton:20251004T110000
DTEND;TZID=America/Edmonton:20251006T170000
DTSTAMP:20260425T123200
CREATED:20250816T062333Z
LAST-MODIFIED:20250816T062333Z
UID:10000372-1759575600-1759770000@sigiforge.com
SUMMARY:Nordschlag Tournament & Workshop 2025
DESCRIPTION:Tournament: Oct 4\nWorkshop: Oct 5\nTournament includes open longsword\, random mixed weapons\, rapier\, and women’s longsword \nWorkshop taught by Phil Swift:\n“Two Masters\, Two Paths: Exploring Divergent Fencing Traditions”\nTake a deep dive into two worlds of swordplay. In this unique class\, we’ll explore and compare the tactical decision-making of two historical fencing masters from different countries and eras: Francesco Lorenz de Rada (Spain\, 1705) and Nicoletto Giganti (Italy\, 1606).\nThrough guided drills and discussion\, we’ll unpack the distinct decision trees each master presents — analyzing how their approaches to timing\, distance\, and initiative reflect their cultural and martial priorities. \nRegistration and further information: https://forms.gle/jsTYaEC3NqnpfJP67
URL:https://sigiforge.com/event/nordschlag-tournament-workshop-2025/2025-10-04/2/
LOCATION:Shriner Hall\, Edmonton\, Canada\, 14511-142nd Street NW\, Edmonton\, Alberta\, T6V 1H8\, Canada
CATEGORIES:Longsword Open,Longsword Women,Mixed Steel,Rapier,Workshop
ATTACH;FMTTYPE=image/png:https://sigiforge.com/wp-content/uploads/2025/08/Nordschlag-2025-drawing.png
ORGANIZER;CN="The Academy of European Swordsmanship":MAILTO:johanus@swordsmanship.ca
END:VEVENT
BEGIN:VEVENT
DTSTART;VALUE=DATE:20251011
DTEND;VALUE=DATE:20251012
DTSTAMP:20260425T123200
CREATED:20250604T140238Z
LAST-MODIFIED:20250604T140238Z
UID:10000350-1760140800-1760227199@sigiforge.com
SUMMARY:All For One - One For All 2025
DESCRIPTION:🇬🇧 SHŠ Krkavci invites you to a team longsword tournament! \nTeams of 3-4 members compete in the tournament. In the first phase\, the members compete in groups\, similarly to classic tournaments. Based on the group phase results\, a team elimination bracket is arranged\, where the whole teams compete in a relay format similar to the one used in sport fencing. \nDate: 11th October 2025\nVenue: Prague\, specific venue to be announced\nCategory: long sword open\nCapacity: at least 16 teams of 3-4 members\, with a possible increase up to 32 teams\nRegistration: https://forms.gle/VmJ8D9U77581wNph8\nEntry fee: 4500 CZK / 180 € or less\, for the whole team\nRuleset: https://krkavci.cz/en/tournament/afo-ofa-2025/ruleset.pdf \nAll info can also be found at https://krkavci.cz/tournament/afo-ofa-2025\, as well as at the Facebook event https://www.facebook.com/events/1067019321920390. \n🇨🇿 SHŠ Krkavci vás zve na týmový turnaj v dlouhém meči! \nV turnaji se utkají týmy o 3-4 členech. V první fázi turnaje se členové týmů utkají ve skupinách\, podobně jako na klasických turnajích. Na základě výsledků skupin se sestaví týmový eliminační pavouk\, ve kterém již budou soupeřit celé týmy\, a to ve štafetovém formátu podobném tomu\, který se používá ve sportovním šermu. \nDatum: 11.10.2025\nMísto: Praha\, konkrétní místo bude oznámeno\nKategorie: dlouhý meč open\nKapacita: nejméně 16 týmů o 3-4 členech\, možné rozšíření až na 32 týmů\nRegistrace: https://forms.gle/VmJ8D9U77581wNph8\nStartovné: 4500 Kč / 180 € nebo méně\, za celý tým\nPravidla: https://krkavci.cz/cs/tournament/afo-ofa-2025/pravidla.pdf \nVeškeré aktuální informace jsou také na https://krkavci.cz/tournament/afo-ofa-2025 a na Facebookové události https://www.facebook.com/events/1067019321920390.
URL:https://sigiforge.com/event/all-for-one-one-for-all-2025/
LOCATION:KY
CATEGORIES:Longsword Open
ATTACH;FMTTYPE=image/png:https://sigiforge.com/wp-content/uploads/2025/06/afoofa-logo.png
ORGANIZER;CN="SH%C5%A0 Krkavci":MAILTO:velitel@krkavci.cz
END:VEVENT
BEGIN:VEVENT
DTSTART;VALUE=DATE:20251011
DTEND;VALUE=DATE:20251012
DTSTAMP:20260425T123200
CREATED:20250806T111147Z
LAST-MODIFIED:20250806T111147Z
UID:10000366-1760140800-1760227199@sigiforge.com
SUMMARY:Steel's Edge
DESCRIPTION:Steel’s Edge is an international HEMA tournament that will take place on October 11th\, 2025\, in Belgrade\, at Drinka Pavlović Elementary School\, located at Kosovska 19\, Stari Grad\, Belgrade. \nOrganised by the Belgrade Fencing Academy\, a Serbian school of historical fencing with long-standing tradition\, the event aims to unite fencers who want to test their skills and connect with fellow enthusiasts in a competitive setting. \nThis is a one-day event\, featuring the following disciplines: \n– Smallsword\n– Mixed (sabre\, arming sword\, and sidesword) \nIf you have any questions\, feel free to contact us at: steelsedgetournament@gmail.com \nFacebook event: https://www.facebook.com/share/1Cbx7tkPBR/ \nInstagram page: https://www.instagram.com/steelsedgetournament
URL:https://sigiforge.com/event/steels-edge/
LOCATION:OŠ “Drinka Pavlović”\, Kosovska 19\, Beograd\, Belgrade\, 11000\, Serbia\, Serbia
CATEGORIES:HEMA Ratings,Mixed Steel,Single sword,Tournament
ATTACH;FMTTYPE=image/jpeg:https://sigiforge.com/wp-content/uploads/2025/08/Steels-Edge_FB-cover_small.jpg
ORGANIZER;CN="Belgrade fencing academy":MAILTO:steelsedgetournament@gmail.com
END:VEVENT
BEGIN:VEVENT
DTSTART;VALUE=DATE:20251018
DTEND;VALUE=DATE:20251019
DTSTAMP:20260425T123200
CREATED:20250724T064222Z
LAST-MODIFIED:20250923T152913Z
UID:10000362-1760745600-1760831999@sigiforge.com
SUMMARY:Alpeadria HF League - Zagreb
DESCRIPTION:At last\, we can announce the opening stage of the (currently)only international HEMA league! \nHEMA from Italy\, Austria and Croatia join together in a new season of the Alpeadria HF League\, starting in Zagreb\, October 18th.\nWith six stages; \n– 18/10/2025 ZAGREB Longsword / Sidesword\n– 30/11/2025 BELLUNO Longsword / Sabre\n– 18/01/2026 VERONA Sidesword & Buckler / Rapier & Dagger\n– 22/02/2026 CONEGLIANO Rapier & Dagger / Sabre\n– 22/03/2026 INNSBRUCK Longsword / Rapier\n– 19/04/2026 PADOVA Sidesword & Buckler / Sabre \nand a final\, triumphal stage\, kept in secrecy\,\nin which only a skillful few will meet\nto decide the victorious among the victorious. \nIn Zagreb\, the fencers compete in the following disciplines; \nMen Longsword\nWomen Longsword\nMen Sidesword\nWomen Sidesword \n50 participants per category\nRegistration opens immediately; \nWe hope to see you participate and enrich this new endeavour of historical fencing \n\nRegistration link; \nhttps://www.cognitoforms.com/AccademiaNazionaleSSDRL/AlpeadriaHFLeagueZagreb \n\nThe link to our facebook event to remain informed;\nhttps://www.facebook.com/share/16anCLXfeR/\nFor any questions\,\nfeel free to contact us on our page\,\nor at info@alpeadrialeague.com
URL:https://sigiforge.com/event/alpeadria-hf-league-zagreb/
LOCATION:Av. Većeslava Holjevca 17\, Av. Većeslava Holjevca 17\, Zagreb\, 10010\, Croatia (Local Name: Hrvatska)
CATEGORIES:Longsword Open,Sidesword
ATTACH;FMTTYPE=image/png:https://sigiforge.com/wp-content/uploads/2025/07/IMG_20250722_120759_744.png
ORGANIZER;CN="Ars Gladiatoria Zagreb":MAILTO:info@arsgladiatoria.hr
END:VEVENT
BEGIN:VEVENT
DTSTART;VALUE=DATE:20251025
DTEND;VALUE=DATE:20251027
DTSTAMP:20260425T123200
CREATED:20250903T190955Z
LAST-MODIFIED:20250903T190955Z
UID:10000374-1761350400-1761523199@sigiforge.com
SUMMARY:Warriors of Wisdom 🍂
DESCRIPTION:“Historical Martial Arts Seminars to Sharpen Your Most Important Weapon” \nWarriors of Wisdom 2025 is Ironwood Sword School’s inaugural workshop weekend\, featuring lessons on various topics surrounding HMA and adjacent interests from around the world\, as well as vendors\, door prizes\, free sparring\, and other activities for beginners and long term practitioners alike to enjoy!
URL:https://sigiforge.com/event/warriors-of-wisdom-%f0%9f%8d%82/
LOCATION:Kingston East Community Centre\, 779 Highway 15\, Kingston\, Ontario\, K7L 4V3\, Canada
CATEGORIES:Lecture,Training camp,Workshop
ATTACH;FMTTYPE=image/png:https://sigiforge.com/wp-content/uploads/2025/09/WOW-logo-x3_Full-colour.png
ORGANIZER;CN="Ironwood Sword School":MAILTO:ironwoodswords@gmail.com
END:VEVENT
BEGIN:VEVENT
DTSTART;TZID=Europe/Bratislava:20251025T080000
DTEND;TZID=Europe/Bratislava:20251026T150000
DTSTAMP:20260425T123200
CREATED:20250422T194252Z
LAST-MODIFIED:20250422T194252Z
UID:10000332-1761379200-1761490800@sigiforge.com
SUMMARY:Tyrnhaw 2025: The Right (of) Way
DESCRIPTION:Tyrnhaw is back! Held in the beautiful city of Trnava\, this event is all about showcasing the art of fencing. Fighters from across the world will gather for a tournament full of intense matches\, big pools\, and lots of action.\nWith referees keeping things fair under the watchful eye of the Slovak Federation\, you can expect exciting fights and a great atmosphere. The best of the best will have their names added to the Tyrnhaw Steel Wheel of Fame\, earning a lasting place in tournament history.\nAll participants are welcomed to join us also for sparring session and workshops on following day.\nCategories.\n🏆 Longsword Men (LSM) – 126 spots\n🏆 Longsword Women (LSW) – 24 spots\n🏆 Rapier & Dagger (R&D) – 24 spots\nSchedule\nTBA\nMore info coming soon – stay tuned!
URL:https://sigiforge.com/event/tyrnhaw-2025-the-right-of-way/
LOCATION:Mestská športová hala – Trnava\, Rybníkova 15\, Trnava\, 91701\, Slovakia (Slovak Republic)
CATEGORIES:HEMA Ratings,Longsword Men,Longsword Women,Rapier and Dagger,Tournament,Workshop
ATTACH;FMTTYPE=image/jpeg:https://sigiforge.com/wp-content/uploads/2025/04/486763900_709397128079406_443298447113035461_n.jpg
ORGANIZER;CN="Trnavsk%C3%BD %C5%A1ermiarsky cech":MAILTO:info@tsc.sk
END:VEVENT
END:VCALENDAR