BEGIN:VCALENDAR
VERSION:2.0
PRODID:-//Sigi Forge - ECPv6.10.2//NONSGML v1.0//EN
CALSCALE:GREGORIAN
METHOD:PUBLISH
X-WR-CALNAME:Sigi Forge
X-ORIGINAL-URL:https://sigiforge.com
X-WR-CALDESC:Events for Sigi Forge
REFRESH-INTERVAL;VALUE=DURATION:PT1H
X-Robots-Tag:noindex
X-PUBLISHED-TTL:PT1H
BEGIN:VTIMEZONE
TZID:Europe/Paris
BEGIN:DAYLIGHT
TZOFFSETFROM:+0100
TZOFFSETTO:+0200
TZNAME:CEST
DTSTART:20250330T010000
END:DAYLIGHT
BEGIN:STANDARD
TZOFFSETFROM:+0200
TZOFFSETTO:+0100
TZNAME:CET
DTSTART:20251026T010000
END:STANDARD
END:VTIMEZONE
BEGIN:VTIMEZONE
TZID:Europe/Rome
BEGIN:DAYLIGHT
TZOFFSETFROM:+0100
TZOFFSETTO:+0200
TZNAME:CEST
DTSTART:20250330T010000
END:DAYLIGHT
BEGIN:STANDARD
TZOFFSETFROM:+0200
TZOFFSETTO:+0100
TZNAME:CET
DTSTART:20251026T010000
END:STANDARD
END:VTIMEZONE
BEGIN:VTIMEZONE
TZID:America/Chicago
BEGIN:DAYLIGHT
TZOFFSETFROM:-0600
TZOFFSETTO:-0500
TZNAME:CDT
DTSTART:20250309T080000
END:DAYLIGHT
BEGIN:STANDARD
TZOFFSETFROM:-0500
TZOFFSETTO:-0600
TZNAME:CST
DTSTART:20251102T070000
END:STANDARD
END:VTIMEZONE
BEGIN:VTIMEZONE
TZID:Europe/Bratislava
BEGIN:DAYLIGHT
TZOFFSETFROM:+0100
TZOFFSETTO:+0200
TZNAME:CEST
DTSTART:20250330T010000
END:DAYLIGHT
BEGIN:STANDARD
TZOFFSETFROM:+0200
TZOFFSETTO:+0100
TZNAME:CET
DTSTART:20251026T010000
END:STANDARD
END:VTIMEZONE
BEGIN:VEVENT
DTSTART;TZID=Europe/Paris:20250201T090000
DTEND;TZID=Europe/Paris:20250202T170000
DTSTAMP:20260426T014958
CREATED:20241026T214150Z
LAST-MODIFIED:20241026T214150Z
UID:10000260-1738400400-1738515600@sigiforge.com
SUMMARY:Open du Port de la Lune/ Bordeaux HEMA Open 2025
DESCRIPTION:Les samedi 1er et dimanche 2 Février 2025 aura lieu la première édition de l’Open du Port de Lune/ Bordeaux HEMA Open 2025 organisé par “BATESTA”\, à Bordeaux. \nNous vous convions pour un week-end de compétition autours de 3 armes phares: \n– L’épée longue\n– L’épée bocle\n– Le sabre militaire \nCe tout premier tournoi organisé par notre club se déroulera sur 2 jours. Les inscriptions\, réglements\, et autres renseignements utiles seront bientôt communiqués\n______________________________________________________________________ \nOn Saturday 1st and Sunday 2nd February 2025\, the first edition of the Open du Port de Lune/ Bordeaux HEMA Open 2025 will take place\, organized by “BATESTA”\, in Bordeaux. \nWe invite you to a weekend of competition around 3 flagship weapons: \n– Longsword\n– Sword and Buckler\n– Military Saber \nThis very first tournament organized by our club will take place over 2 days. Registrations\, regulations\, and other useful information will be communicated soon.\n______________________________________________________________________ \nLIEU/ PLACE:\nGymnase Nelson Paillou\, 53 Rue Pauline Kergomard\, 33800 BORDEAUX. PS: Le gymnase est situé juste au dessus du BEC ESCRIME/ The gym is located just above BEC ESCRIME
URL:https://sigiforge.com/event/open-du-port-de-la-lune-bordeaux-hema-open-2025/
LOCATION:Gymnase Nelson Paillou\, 53 Rue Pauline Kergormard\, BORDEAUX\, Gironde\, 33800\, France
CATEGORIES:Longsword Open,Saber,Sword and Buckler,Tournament
ATTACH;FMTTYPE=image/jpeg:https://sigiforge.com/wp-content/uploads/2024/10/Open-du-Port-de-la-Lune-2025.jpg
ORGANIZER;CN="Batesta":MAILTO:batesta.bordeaux@gmail.com
END:VEVENT
BEGIN:VEVENT
DTSTART;TZID=Europe/Rome:20250202T080000
DTEND;TZID=Europe/Rome:20250202T200000
DTSTAMP:20260426T014958
CREATED:20250923T152718Z
LAST-MODIFIED:20250923T152718Z
UID:10000266-1738483200-1738526400@sigiforge.com
SUMMARY:Alpeadria HF League - Sgonico/Trieste
DESCRIPTION:Alpeadria HF League opens registrations for the second stage of the Tournament! \nThe Trieste stage on February 2\, 2025\, will feature the following disciplines: \nTwo-Handed Sword Men’s Category (max 50 participants)\nTwo-Handed Sword Women’s Category (no participant limit)\nRapier and Dagger Men’s Category (max 50 participants)\nRapier and Dagger Women’s Category (no participant limit)\nPrice: €20 for each discipline chosen \nSchedule for the day – 02/02/2025:\n8:00 AM – 9:15 AM: Check-in and weapon inspection for Two-Handed Sword\n9:30 AM: Start of Two-Handed Sword Men’s and Women’s Categories\n1:00 PM – 2:00 PM: Check-in and weapon inspection for Rapier and Dagger\n2:15 PM: Start of Rapier and Dagger Men’s and Women’s Categories \nFinals for 1st and 2nd place in both disciplines will take place after the elimination rounds for each discipline. \nVenue: Palazzetto dello Sport\, Sgonico (TS) \nWe look forward to seeing you there! \nAlpeadria HF League
URL:https://sigiforge.com/event/alpeadria-hf-league-sgonico-trieste/
LOCATION:Palazzetto dello Sport\, Sgonico (TS)\, Località Sgonico 69\, Sgonico\, Trieste\, 34010\, Italy
CATEGORIES:Longsword Men,Longsword Women,Rapier and Dagger,Women tournament
ATTACH;FMTTYPE=image/png:https://sigiforge.com/wp-content/uploads/2024/12/bozza_4.png
ORGANIZER;CN="Alpeadria HF League":MAILTO:info@alpeadrialeague.com
END:VEVENT
BEGIN:VEVENT
DTSTART;VALUE=DATE:20250208
DTEND;VALUE=DATE:20250209
DTSTAMP:20260426T014958
CREATED:20250105T200752Z
LAST-MODIFIED:20250105T200752Z
UID:10000269-1738972800-1739059199@sigiforge.com
SUMMARY:Hussar's Honour: Military Sabre & Singlestick Challenge
DESCRIPTION:Join us for a 1 day event featuring both Military sabre and Singlestick Open tournaments hosted by the Nashville School of Historical Fencing \nNSHF will be supplying all singlesticks for use in the competition\, made in-house with leather baskets and rattan sticks. The Military Saber Open will have a weight minimum and maximum\, all sabers must weigh between 720g – 920g and pass the flex test of 30lbs \nMore info including rulesets and reigstration can be found here:\n:https://nashvillehistoricalfencing.tidyhq.com/public/schedule/events/68157-hussar-s-honour-military-sabre-and-singlestick-challenge
URL:https://sigiforge.com/event/hussars-honour-military-sabre-singlestick-challenge/
LOCATION:Russellville High School Gymnasium\, 1101 W 9th St\, Russellville\, KY 42276\, Russellville\, KY\, 42202\, United States
CATEGORIES:Saber,Singlestick
ATTACH;FMTTYPE=image/jpeg:https://sigiforge.com/wp-content/uploads/2025/01/8547748F-ED54-4CC1-8B45-F133ACEDA5EB.jpg
ORGANIZER;CN="Nashville School of Historical Fencing":MAILTO:nashvillehema@gmail.com
END:VEVENT
BEGIN:VEVENT
DTSTART;TZID=Europe/Bratislava:20250222T090000
DTEND;TZID=Europe/Bratislava:20250222T180000
DTSTAMP:20260426T014958
CREATED:20250121T154439Z
LAST-MODIFIED:20250121T154439Z
UID:10000278-1740214800-1740247200@sigiforge.com
SUMMARY:Rotyčí spár 2025
DESCRIPTION:********** CZ ********** \nDovolujeme si Vás pozvat na 4. ročník našeho HEMA turnaje Rotyčí spár 2025.\nTento ročník vás čekají dvě kategorie:\nDlouhý meč open – 48 soutěžících\nRapír + Dýka – 24 soutěžících.\n! Je možné se přihlásit pouze do jedné kategorie ! \nPRAVIDLA\nNarozdíl od obvyklých “česko-slovenských” pravidel budou na tomto turnaji hluboké a mělké cíle.\nhluboký cíl – 2 body\nmělký cíl – 1 bod.\nMělké cíle jsme nastavili od kolen (včetně) níže a od loktů (včetně) dál.\nKompletní pravidla: https://drive.google.com/…/1JQaMlKvgZyN2YGmAwI7ftx…/view \nČAS A MÍSTO\nSobota 22.2.2025 od 9:00 na adrese:\nPolská 2400\, 120 00 Praha 2-Vinohradyhttps://goo.gl/maps/eeUBpMcFMEs1f2ie8 \nREGISTRACE\nBude zahájena: 5.1.2025\nhttps://docs.google.com/…/1FAIpQLScOFSLrKwD…/viewform… \nVSTUPNÉ\nDlouhý meč 900 Kč\nRapír a dýka 1000 Kč – kvůli dýkam které vám poskytneme\nPři odhlášení po 8. 2. 2025 se startovné nevrací. \nPlatba je jenom převodem na účet.\nčíslo účtu: 2101200991/2010\nvariabilní symbol: 20250222\nNázev příjemce: Rotyka z. s\nzpráva pro příjemce: Spar2025– \n********** ENGLISH ********** \nWe’d like to invite you to our fourth HEMA tournament Rotyka Claw 2025.\nThis year we’ll have 2 categories:\nLongsword open – 48 fencers\nRapier and dagger – 24 fencers\n! You can only attend one category ! \nRULESET\nShort version:\nThere are deep and shallow targets.\ndeep targets – 2 points\nshallow targets – 1 point\nShallow targets are from elbow (including) and knee (including) ‘down’.\nEverything else is a deep target.\nComplete ruleset: https://drive.google.com/…/1j8HXAdHyzcyMQ…/view \nREGISTRATION\nOpening at: 5.1.2025\nhttps://docs.google.com/…/1FAIpQLScOFSLrKwD…/viewform… \nPLACE\nTournament will be held on Saturday 22.2.2025 from 9:00 at\nPolská 2400\, 120 00 Praha 2-Vinohradyhttps://goo.gl/maps/eeUBpMcFMEs1f2ie8 \nPAYMENT\nLongsword 35 EUR\nRapier and dagger 40 EUR – because of the daggers we provide\nWe won’t be returning the registration fee if you sign out after the 8. 2. 2025. \nWe allow paying only via bank transfer.\nIBAN: CZ8120100000002101200991\nBIC: FIOBCZPPXXX\nCountry of the recipient’s bank: Czech Republic\nRecipient’s address: Milevska 1120/34\, Krc\, 140 00 Praha\nPayment purpose: Tournament entrance fee\npayee reference: 20250222\nIdentification: Spar2025–
URL:https://sigiforge.com/event/rotyci-spar-2025/
LOCATION:KY
CATEGORIES:Longsword Open,Rapier and Dagger
ATTACH;FMTTYPE=image/jpeg:https://sigiforge.com/wp-content/uploads/2025/01/Rotyci-spar.jpg
END:VEVENT
END:VCALENDAR