BEGIN:VCALENDAR
VERSION:2.0
PRODID:-//Sigi Forge - ECPv6.10.2//NONSGML v1.0//EN
CALSCALE:GREGORIAN
METHOD:PUBLISH
X-ORIGINAL-URL:https://sigiforge.com
X-WR-CALDESC:Events for Sigi Forge
REFRESH-INTERVAL;VALUE=DURATION:PT1H
X-Robots-Tag:noindex
X-PUBLISHED-TTL:PT1H
BEGIN:VTIMEZONE
TZID:Europe/Warsaw
BEGIN:DAYLIGHT
TZOFFSETFROM:+0100
TZOFFSETTO:+0200
TZNAME:CEST
DTSTART:20270328T010000
END:DAYLIGHT
BEGIN:STANDARD
TZOFFSETFROM:+0200
TZOFFSETTO:+0100
TZNAME:CET
DTSTART:20271031T010000
END:STANDARD
BEGIN:DAYLIGHT
TZOFFSETFROM:+0100
TZOFFSETTO:+0200
TZNAME:CEST
DTSTART:20280326T010000
END:DAYLIGHT
BEGIN:STANDARD
TZOFFSETFROM:+0200
TZOFFSETTO:+0100
TZNAME:CET
DTSTART:20281029T010000
END:STANDARD
END:VTIMEZONE
BEGIN:VEVENT
DTSTART;TZID=Europe/Warsaw:20270604T150000
DTEND;TZID=Europe/Warsaw:20270606T180000
DTSTAMP:20260425T174906
CREATED:20240402T113729Z
LAST-MODIFIED:20240402T113731Z
UID:10000203-1812121200-1812304800@sigiforge.com
SUMMARY:Black Horns Cup 2024
DESCRIPTION:Black Horns Cup is a cyclical HEMA tournament organized since 2018\, part of the Polish FEDER League. \nWorkshops and competitions:\n– Open Longsword\n– Open Sabre\n– Open Rapier & Dagger\n– Open Sword & Buckler\n– Women’s competition (weapon TBA)\n– Cutting competition \nhttps://www.blackhornscup.com/en
URL:https://sigiforge.com/event/black-horns-cup-2023-2/2027-06-04/
LOCATION:Kórnickie Centrum Rekreacji i Sportu OAZA\, Ul. Ignacego Krasickiego 1\, Kórnik\, 62-035\, Poland
CATEGORIES:Longsword Open,Rapier and Dagger,Saber,Sword and Buckler,Women tournament,Workshop
ATTACH;FMTTYPE=image/jpeg:https://sigiforge.com/wp-content/uploads/2022/12/BHC-tlo-2023.jpg
ORGANIZER;CN="Black Horns Cup":MAILTO:info@blackhornscup.com
END:VEVENT
BEGIN:VEVENT
DTSTART;TZID=Europe/Warsaw:20280602T150000
DTEND;TZID=Europe/Warsaw:20280604T180000
DTSTAMP:20260425T174906
CREATED:20240402T113729Z
LAST-MODIFIED:20240402T113731Z
UID:10000204-1843570800-1843754400@sigiforge.com
SUMMARY:Black Horns Cup 2024
DESCRIPTION:Black Horns Cup is a cyclical HEMA tournament organized since 2018\, part of the Polish FEDER League. \nWorkshops and competitions:\n– Open Longsword\n– Open Sabre\n– Open Rapier & Dagger\n– Open Sword & Buckler\n– Women’s competition (weapon TBA)\n– Cutting competition \nhttps://www.blackhornscup.com/en
URL:https://sigiforge.com/event/black-horns-cup-2023-2/2028-06-02/
LOCATION:Kórnickie Centrum Rekreacji i Sportu OAZA\, Ul. Ignacego Krasickiego 1\, Kórnik\, 62-035\, Poland
CATEGORIES:Longsword Open,Rapier and Dagger,Saber,Sword and Buckler,Women tournament,Workshop
ATTACH;FMTTYPE=image/jpeg:https://sigiforge.com/wp-content/uploads/2022/12/BHC-tlo-2023.jpg
ORGANIZER;CN="Black Horns Cup":MAILTO:info@blackhornscup.com
END:VEVENT
END:VCALENDAR