BEGIN:VCALENDAR
VERSION:2.0
PRODID:-//Sigi Forge - ECPv6.10.2//NONSGML v1.0//EN
CALSCALE:GREGORIAN
METHOD:PUBLISH
X-ORIGINAL-URL:https://sigiforge.com
X-WR-CALDESC:Events for Sigi Forge
REFRESH-INTERVAL;VALUE=DURATION:PT1H
X-Robots-Tag:noindex
X-PUBLISHED-TTL:PT1H
BEGIN:VTIMEZONE
TZID:Europe/Bratislava
BEGIN:DAYLIGHT
TZOFFSETFROM:+0100
TZOFFSETTO:+0200
TZNAME:CEST
DTSTART:20260329T010000
END:DAYLIGHT
BEGIN:STANDARD
TZOFFSETFROM:+0200
TZOFFSETTO:+0100
TZNAME:CET
DTSTART:20261025T010000
END:STANDARD
END:VTIMEZONE
BEGIN:VTIMEZONE
TZID:UTC
BEGIN:STANDARD
TZOFFSETFROM:+0000
TZOFFSETTO:+0000
TZNAME:UTC
DTSTART:20260101T000000
END:STANDARD
END:VTIMEZONE
BEGIN:VTIMEZONE
TZID:America/Denver
BEGIN:DAYLIGHT
TZOFFSETFROM:-0700
TZOFFSETTO:-0600
TZNAME:MDT
DTSTART:20260308T090000
END:DAYLIGHT
BEGIN:STANDARD
TZOFFSETFROM:-0600
TZOFFSETTO:-0700
TZNAME:MST
DTSTART:20261101T080000
END:STANDARD
END:VTIMEZONE
BEGIN:VTIMEZONE
TZID:Europe/Warsaw
BEGIN:DAYLIGHT
TZOFFSETFROM:+0100
TZOFFSETTO:+0200
TZNAME:CEST
DTSTART:20260329T010000
END:DAYLIGHT
BEGIN:STANDARD
TZOFFSETFROM:+0200
TZOFFSETTO:+0100
TZNAME:CET
DTSTART:20261025T010000
END:STANDARD
BEGIN:DAYLIGHT
TZOFFSETFROM:+0100
TZOFFSETTO:+0200
TZNAME:CEST
DTSTART:20270328T010000
END:DAYLIGHT
BEGIN:STANDARD
TZOFFSETFROM:+0200
TZOFFSETTO:+0100
TZNAME:CET
DTSTART:20271031T010000
END:STANDARD
BEGIN:DAYLIGHT
TZOFFSETFROM:+0100
TZOFFSETTO:+0200
TZNAME:CEST
DTSTART:20280326T010000
END:DAYLIGHT
BEGIN:STANDARD
TZOFFSETFROM:+0200
TZOFFSETTO:+0100
TZNAME:CET
DTSTART:20281029T010000
END:STANDARD
END:VTIMEZONE
BEGIN:VEVENT
DTSTART;VALUE=DATE:20260221
DTEND;VALUE=DATE:20260223
DTSTAMP:20260425T173509
CREATED:20260201T142523Z
LAST-MODIFIED:20260201T142523Z
UID:10000425-1771632000-1771804799@sigiforge.com
SUMMARY:Mutinaensis VIII
DESCRIPTION:Mutinaensis VIII – The Tournament of the Rings \nCSEN HEMA Circuit National Tournament February 21st-22nd 2026\n· Sabre (Open)\n· Sabre (Women’s+)\n· Rapier and Dagger (Open)\n· Longsword (Open)\n· Longsword (Women’s+)\n· Sidesword and Dagger (Open) \nREGISTRATIONS OPEN FROM SEPTEMBER 8TH AND UNTIL SEPTEMBER 30TH REGISTERED PARTICIPANTS WILL ENJOY A DISCOUNT ON THE REGISTRATION FEE. (already applied in the final amount at the end of the form) \nThe schedule is indicative and will be finalized after the registration deadline based on the number of participants \nSaturday 21/02\n– 8:00 Check in & weapons check\n– 9:00 SABER OPEN/WOMEN’S\n– 14:00 RAPIER AND DAGGER OPEN\n– 18:00 Awards\n– 20:30 Dinner\nSunday 22/02:\n– 8:00 Check in & weapons check\n– 9:00 LONGSWORD OPEN/WOMEN’S\n– 14.00 SIDESWORD AND DAGGER OPEN\n– 18:00 Awards
URL:https://sigiforge.com/event/mutinaensis-viii/
LOCATION:4 Ville\, Via Giuseppe Barbolini\,\, Modena\, Modena\, 41042\, Italy
CATEGORIES:HEMA Ratings,Longsword Open,Longsword Women,Rapier and Dagger,Saber,Sidesword,Women tournament
END:VEVENT
BEGIN:VEVENT
DTSTART;TZID=UTC:20260328T100000
DTEND;TZID=UTC:20260329T170000
DTSTAMP:20260425T173509
CREATED:20260212T164737Z
LAST-MODIFIED:20260212T164737Z
UID:10000439-1774692000-1774803600@sigiforge.com
SUMMARY:March Hares UK 2026
DESCRIPTION:March Hares UK\, is a two-day event in Exeter\, Devon\, featuring a SIGI Light longsword competition (all swords provided) and a day of longsword workshops and sparring.\nTickets –\nhttps://www.eventbrite.com/…/march-hares-uk-2026…\nRules – https://drive.google.com/…/1Qy1mrOjJR_SrhuTrz…/\nOur New Zealand sister event – https://www.facebook.com/events/25250108701293128
URL:https://sigiforge.com/event/march-hares-uk-2026/
LOCATION:St James School\, St James School\, Exeter\, Devon\, EX48NN\, United Kingdom
CATEGORIES:Advanced Longsword,Beginner tournament,HEMA Ratings,Longsword Men,Longsword Open,Longsword Women,Marginalized Gender Longsword,Tournament,Training camp,URG (Underrepresented Gender) Longsword,Women tournament,Workshop
ATTACH;FMTTYPE=image/jpeg:https://sigiforge.com/wp-content/uploads/2026/02/March-Hares-Banner.jpg
ORGANIZER;CN="Exeter Sparring Group":MAILTO:esgfunds9@gmail.com
END:VEVENT
BEGIN:VEVENT
DTSTART;TZID=Europe/Bratislava:20260411T093000
DTEND;TZID=Europe/Bratislava:20260412T150000
DTSTAMP:20260425T173509
CREATED:20260204T185119Z
LAST-MODIFIED:20260204T185119Z
UID:10000432-1775899800-1776006000@sigiforge.com
SUMMARY:The DAME (Duellists Audacious Masters of Épée)
DESCRIPTION:Welcome to THE DAME\, our women’s historical European martial arts fencing tournament.\nThis competition aims to honour female fencers who are passionate about ancient weapons in a peaceful environment.\nWe aim to showcase the technical skills of the combatants while preserving the tactical integrity of the fights\, in accordance with descriptions from historical sources.\nThe event will also feature two workshops. The first will be given by Anna Stankevich in collaboration with Anna Solovey and will focus on structure and movement. The second will be given by Marcjanna Jelinska and will focus on strategy.
URL:https://sigiforge.com/event/the-dame-duellists-audacious-masters-of-epee/
LOCATION:Marseille\, Marseille\, France
CATEGORIES:HEMA Ratings,Longsword Women,Sidesword,Women tournament
ATTACH;FMTTYPE=image/jpeg:https://sigiforge.com/wp-content/uploads/2026/02/THE-DAME-2026-en.jpg
ORGANIZER;CN="Les Guerriers du Lendemain":MAILTO:contact.lgdl@gmail.com
END:VEVENT
BEGIN:VEVENT
DTSTART;VALUE=DATE:20260418
DTEND;VALUE=DATE:20260419
DTSTAMP:20260425T173509
CREATED:20260128T140435Z
LAST-MODIFIED:20260211T135547Z
UID:10000422-1776470400-1776556799@sigiforge.com
SUMMARY:Sofia Sidesword Spring
DESCRIPTION:You liked it\, you asked for it\, so it is back. This April\, Sofia Sidesword Spring\, the first specialized sidesword+ tournament on the Balkans\, shall give you the chance to prove your prowess once again. \nCategories include:\n* Sidesword\n* Ladies Sidesword\n* Mystery third discipline – HEMA Triathlon or Sidesword Teams. \nSideswords provided!\nSidesword and Ladies Sidesword will be submitted to HEMA Ratings.\nAfterblow ruleset based on the Sofia CrossSwords rules.
URL:https://sigiforge.com/event/sofia-sidesword-spring-2/
LOCATION:Sport Olympique\, Tsvetan Lazarov 13\, Sofia\, Bulgaria\, Tsvetan Lazarov 13\, Sofia\, Bulgaria
CATEGORIES:HEMA Ratings,Sidesword,Tournament,Women tournament
ATTACH;FMTTYPE=image/png:https://sigiforge.com/wp-content/uploads/2026/01/PNG-02.png
ORGANIZER;CN="Freifechter Sofia":MAILTO:freifechtersofia@gmail.com
END:VEVENT
BEGIN:VEVENT
DTSTART;TZID=America/Denver:20260516T090000
DTEND;TZID=America/Denver:20260517T190000
DTSTAMP:20260425T173509
CREATED:20260323T201058Z
LAST-MODIFIED:20260323T201058Z
UID:10000472-1778922000-1779044400@sigiforge.com
SUMMARY:Battle Born VI
DESCRIPTION:Battle Born is Nevada’s premier Historical European Martial Arts tournament\, located in Carson City\, Nevada. In 2026\, Battle Born will host fencers from across North America in steel longsword\, rapier\, broadsword and smallsword competitions. This year we will be hosting workshops from Richard Marsden\, Justinder Singh\, Andrew Bradford\, Sigmund Werndorf\, and John Patterson. \nOur focus is to try to kindle the connections between participants—we are a mid-sized event\, and plan to always remain a mid-sized event\, with competitors who come from all across the US & Canada to compete and participate in classes\, and our goal is to foster opportunities to collaborate\, train together\, and build relationships. \nOur tournaments use a unique ruleset that helps to bring out historical fencing while remaining simple enough to allow our judges to focus on judging. \nWe hand-pick our judges and we pay them professional wages. We take judging seriously.
URL:https://sigiforge.com/event/battle-born-vi/
LOCATION:Carson City Community Center\, 851 E. William St\, Carson City\, NV\, United States
CATEGORIES:Broadsword,Longsword Open,Rapier,Women tournament
ATTACH;FMTTYPE=image/jpeg:https://sigiforge.com/wp-content/uploads/2026/03/c0aa4251-eb53-41dc-8003-57b7fe5631ac-scaled.jpg
GEO:39.1697396;-119.760157
X-APPLE-STRUCTURED-LOCATION;VALUE=URI;X-ADDRESS=Carson City Community Center 851 E. William St Carson City NV United States;X-APPLE-RADIUS=500;X-TITLE=851 E. William St:geo:-119.760157,39.1697396
END:VEVENT
BEGIN:VEVENT
DTSTART;TZID=Europe/Warsaw:20260605T150000
DTEND;TZID=Europe/Warsaw:20260607T180000
DTSTAMP:20260425T173509
CREATED:20240402T113729Z
LAST-MODIFIED:20240402T113731Z
UID:10000202-1780671600-1780855200@sigiforge.com
SUMMARY:Black Horns Cup 2024
DESCRIPTION:Black Horns Cup is a cyclical HEMA tournament organized since 2018\, part of the Polish FEDER League. \nWorkshops and competitions:\n– Open Longsword\n– Open Sabre\n– Open Rapier & Dagger\n– Open Sword & Buckler\n– Women’s competition (weapon TBA)\n– Cutting competition \nhttps://www.blackhornscup.com/en
URL:https://sigiforge.com/event/black-horns-cup-2023-2/2026-06-05/
LOCATION:Kórnickie Centrum Rekreacji i Sportu OAZA\, Ul. Ignacego Krasickiego 1\, Kórnik\, 62-035\, Poland
CATEGORIES:Longsword Open,Rapier and Dagger,Saber,Sword and Buckler,Women tournament,Workshop
ATTACH;FMTTYPE=image/jpeg:https://sigiforge.com/wp-content/uploads/2022/12/BHC-tlo-2023.jpg
ORGANIZER;CN="Black Horns Cup":MAILTO:info@blackhornscup.com
END:VEVENT
BEGIN:VEVENT
DTSTART;VALUE=DATE:20260919
DTEND;VALUE=DATE:20260921
DTSTAMP:20260425T173509
CREATED:20260414T152816Z
LAST-MODIFIED:20260414T152816Z
UID:10000483-1789776000-1789948799@sigiforge.com
SUMMARY:Vindobona Bosch 2026
DESCRIPTION:Come fence with us in the beautiful late summer city of Vienna in the heart of Europe!\nWe will have Longsword and Sabre in open and womens categories and a Longsword mixed Teams competition!
URL:https://sigiforge.com/event/vindobona-bosch-2026/
LOCATION:Vienna\, Wiederänders\, Vienna\, Vienna\, Austria
CATEGORIES:HEMA Ratings,Longsword Open,Longsword Women,Saber,Tournament,Women tournament
ATTACH;FMTTYPE=image/png:https://sigiforge.com/wp-content/uploads/2026/04/vind.weis_.mit_.hintergrund.4z3.png
ORGANIZER;CN="Equinox":MAILTO:equinox.fechten@gmail.com
END:VEVENT
BEGIN:VEVENT
DTSTART;TZID=Europe/Warsaw:20270604T150000
DTEND;TZID=Europe/Warsaw:20270606T180000
DTSTAMP:20260425T173509
CREATED:20240402T113729Z
LAST-MODIFIED:20240402T113731Z
UID:10000203-1812121200-1812304800@sigiforge.com
SUMMARY:Black Horns Cup 2024
DESCRIPTION:Black Horns Cup is a cyclical HEMA tournament organized since 2018\, part of the Polish FEDER League. \nWorkshops and competitions:\n– Open Longsword\n– Open Sabre\n– Open Rapier & Dagger\n– Open Sword & Buckler\n– Women’s competition (weapon TBA)\n– Cutting competition \nhttps://www.blackhornscup.com/en
URL:https://sigiforge.com/event/black-horns-cup-2023-2/2027-06-04/
LOCATION:Kórnickie Centrum Rekreacji i Sportu OAZA\, Ul. Ignacego Krasickiego 1\, Kórnik\, 62-035\, Poland
CATEGORIES:Longsword Open,Rapier and Dagger,Saber,Sword and Buckler,Women tournament,Workshop
ATTACH;FMTTYPE=image/jpeg:https://sigiforge.com/wp-content/uploads/2022/12/BHC-tlo-2023.jpg
ORGANIZER;CN="Black Horns Cup":MAILTO:info@blackhornscup.com
END:VEVENT
BEGIN:VEVENT
DTSTART;TZID=Europe/Warsaw:20280602T150000
DTEND;TZID=Europe/Warsaw:20280604T180000
DTSTAMP:20260425T173509
CREATED:20240402T113729Z
LAST-MODIFIED:20240402T113731Z
UID:10000204-1843570800-1843754400@sigiforge.com
SUMMARY:Black Horns Cup 2024
DESCRIPTION:Black Horns Cup is a cyclical HEMA tournament organized since 2018\, part of the Polish FEDER League. \nWorkshops and competitions:\n– Open Longsword\n– Open Sabre\n– Open Rapier & Dagger\n– Open Sword & Buckler\n– Women’s competition (weapon TBA)\n– Cutting competition \nhttps://www.blackhornscup.com/en
URL:https://sigiforge.com/event/black-horns-cup-2023-2/2028-06-02/
LOCATION:Kórnickie Centrum Rekreacji i Sportu OAZA\, Ul. Ignacego Krasickiego 1\, Kórnik\, 62-035\, Poland
CATEGORIES:Longsword Open,Rapier and Dagger,Saber,Sword and Buckler,Women tournament,Workshop
ATTACH;FMTTYPE=image/jpeg:https://sigiforge.com/wp-content/uploads/2022/12/BHC-tlo-2023.jpg
ORGANIZER;CN="Black Horns Cup":MAILTO:info@blackhornscup.com
END:VEVENT
END:VCALENDAR