BEGIN:VCALENDAR
VERSION:2.0
PRODID:-//Sigi Forge - ECPv6.10.2//NONSGML v1.0//EN
CALSCALE:GREGORIAN
METHOD:PUBLISH
X-WR-CALNAME:Sigi Forge
X-ORIGINAL-URL:https://sigiforge.com
X-WR-CALDESC:Events for Sigi Forge
REFRESH-INTERVAL;VALUE=DURATION:PT1H
X-Robots-Tag:noindex
X-PUBLISHED-TTL:PT1H
BEGIN:VTIMEZONE
TZID:Europe/Sofia
BEGIN:DAYLIGHT
TZOFFSETFROM:+0200
TZOFFSETTO:+0300
TZNAME:EEST
DTSTART:20250330T010000
END:DAYLIGHT
BEGIN:STANDARD
TZOFFSETFROM:+0300
TZOFFSETTO:+0200
TZNAME:EET
DTSTART:20251026T010000
END:STANDARD
END:VTIMEZONE
BEGIN:VTIMEZONE
TZID:Europe/Rome
BEGIN:DAYLIGHT
TZOFFSETFROM:+0100
TZOFFSETTO:+0200
TZNAME:CEST
DTSTART:20250330T010000
END:DAYLIGHT
BEGIN:STANDARD
TZOFFSETFROM:+0200
TZOFFSETTO:+0100
TZNAME:CET
DTSTART:20251026T010000
END:STANDARD
END:VTIMEZONE
BEGIN:VEVENT
DTSTART;VALUE=DATE:20250426
DTEND;VALUE=DATE:20250427
DTSTAMP:20260426T031620
CREATED:20250205T134444Z
LAST-MODIFIED:20250205T134444Z
UID:10000285-1745625600-1745711999@sigiforge.com
SUMMARY:Sofia Sidesword Spring
DESCRIPTION:Mark the date! On the 26th of April\, we will hold the inaugural edition of Sofia Sidesword Spring\, a sidesword+ tournament in Sofia\, Bulgaria. \nCategories include:\n* Sidesword\n* Ladies Sidesword\n* HEMA Triathlon – single-handed weapon\, single-handed weapon with companion\, longsword \nSideswords provided! \nSidesword and Ladies Sidesword will be submitted to HEMA Ratings. \nAfterblow ruleset based on the Sofia CrossSwords rules.
URL:https://sigiforge.com/event/sofia-sidesword-spring/
LOCATION:Vienna
CATEGORIES:HEMA Ratings,Mixed Steel,Single sword,Tournament
ATTACH;FMTTYPE=image/jpeg:https://sigiforge.com/wp-content/uploads/2025/02/6ff0aa263631e77e4619a42333077e053af6892dd168608b3823aed43dbeb4ea-rimg-w1200-h788-dcd3bea8-gmir.jpeg
ORGANIZER;CN="Freifechter Sofia":MAILTO:freifechtersofia@gmail.com
END:VEVENT
BEGIN:VEVENT
DTSTART;TZID=Europe/Rome:20250426T120000
DTEND;TZID=Europe/Rome:20250426T190000
DTSTAMP:20260426T031620
CREATED:20250108T094710Z
LAST-MODIFIED:20250108T094710Z
UID:10000270-1745668800-1745694000@sigiforge.com
SUMMARY:Fante di Spade - torneo di sciabola e spadino
DESCRIPTION:Hema tournament in Lecco\, Italy \nThe categories are:\n– Saber (Mixed)\n– Smallsword (Mixed) \nPartecipation fee: 30€ \nMore info on the facebook Page:\nhttps://facebook.com/events/s/fante-di-spade-torneo-di-sciab/966729015513059/ \nRegistration:\nhttps://forms.gle/1LD2VxBRWAtgCmj78
URL:https://sigiforge.com/event/fante-di-spade-torneo-di-sciabola-e-spadino/
LOCATION:Vienna
CATEGORIES:Tournament
ORGANIZER;CN="Scherma Storica Lecco e Brianza":MAILTO:Info@schermastoricalecco.it
END:VEVENT
END:VCALENDAR