BEGIN:VCALENDAR
VERSION:2.0
PRODID:-//Sigi Forge - ECPv6.10.2//NONSGML v1.0//EN
CALSCALE:GREGORIAN
METHOD:PUBLISH
X-ORIGINAL-URL:https://sigiforge.com
X-WR-CALDESC:Events for Sigi Forge
REFRESH-INTERVAL;VALUE=DURATION:PT1H
X-Robots-Tag:noindex
X-PUBLISHED-TTL:PT1H
BEGIN:VTIMEZONE
TZID:Europe/Sofia
BEGIN:DAYLIGHT
TZOFFSETFROM:+0200
TZOFFSETTO:+0300
TZNAME:EEST
DTSTART:20250330T010000
END:DAYLIGHT
BEGIN:STANDARD
TZOFFSETFROM:+0300
TZOFFSETTO:+0200
TZNAME:EET
DTSTART:20251026T010000
END:STANDARD
END:VTIMEZONE
BEGIN:VTIMEZONE
TZID:Europe/Paris
BEGIN:DAYLIGHT
TZOFFSETFROM:+0100
TZOFFSETTO:+0200
TZNAME:CEST
DTSTART:20250330T010000
END:DAYLIGHT
BEGIN:STANDARD
TZOFFSETFROM:+0200
TZOFFSETTO:+0100
TZNAME:CET
DTSTART:20251026T010000
END:STANDARD
END:VTIMEZONE
BEGIN:VEVENT
DTSTART;TZID=Europe/Sofia:20251108T080000
DTEND;TZID=Europe/Sofia:20251109T210000
DTSTAMP:20260425T173339
CREATED:20250815T172651Z
LAST-MODIFIED:20250815T172651Z
UID:10000367-1762588800-1762722000@sigiforge.com
SUMMARY:Sofia CrossSwords
DESCRIPTION:Sofia CrossSwords is coming this autumn yet again\, with a total of 6 tournament categories\, all with WEAPONS PROVIDED! \nYou can compete in: \n* Open Arming Sword\n* Ladies Arming Sword\n* Open Sword & Buckler\n* Ladies Sword & Buckler\n* Open Light Longsword\n* Ladies Light Longsword \nSpend 2 days with some of the best fencers on the Balkans and Europe in one of the biggest tournaments on the peninsula.\nRegistration is NOW OPEN!\n📣 https://sofiaxswords.com/scs25reg \nFull ruleset is posted on the website. Basic scoring is:\n– 2 points for any clean hit\n– 1 point for the first hit followed by an “afterblow”\n– 0 points for any double hit\n– No afterblow after head hit\n– Hit quality required\, unopposed flats allowed to the head\, edge required on all other targets\n– First to 10 points in pools wins; first to 13 points in elimination wins \nFull protective required. Full list is posted on the website.\nAdditional information will be presented later on at the FB page and website. \nhttps://www.facebook.com/events/728023463443692\nhttps://sofiaxswords.com
URL:https://sigiforge.com/event/sofia-crossswords/
LOCATION:Sport Hall Triaditsa\, ul. "Haydushka Polyana" 57-58\, 1612 Motopista\, Sofia\, Sofia\, Bulgaria
CATEGORIES:HEMA Ratings,Longsword Open,Longsword Women,Single sword,Sword and Buckler,Tournament
ATTACH;FMTTYPE=image/jpeg:https://sigiforge.com/wp-content/uploads/2025/08/532031896_122252198006238892_839870019427496410_n.jpg
ORGANIZER;CN="Sofia CrossSwords":MAILTO:sofia.crossswords@gmail.com
END:VEVENT
BEGIN:VEVENT
DTSTART;TZID=Europe/Paris:20251122T083000
DTEND;TZID=Europe/Paris:20251123T180000
DTSTAMP:20260425T173339
CREATED:20251012T193345Z
LAST-MODIFIED:20251012T193345Z
UID:10000386-1763800200-1763920800@sigiforge.com
SUMMARY:Toulouse Turbo Tournament
DESCRIPTION:Turbo Tournoi Toulouse – the second edition of our “first blood” tournament\, organized by OGN in Toulouse.\nRegistrations are about to open very soon\nIn the footsteps of last year’s event\, we offer you this HEMA competition that includes matches to the first hit only!\nThus each confrontation will be quick\, in a single exchange.\nThis year\, you’ll find 3 disciplines:\n– longsword\n– Labat (rapier + dagger or cape or empty hand)\n– sidesword & buckler\nThe tournament will take place on the 22nd and 23rd of November in the CREPS gymnasium in Toulouse. Expect a lot of short marches\, where you will be able to fight pretty much every single other participant!\nRuleset to be published very soon (similar to last year’s event’s)\nSave the date & lets meet in Toulouse. We’ll be happy to see you there.
URL:https://sigiforge.com/event/toulouse-turbo-tournament/
LOCATION:CREPS de Toulouse\, 1 Av. Edouard Belin\, Toulouse\, Occitanie\, 31400\, France
CATEGORIES:Longsword Open,Rapier and sidearm,Sword and Buckler
ATTACH;FMTTYPE=image/jpeg:https://sigiforge.com/wp-content/uploads/2025/10/AFFICHE_TOURNOI_T3_NOV_2025.jpg
ORGANIZER;CN="Ost du Griffon Noir - OGN Toulouse AMHE":MAILTO:ogn.themacon@gmail.com
END:VEVENT
END:VCALENDAR