BEGIN:VCALENDAR
VERSION:2.0
PRODID:-//Sigi Forge - ECPv6.10.2//NONSGML v1.0//EN
CALSCALE:GREGORIAN
METHOD:PUBLISH
X-ORIGINAL-URL:https://sigiforge.com
X-WR-CALDESC:Events for Sigi Forge
REFRESH-INTERVAL;VALUE=DURATION:PT1H
X-Robots-Tag:noindex
X-PUBLISHED-TTL:PT1H
BEGIN:VTIMEZONE
TZID:America/Chicago
BEGIN:DAYLIGHT
TZOFFSETFROM:-0600
TZOFFSETTO:-0500
TZNAME:CDT
DTSTART:20250309T080000
END:DAYLIGHT
BEGIN:STANDARD
TZOFFSETFROM:-0500
TZOFFSETTO:-0600
TZNAME:CST
DTSTART:20251102T070000
END:STANDARD
END:VTIMEZONE
BEGIN:VTIMEZONE
TZID:Europe/Dublin
BEGIN:DAYLIGHT
TZOFFSETFROM:+0000
TZOFFSETTO:+0100
TZNAME:IST
DTSTART:20250330T010000
END:DAYLIGHT
BEGIN:STANDARD
TZOFFSETFROM:+0100
TZOFFSETTO:+0000
TZNAME:GMT
DTSTART:20251026T010000
END:STANDARD
END:VTIMEZONE
BEGIN:VTIMEZONE
TZID:Australia/Perth
BEGIN:STANDARD
TZOFFSETFROM:+0800
TZOFFSETTO:+0800
TZNAME:AWST
DTSTART:20250101T000000
END:STANDARD
END:VTIMEZONE
BEGIN:VEVENT
DTSTART;VALUE=DATE:20250502
DTEND;VALUE=DATE:20250505
DTSTAMP:20260426T025739
CREATED:20250227T102120Z
LAST-MODIFIED:20250227T102120Z
UID:10000305-1746144000-1746403199@sigiforge.com
SUMMARY:SwordStrong KC
DESCRIPTION:THE best swordfighting tournament in the Kansas City and surrounding area\, SwordStrong KC is held at the beginning of May each year and runs over three days. \nBoth seasoned and novice fighters have a space in this tournament\, providing everyone the opportunity to meet new friends\, have new experiences and swordfight. Bringing fighters\, speakers\, experts\, sponsors and vendors together in one space for competition\, comradery and education: SwordStrong KC is a tournament that gets better every year and holds a permanent place on every swordfighters calendar.
URL:https://sigiforge.com/event/swordstrong-kc/
LOCATION:All American Indoor Sports Arena\, 8875 Rosehill Rd\, Lenexa\, KS\, 66215\, United States
CATEGORIES:Longsword Open,Rapier,Saber,Singlestick,Sword and Buckler,Workshop
ATTACH;FMTTYPE=image/png:https://sigiforge.com/wp-content/uploads/2025/02/SwordStrong-KC-circle.png
ORGANIZER;CN="Baer Swords School of Western Martial Arts":MAILTO:Kat@Baerswords.com
END:VEVENT
BEGIN:VEVENT
DTSTART;TZID=Europe/Dublin:20250517T140000
DTEND;TZID=Europe/Dublin:20250518T200000
DTSTAMP:20260426T025739
CREATED:20250316T151846Z
LAST-MODIFIED:20250316T151846Z
UID:10000314-1747490400-1747598400@sigiforge.com
SUMMARY:IHFL 2025 - Cork Leg
DESCRIPTION:2nd leg of Irish Historical Fencing League 2025!\n– Sword and Buckler Tournament (Saturday)\n– Longsword Tournaments Tier A & B (Sunday)
URL:https://sigiforge.com/event/ihfl-2025-cork-leg/
LOCATION:Mahon Community Centre\, Avenue De Rennes\, Mahon\, Cork\, Cork\, Ireland
CATEGORIES:Longsword Open,Sword and Buckler
ATTACH;FMTTYPE=image/jpeg:https://sigiforge.com/wp-content/uploads/2025/03/IHFL_Cover_ICORK_2025.jpg
ORGANIZER;CN="Blademasters Academy":MAILTO:contact@blademastersacademy.com
END:VEVENT
BEGIN:VEVENT
DTSTART;VALUE=DATE:20250523
DTEND;VALUE=DATE:20250526
DTSTAMP:20260426T025739
CREATED:20250127T075646Z
LAST-MODIFIED:20250127T075646Z
UID:10000281-1747958400-1748217599@sigiforge.com
SUMMARY:War in the West 2025
DESCRIPTION:War in the West returns for 2025 – with 5 tournaments across 3 days in Perth\, Western Australia. \nCategories include longsword\, sabre\, sword & buckler\, rapier & dagger\, and open knockout. \nAll categories except open knockout will be uploaded to HEMA Ratings\, and longsword\, sabre\, and rapier & dagger will be listed on the Australian Historical Fencing League \nRegister here: https://forms.gle/Jy2K5s99J3NQZNmJ9 Event brief here: https://drive.google com/file/d/1BghNAj2R-_MaCdQc4OJlcmLyar5Bb-q6/view
URL:https://sigiforge.com/event/war-in-the-west-2025-2/
CATEGORIES:HEMA Ratings,Longsword Open,Rapier and Dagger,Saber,Sword and Buckler,Tournament
END:VEVENT
END:VCALENDAR