BEGIN:VCALENDAR
VERSION:2.0
PRODID:-//Sigi Forge - ECPv6.10.2//NONSGML v1.0//EN
CALSCALE:GREGORIAN
METHOD:PUBLISH
X-WR-CALNAME:Sigi Forge
X-ORIGINAL-URL:https://sigiforge.com
X-WR-CALDESC:Events for Sigi Forge
REFRESH-INTERVAL;VALUE=DURATION:PT1H
X-Robots-Tag:noindex
X-PUBLISHED-TTL:PT1H
BEGIN:VTIMEZONE
TZID:America/Los_Angeles
BEGIN:DAYLIGHT
TZOFFSETFROM:-0800
TZOFFSETTO:-0700
TZNAME:PDT
DTSTART:20260308T100000
END:DAYLIGHT
BEGIN:STANDARD
TZOFFSETFROM:-0700
TZOFFSETTO:-0800
TZNAME:PST
DTSTART:20261101T090000
END:STANDARD
END:VTIMEZONE
BEGIN:VTIMEZONE
TZID:America/New_York
BEGIN:DAYLIGHT
TZOFFSETFROM:-0500
TZOFFSETTO:-0400
TZNAME:EDT
DTSTART:20260308T070000
END:DAYLIGHT
BEGIN:STANDARD
TZOFFSETFROM:-0400
TZOFFSETTO:-0500
TZNAME:EST
DTSTART:20261101T060000
END:STANDARD
END:VTIMEZONE
BEGIN:VEVENT
DTSTART;VALUE=DATE:20260320
DTEND;VALUE=DATE:20260323
DTSTAMP:20260425T125220
CREATED:20251011T175527Z
LAST-MODIFIED:20251011T175527Z
UID:10000385-1773964800-1774223999@sigiforge.com
SUMMARY:SoCal Swordfight 2026
DESCRIPTION:March 20–22\, 2026 | Sheraton Fairplex\, Pomona\, California\nJoin a worldwide gathering of HEMA enthusiasts at SoCal Swordfight 2026! This event features 26 tournaments across a wide range of weapons\, divisions\, and tiers—including Open\, URG\, and U18. \nExperience more than 120 hours of instruction and workshops led by an international roster of expert instructors. Last year’s event welcomed 80 instructors from around the globe\, with an even more impressive lineup planned for 2026. \nExplore our extensive Vendor Hall—a destination for sharp swords\, sparring gear\, protective equipment\, training swords\, apparel\, and so much more. Many of the most well-known HEMA brands and artisans will be on-site\, offering top-tier products and the latest innovations for all your training and competition needs. \nOther highlights include the Antique Weapons Showcase for historical arms enthusiasts\, social activities\, and opportunities to connect within the global HEMA community. \nDon’t miss the chance to compete\, learn\, network\, and shop at one of the most anticipated HEMA events of the year! \nFor registration and more details\, visit SoCal Swordfight
URL:https://sigiforge.com/event/socal-swordfight-2026/
LOCATION:Sheraton Fairplex and Conference Center at the Los Angeles Fairplex\, 601 West McKinley Avenue\, Pomona\, CA\, 91768\, United States
CATEGORIES:Advanced Longsword,Beginner tournament,HEMA Ratings,Lecture,Longsword Open,Marginalized Gender Longsword,Rapier,Rapier and Dagger,Saber,Singlestick,Tournament,URG (Underrepresented Gender) Longsword,Workshop
ATTACH;FMTTYPE=image/png:https://sigiforge.com/wp-content/uploads/2025/10/SOCAL-SWORDFIGHT-2026-FB-Cover.png
ORGANIZER;CN="SoCal Swordfight":MAILTO:info@socalswordfight.com
END:VEVENT
BEGIN:VEVENT
DTSTART;TZID=America/New_York:20260627T080000
DTEND;TZID=America/New_York:20260628T170000
DTSTAMP:20260425T125220
CREATED:20260404T090421Z
LAST-MODIFIED:20260404T090421Z
UID:10000478-1782547200-1782666000@sigiforge.com
SUMMARY:Hot Sword Summer 2026
DESCRIPTION:Hot Sword Summer 2026 is live!\nThis year we have FIVE total events!\nSaturday –\nRapier with optional offhand\,\nSinglestick\nand Sword and Buckler! \nSunday-\nBeginners Longsword\nand Open Longsword! \nWe will have our Iron Fencer and URG award again this year as well\nGet your tickets here!\nCheck out the rules at this link!
URL:https://sigiforge.com/event/hot-sword-summer-2026/
CATEGORIES:Beginner tournament,Longsword Open,Rapier and sidearm,Singlestick,Sword and Buckler
ATTACH;FMTTYPE=image/png:https://sigiforge.com/wp-content/uploads/2026/04/Society-of-Historical-Fencing-Presents-1.png
ORGANIZER;CN="Society of Historical Fencing":MAILTO:societyofhistoricalfencing@gmail.com
END:VEVENT
END:VCALENDAR