BEGIN:VCALENDAR
VERSION:2.0
PRODID:-//Sigi Forge - ECPv6.10.2//NONSGML v1.0//EN
CALSCALE:GREGORIAN
METHOD:PUBLISH
X-WR-CALNAME:Sigi Forge
X-ORIGINAL-URL:https://sigiforge.com
X-WR-CALDESC:Events for Sigi Forge
REFRESH-INTERVAL;VALUE=DURATION:PT1H
X-Robots-Tag:noindex
X-PUBLISHED-TTL:PT1H
BEGIN:VTIMEZONE
TZID:Europe/Bratislava
BEGIN:DAYLIGHT
TZOFFSETFROM:+0100
TZOFFSETTO:+0200
TZNAME:CEST
DTSTART:20250330T010000
END:DAYLIGHT
BEGIN:STANDARD
TZOFFSETFROM:+0200
TZOFFSETTO:+0100
TZNAME:CET
DTSTART:20251026T010000
END:STANDARD
END:VTIMEZONE
BEGIN:VTIMEZONE
TZID:Asia/Hong_Kong
BEGIN:STANDARD
TZOFFSETFROM:+0800
TZOFFSETTO:+0800
TZNAME:HKT
DTSTART:20250101T000000
END:STANDARD
END:VTIMEZONE
BEGIN:VTIMEZONE
TZID:Europe/Dublin
BEGIN:DAYLIGHT
TZOFFSETFROM:+0000
TZOFFSETTO:+0100
TZNAME:IST
DTSTART:20250330T010000
END:DAYLIGHT
BEGIN:STANDARD
TZOFFSETFROM:+0100
TZOFFSETTO:+0000
TZNAME:GMT
DTSTART:20251026T010000
END:STANDARD
END:VTIMEZONE
BEGIN:VEVENT
DTSTART;VALUE=DATE:20250802
DTEND;VALUE=DATE:20250804
DTSTAMP:20260425T162548
CREATED:20250331T163624Z
LAST-MODIFIED:20250331T163624Z
UID:10000319-1754092800-1754265599@sigiforge.com
SUMMARY:HEMA WashFechten 2025
DESCRIPTION:HEMA WashFechten 2025 will be a 2 day historical fencing event focused on a number of tournaments alongside a separate sparring area to the side. \nThe disciplines will be longsword open\, longsword womens\, saber open and a mixed weapon team relay tournament. \nWe will be posting further information about them all in future. We are still accessing if further disciplines such as saber womens\, or rapier&dagger open may be feasible this year as well. If you are interested in such or have any other questions please write to us at hemawashfechten@gmail.com \nThe overall format of the tournaments will be the same as last year\, while some aspects will hopefully be a worthy improvement based on the constructive comments we’ve received on our first version of WashFechten and from what we’ve seen of various tournaments globally in the meantime. \nThe intent of this event is to have as many people enjoy as much great fencing as possible during a single day while also helping people get judging experience and giving various international fencers a chance to connect. \nWe look forward to having you at our event! \nEquipment rules: https://shorturl.at/q5ttN (Subject to change) \nTournament rules: https://shorturl.at/FUPB1 (Subject to change) ​ \nContact: hemawashfechten@gmail.com \nRegistration form: (will be added) ​ \nLocation(Will be formally confirmed at a later date): https://maps.app.goo.gl/JHBfKELNod56bUj5A \nLast year highlights: https://youtu.be/9VB2z0Ak3z4 \nLast years facebook event: https://www.facebook.com/events/1576528809571825 \n2024 event results: https://hemascorecard.com/infoSummary.php?e=546&t=0&m=0# https://hemaratings.com/events/details/2127/
URL:https://sigiforge.com/event/hema-washfechten-2025/
LOCATION:SC Rakovica\, 2 Viševačka\, 11090\, Beograd-Rakovica\, Grad Beograd\, Belgrade\, 11000\, Serbia
CATEGORIES:Group tournament,HEMA Ratings,Longsword Open,Longsword Women,Saber
ORGANIZER;CN="School of historical fencing - Terca":MAILTO:tercafencing@gmail.com
END:VEVENT
BEGIN:VEVENT
DTSTART;TZID=Asia/Hong_Kong:20250809T090000
DTEND;TZID=Asia/Hong_Kong:20250810T180000
DTSTAMP:20260425T162548
CREATED:20241123T073032Z
LAST-MODIFIED:20250526T081333Z
UID:10000262-1754730000-1754848800@sigiforge.com
SUMMARY:Einherjar Cup 2025
DESCRIPTION:Einherjar Cup 2025 is an international open HEMA tournament held in Hong Kong\, organized by Einherjar HEMA Club since 2022. In the past\, we are honoured to have teams from China\, Hong Kong\, Taiwan\, Singapore\, Philippines\, Indonesia\, Hungary participated. \nWe were honoured to receive the overwhelming positive feedback from participants. See the Facebook link below:\nhttps://www.facebook.com/share/17ztmT5JrJ/?mibextid=WC7FNe \nAs always\, we listen and make improvements for each edition. We are thrilled to receive interest from fencers from more countries to join us in 2025: including UK\, USA\, Australia\, Swiss\, Czech and Brazil! \nEinherjar Cup 2025 will features:\n1. Open Sabre\,\n2. Open Sword & buckler\,\n3. Open Rapier & dagger\,\n4. Open Longsword\nAll tournament results will be uploaded to HEMA Rating. \nIn addition: Cantonese roasted crispy pork (a-whole-pig) chopped and served at tournament site\, Post-tournament workshop / social sparring available on Monday at Einherjar HEMA Club. \nSo\, be sure to join our event and visit this city of cyberpunk! ..and have some delicious food along the way! 😀 \nRule-set key points\nWeighted scoring:\nAttack to deep target scores more than shallow.\nUpper-torso priority when double-hit:\nA cut to head & B cut to leg simultaneously\, only B receive double-hit penalty.\nAfterblow:\nOnly reduce the awarding score(s) to the attacker from that exchange\, afterblow window: 1 second from the first scoring action. \nRegistration method:\nStep 1: Submit your info via Google form to us\nhttps://forms.gle/7PwFpoybEhruzX6r8\nStep 2: Buy the tickets at Eventbrite!\nhttps://www.eventbrite.hk/e/einherjar-cup-2025-tickets-1360728608899?aff=oddtdtcreator&fbclid=IwZXh0bgNhZW0CMTAAYnJpZBExZzNmbWEyQUhMYUVPbnN3SgEeCqSzbIglxMFFuSHYUPzOLi1CYjjYg_R04h_l9hM4lZxEc08G7Sdc3pu-O6g_aem_kApvnsMq0lSd-3a0-Z8a2g\nStep 3: Congratulations\, your place will be secure after buying the tickets! Read the rules here and see you in Hong Kong! \n️Early bird discount: 5% off for all tickets before 1 June 2025 00:00 hours (HKT)\n️All tournament tickets will stop selling at 00:00 hours on 27 July 2025 (HKT). \nEinherjar Cup 2025 – Full Rules and Regulations\nhttps://docs.google.com/document/d/12sm1438uzts7aGPzvz0wycfZDv2nWO__m7b8bPAzDgw/edit?usp=sharing \nSee more updates at our Facebook Event at:\nhttps://www.facebook.com/events/1304706854311462/?active_tab=discussion
URL:https://sigiforge.com/event/einherjar-cup-2025/
LOCATION:Landing Zone\, Landing Zone\, 5/F\, 167-169 Hoi Bun Road\, Kwun Tong\, Kowloon\, Hong Kong\, Hong Kong\, Hong Kong\, 00000\, Hong Kong
CATEGORIES:HEMA Ratings,Longsword Open,Rapier and Dagger,Saber,Tournament
ATTACH;FMTTYPE=image/png:https://sigiforge.com/wp-content/uploads/2024/11/2025Raptorlogo.png
ORGANIZER;CN="Einherjar HEMA Club":MAILTO:einherjarhemaclub@gmail.com
END:VEVENT
BEGIN:VEVENT
DTSTART;TZID=Europe/Dublin:20250830T140000
DTEND;TZID=Europe/Dublin:20250831T200000
DTSTAMP:20260425T162548
CREATED:20250616T091745Z
LAST-MODIFIED:20250616T091745Z
UID:10000352-1756562400-1756670400@sigiforge.com
SUMMARY:Blademasters Cup 2025
DESCRIPTION:2 day weekend HEMA event featuring 2 Open tournaments: \n– Open Sabre (32 slots)\n– Open Longsword (64 slots) \nSocial on Sat evening!
URL:https://sigiforge.com/event/blademasters-cup-2025/
LOCATION:Mahon Community Centre\, Avenue De Rennes\, Mahon\, Cork\, Cork\, Ireland
CATEGORIES:HEMA Ratings,Longsword Open,Saber
ATTACH;FMTTYPE=image/jpeg:https://sigiforge.com/wp-content/uploads/2025/06/Blademasters-Cup-2025@2x.jpg
ORGANIZER;CN="Blademasters Academy":MAILTO:contact@blademastersacademy.com
END:VEVENT
END:VCALENDAR