BEGIN:VCALENDAR
VERSION:2.0
PRODID:-//Sigi Forge - ECPv6.10.2//NONSGML v1.0//EN
CALSCALE:GREGORIAN
METHOD:PUBLISH
X-ORIGINAL-URL:https://sigiforge.com
X-WR-CALDESC:Events for Sigi Forge
REFRESH-INTERVAL;VALUE=DURATION:PT1H
X-Robots-Tag:noindex
X-PUBLISHED-TTL:PT1H
BEGIN:VTIMEZONE
TZID:Europe/Bratislava
BEGIN:DAYLIGHT
TZOFFSETFROM:+0100
TZOFFSETTO:+0200
TZNAME:CEST
DTSTART:20260329T010000
END:DAYLIGHT
BEGIN:STANDARD
TZOFFSETFROM:+0200
TZOFFSETTO:+0100
TZNAME:CET
DTSTART:20261025T010000
END:STANDARD
END:VTIMEZONE
BEGIN:VTIMEZONE
TZID:Europe/Brussels
BEGIN:DAYLIGHT
TZOFFSETFROM:+0100
TZOFFSETTO:+0200
TZNAME:CEST
DTSTART:20260329T010000
END:DAYLIGHT
BEGIN:STANDARD
TZOFFSETFROM:+0200
TZOFFSETTO:+0100
TZNAME:CET
DTSTART:20261025T010000
END:STANDARD
END:VTIMEZONE
BEGIN:VEVENT
DTSTART;TZID=Europe/Bratislava:20260523T083000
DTEND;TZID=Europe/Bratislava:20260523T190000
DTSTAMP:20260425T123606
CREATED:20260226T080833Z
LAST-MODIFIED:20260226T080833Z
UID:10000453-1779525000-1779562800@sigiforge.com
SUMMARY:Na Duel! 2026
DESCRIPTION:Duellantes together with Lanistis Announce Their Annual Tournament. \n📅 Saturday\, May 23\, 2026 – Prague \nDisciplines:\n– SABER – Barbasetti rules (RoW) – 42 fencers\n– SWORD AND BUCKLER – Regulae lanistarum – 28 fencers \nRecommended but not required for the shield are swords of the Bolognese Renaissance tradition (Side-swords). \nCapacity may increase substantially if there is high demand. \nPrice:\n30 € for one discipline\n45 € for both disciplines\nWeapon rental for 2 € / piece \nRegistration opens on April 1st at 14:14
URL:https://sigiforge.com/event/na-duel-2026/
LOCATION:ZŠ Bílá\, Bílá 1784/1\, Prague\, 16000\, Czech Republic
CATEGORIES:Mixed Steel,Saber,Sidesword,Sword and Buckler,Tournament
ATTACH;FMTTYPE=image/jpeg:https://sigiforge.com/wp-content/uploads/2026/02/c84f8cd9-da89-4783-8ad6-18420b0971f2.jpeg
ORGANIZER;CN="Duelanti od sv. Rocha":MAILTO:duelanti@centrum.cz
GEO:50.1053068;14.3872361
X-APPLE-STRUCTURED-LOCATION;VALUE=URI;X-ADDRESS=ZŠ Bílá Bílá 1784/1 Prague 16000 Czech Republic;X-APPLE-RADIUS=500;X-TITLE=Bílá 1784/1:geo:14.3872361,50.1053068
END:VEVENT
BEGIN:VEVENT
DTSTART;TZID=Europe/Brussels:20260612T180000
DTEND;TZID=Europe/Brussels:20260614T170000
DTSTAMP:20260425T123606
CREATED:20260222T131539Z
LAST-MODIFIED:20260223T153135Z
UID:10000446-1781287200-1781456400@sigiforge.com
SUMMARY:MORTFEST 2026: Year of the Highlander
DESCRIPTION:Introducing the fourth edition of Mortfest! \nThis year\, we will partially focus on the history and culture of the Scottish Highlands\, with some workshops\, lectures and entertainment focusing on the subject. \n2026 will be the Year of the Highlander! \nWhat to expect?\n– More than 10 workshops & 4 lectures\, given by the finest instructors around\n– Bagpipes and tunes\, straight from the Highlands\n– The McBane Challenge\n– Highland Games inspired challenges\n– Kilts! Kilts everywhere!\n– “Why’s the whisky gone?” \nRegistration:\nhttps://forms.gle/cb53nfTmJGfp51PT8
URL:https://sigiforge.com/event/mortfest-2026-year-of-the-highlander/
LOCATION:Jeugdverblijf Heywijck\, Lange Rekstraat 52\, Sint-Niklaas\, Oost-Vlaanderen\, 9100\, Belgium
CATEGORIES:Broadsword,Dagger,Lecture,Marginalized Gender Longsword,Mixed Steel,Rapier,Saber,Sword and Buckler,Training camp,Workshop
ATTACH;FMTTYPE=image/jpeg:https://sigiforge.com/wp-content/uploads/2026/02/processed-FFD7C232-71EE-4797-97F4-B45A47540CDE-scaled.jpeg
ORGANIZER;CN="Arte Mortiferum":MAILTO:artemortiferum@gmail.com
END:VEVENT
END:VCALENDAR