BEGIN:VCALENDAR
VERSION:2.0
PRODID:-//Sigi Forge - ECPv6.10.2//NONSGML v1.0//EN
CALSCALE:GREGORIAN
METHOD:PUBLISH
X-WR-CALNAME:Sigi Forge
X-ORIGINAL-URL:https://sigiforge.com
X-WR-CALDESC:Events for Sigi Forge
REFRESH-INTERVAL;VALUE=DURATION:PT1H
X-Robots-Tag:noindex
X-PUBLISHED-TTL:PT1H
BEGIN:VTIMEZONE
TZID:Europe/Vilnius
BEGIN:DAYLIGHT
TZOFFSETFROM:+0200
TZOFFSETTO:+0300
TZNAME:EEST
DTSTART:20250330T010000
END:DAYLIGHT
BEGIN:STANDARD
TZOFFSETFROM:+0300
TZOFFSETTO:+0200
TZNAME:EET
DTSTART:20251026T010000
END:STANDARD
END:VTIMEZONE
BEGIN:VEVENT
DTSTART;TZID=Europe/Vilnius:20250614T100000
DTEND;TZID=Europe/Vilnius:20250614T200000
DTSTAMP:20260425T224107
CREATED:20250501T195643Z
LAST-MODIFIED:20250501T195643Z
UID:10000338-1749895200-1749931200@sigiforge.com
SUMMARY:Alberio Kalavijas III
DESCRIPTION:❗Alberio kalavijas returns❗\nSummer is approaching\, the weather is getting warmer\, and we’re keeping up the training as we prepare for our biggest annual tournament! ⚔️\n🏙️ Where?: Saulėtekio 26\, Vilnius\n📆 When?: June 14th\, 2025\, 10:00 AM\nThis year\, in the most anticipated tournament of the year\, we’ll have categories of longsword\, saber\, sword and shield\, and women’s (mixed weapons)\, so we’re excited to welcome fighters from all disciplines mentioned.\nMore information coming soon\, but for now – mark June 14th on your calendars\, get ready\, and let’s meet to welcome the summer!
URL:https://sigiforge.com/event/alberio-kalavijas-iii/
LOCATION:Vilniaus universiteto sporto ir sveikatingumo centras\, Saulėtekio al. 26\, Vilnius\, Lithuania
CATEGORIES:Longsword Open,Mixed Steel,Saber,Sword and Buckler
ATTACH;FMTTYPE=image/png:https://sigiforge.com/wp-content/uploads/2025/05/Logo-with-text.png
ORGANIZER;CN="Alber Aus VU HEMA":MAILTO:alberausvuhema@gmail.com
END:VEVENT
END:VCALENDAR