BEGIN:VCALENDAR
VERSION:2.0
PRODID:-//Sigi Forge - ECPv6.10.2//NONSGML v1.0//EN
CALSCALE:GREGORIAN
METHOD:PUBLISH
X-ORIGINAL-URL:https://sigiforge.com
X-WR-CALDESC:Events for Sigi Forge
REFRESH-INTERVAL;VALUE=DURATION:PT1H
X-Robots-Tag:noindex
X-PUBLISHED-TTL:PT1H
BEGIN:VTIMEZONE
TZID:America/Phoenix
BEGIN:STANDARD
TZOFFSETFROM:-0700
TZOFFSETTO:-0700
TZNAME:MST
DTSTART:20250101T000000
END:STANDARD
END:VTIMEZONE
BEGIN:VTIMEZONE
TZID:America/Chicago
BEGIN:DAYLIGHT
TZOFFSETFROM:-0600
TZOFFSETTO:-0500
TZNAME:CDT
DTSTART:20250309T080000
END:DAYLIGHT
BEGIN:STANDARD
TZOFFSETFROM:-0500
TZOFFSETTO:-0600
TZNAME:CST
DTSTART:20251102T070000
END:STANDARD
END:VTIMEZONE
BEGIN:VTIMEZONE
TZID:Europe/Vilnius
BEGIN:DAYLIGHT
TZOFFSETFROM:+0200
TZOFFSETTO:+0300
TZNAME:EEST
DTSTART:20250330T010000
END:DAYLIGHT
BEGIN:STANDARD
TZOFFSETFROM:+0300
TZOFFSETTO:+0200
TZNAME:EET
DTSTART:20251026T010000
END:STANDARD
END:VTIMEZONE
BEGIN:VEVENT
DTSTART;VALUE=DATE:20250712
DTEND;VALUE=DATE:20250714
DTSTAMP:20260425T202231
CREATED:20250304T163306Z
LAST-MODIFIED:20250305T101644Z
UID:10000309-1752278400-1752451199@sigiforge.com
SUMMARY:Cactus Cup
DESCRIPTION:Held in Mesa\, Arizona\, USA\, Cactus Cup will offer open longsword\, women’s+ longsword\, open saber\, and open sword and buckler. Striving to embrace the Southwest Desert vibes and old school HEMa chill\, Cactus Cup is sure to be the hottest event of the Summer (quite literally 🏜️)
URL:https://sigiforge.com/event/cactus-cup/
LOCATION:Vienna
CATEGORIES:Longsword Open,Longsword Women,Saber,Sword and Buckler
ATTACH;FMTTYPE=image/jpeg:https://sigiforge.com/wp-content/uploads/2025/03/CC-instagram-square.jpeg
ORGANIZER;CN="Mordhau Historical Combat":MAILTO:mordhauhema@gmail.com
END:VEVENT
BEGIN:VEVENT
DTSTART;TZID=America/Chicago:20250719T080000
DTEND;TZID=America/Chicago:20250719T170000
DTSTAMP:20260425T202231
CREATED:20250524T094657Z
LAST-MODIFIED:20250524T094657Z
UID:10000346-1752912000-1752944400@sigiforge.com
SUMMARY:Sioux Falls Tournament of Blades
DESCRIPTION:The Sioux Falls Tournament of Blades is a premier open-format martial arts event dedicated to edged weapon disciplines from across the globe. Whether you wield a European longsword\, a Japanese katana\, practice HEMA\, Modern Kendo\, or any traditional or contemporary bladed system\, this tournament offers a unique arena to showcase your skill\, passion\, and artistry. Competitors of all backgrounds and experience levels are welcome to join divisions including HEMA Longsword\, Modern Kendo\, Padded Sword sparring\, and Forms/Kata with edged weapons\, making this event a true celebration of swordsmanship in all its forms. \nHosted by Dynamic Martial Arts of Sioux Falls\, the Tournament of Blades fosters respect\, friendly competition\, and camaraderie among the diverse community of sword practitioners. Whether you’re here to compete\, spectate\, or connect with fellow martial artists\, you’ll experience thrilling matches\, inspiring performances\, and a welcoming atmosphere that embraces the shared dedication to the art of the blade. Join us for an unforgettable day of skill\, tradition\, and the spirit of the sword.
URL:https://sigiforge.com/event/sioux-falls-tournament-of-blades/
LOCATION:Dynamic Martial Arts\, 1516 S Sycamore Ave\, Sioux Falls\, SD\, 57110\, United States
CATEGORIES:Longsword Men,Longsword Open,Longsword Women,Marginalized Gender Longsword,Tournament,URG (Underrepresented Gender) Longsword
ATTACH;FMTTYPE=image/jpeg:https://sigiforge.com/wp-content/uploads/2025/05/Tourney-of-Blades-Banner-1.jpg
ORGANIZER;CN="Dynamic Martial Arts":MAILTO:info@dmaofsiouxfalls.org
END:VEVENT
BEGIN:VEVENT
DTSTART;VALUE=DATE:20250721
DTEND;VALUE=DATE:20250724
DTSTAMP:20260425T202231
CREATED:20250502T114102Z
LAST-MODIFIED:20250502T114143Z
UID:10000339-1753056000-1753315199@sigiforge.com
SUMMARY:HEMA Camp 1610
DESCRIPTION:Three-day-long Historical European Martial Arts (HEMA) training camp in an amazing and period-appropriate environment.\n1610 was the year Panemunė castle was completed. What a coincidence: the early 17th century was also the golden age of European martial arts\, and that’s what this HEMA camp is going to be all about.\nEach day there will be a seminar on one of the staple Renaissance weapons with a world-renown fencing master:\nJuly 21: Longsword (Matt Galas)\nJuly 22: Sabre (Jerzy Miklaszewski)\nJuly 23: Rapier (Mike Prendergast)\nAdditional activities will include excursions\, lectures\, sparring\, target cutting\, handling of real antique weapons\, sitting around a campfire and more. Stay tuned for more information on the schedule!\nHow much will it cost?\nFull price:\n3 days: 200 eur\n2 days: 150 eur\n1 day: 100 eur\nThe price includes stays (2\, 1 and 0 appropriately) at the castle’s hostel.\nThere is an additional option to stay in fancier hotel rooms (for an additional price\, see the registration form).\nThere is also an option to camp in a tent\, which will reduce the base price by 14 eur. per night. Not only will you enjoy fresh air\, but also save some money!\nThe price also includes 3 meals per day. There are additional meal options too.\nRegistration closes on May 14\nRegistration form:\nhttps://forms.gle/e1iSswLPH8uM3ht66
URL:https://sigiforge.com/event/hema-camp-1610/
LOCATION:Panemunė castle\, Vytėnų g. 53\, Pilies I k. 74464\, Skirsnemunės sen.\, Jurbarko r.\, Pilies I k.\, Skirsnemunės sen.\, Jurbarko r.\, 74464\, Lithuania
CATEGORIES:Lecture,Longsword Men,Longsword Women,Rapier,Saber,Training camp,Workshop
ATTACH;FMTTYPE=image/jpeg:https://sigiforge.com/wp-content/uploads/2025/05/IG-cover.jpg
END:VEVENT
END:VCALENDAR