BEGIN:VCALENDAR
VERSION:2.0
PRODID:-//Sigi Forge - ECPv6.10.2//NONSGML v1.0//EN
CALSCALE:GREGORIAN
METHOD:PUBLISH
X-WR-CALNAME:Sigi Forge
X-ORIGINAL-URL:https://sigiforge.com
X-WR-CALDESC:Events for Sigi Forge
REFRESH-INTERVAL;VALUE=DURATION:PT1H
X-Robots-Tag:noindex
X-PUBLISHED-TTL:PT1H
BEGIN:VTIMEZONE
TZID:Europe/Bratislava
BEGIN:DAYLIGHT
TZOFFSETFROM:+0100
TZOFFSETTO:+0200
TZNAME:CEST
DTSTART:20250330T010000
END:DAYLIGHT
BEGIN:STANDARD
TZOFFSETFROM:+0200
TZOFFSETTO:+0100
TZNAME:CET
DTSTART:20251026T010000
END:STANDARD
END:VTIMEZONE
BEGIN:VTIMEZONE
TZID:Europe/Paris
BEGIN:DAYLIGHT
TZOFFSETFROM:+0100
TZOFFSETTO:+0200
TZNAME:CEST
DTSTART:20250330T010000
END:DAYLIGHT
BEGIN:STANDARD
TZOFFSETFROM:+0200
TZOFFSETTO:+0100
TZNAME:CET
DTSTART:20251026T010000
END:STANDARD
END:VTIMEZONE
BEGIN:VEVENT
DTSTART;VALUE=DATE:20250308
DTEND;VALUE=DATE:20250309
DTSTAMP:20260426T022747
CREATED:20250204T103035Z
LAST-MODIFIED:20250204T103035Z
UID:10000284-1741392000-1741478399@sigiforge.com
SUMMARY:Žilinský Kumšt VIII.
DESCRIPTION:We would like to invite you to the 8th annual Žilinský Kumšt tournament! ⚔️ This unique contest of fencing masters\, under the auspices of the Terra de Selinan Guild and the Federation of European Martial Arts of Slovakia (FEBUS)\, promises thrilling matches that will test your courage\, skill\, and determination. Come and fight for a place at the top and experience an atmosphere full of excitement!\nThe tournament will take place on Saturday March 8\, 2025\n🤺CATEGORIES:\nLongsword men (max. 96 contestants)\nLongsword women (min. 8 – max. 16 contestants)\nSword and Buckler (min. 8 – max. 24 contestants)\n✅REGISTRATION:\nRegistration will open on February 1\, 2025 at 6 PM CET.\n📌LOCATION:\nŠportová hala ŽSK\, Rosinská cesta 6\, 010 08 Žilina\nhttps://maps.app.goo.gl/SjdMWNiS6MTAgT6p9\n💰FEES:\nSingle category 45€\nEach additional category +20€\nAfterparty 15€\nWe’re looking forward to seeing you!\nCech Terra de Selinan
URL:https://sigiforge.com/event/zilinsky-kumst-viii/
LOCATION:Športová hala ŽSK\, Rosinská cesta 6\, Žilina\, 01008
CATEGORIES:Longsword Men,Longsword Women,Sword and Buckler
ATTACH;FMTTYPE=image/jpeg:https://sigiforge.com/wp-content/uploads/2025/02/465901539_1100916382039746_457734068703279470_n.jpg
END:VEVENT
BEGIN:VEVENT
DTSTART;TZID=Europe/Paris:20250319T080000
DTEND;TZID=Europe/Paris:20250319T170000
DTSTAMP:20260426T022747
CREATED:20250319T123418Z
LAST-MODIFIED:20250319T123418Z
UID:10000316-1742371200-1742403600@sigiforge.com
SUMMARY:Challenge Athena
DESCRIPTION:La Compagnie d’Armes de Lyon vous invite au Challenge Athena !\nNous organisons en parallèle de notre compétition annuelle d’escrime sportive un événement dédié à la pratique féminine des Arts Martiaux Historique Européens (AMHE). \nVenez vivre des stages d’exceptions avec des instructrices mythiques !\nUne compétition homérique pour les combattantes intrépides ! Et bien d’autres surprises à venir! \nPlus d’infos : https://www.lyonescrime.fr/challenge-athena/
URL:https://sigiforge.com/event/challenge-athena/
LOCATION:Gymnase Colbert\, 3 rue Louis Chapuy\, Lyon\, 69008\, France
CATEGORIES:HEMA Ratings,Lecture,Longsword Women,Mixed Steel,Women tournament,Workshop
ATTACH;FMTTYPE=image/jpeg:https://sigiforge.com/wp-content/uploads/2025/03/Challenge-Athena-CARL-Affiche.jpg
ORGANIZER;CN="Compagnie d'Armes de Lyon":MAILTO:amhe@lyonescrime.fr
END:VEVENT
END:VCALENDAR