BEGIN:VCALENDAR
VERSION:2.0
PRODID:-//Sigi Forge - ECPv6.10.2//NONSGML v1.0//EN
CALSCALE:GREGORIAN
METHOD:PUBLISH
X-WR-CALNAME:Sigi Forge
X-ORIGINAL-URL:https://sigiforge.com
X-WR-CALDESC:Events for Sigi Forge
REFRESH-INTERVAL;VALUE=DURATION:PT1H
X-Robots-Tag:noindex
X-PUBLISHED-TTL:PT1H
BEGIN:VTIMEZONE
TZID:Europe/Belgrade
BEGIN:DAYLIGHT
TZOFFSETFROM:+0100
TZOFFSETTO:+0200
TZNAME:CEST
DTSTART:20250330T010000
END:DAYLIGHT
BEGIN:STANDARD
TZOFFSETFROM:+0200
TZOFFSETTO:+0100
TZNAME:CET
DTSTART:20251026T010000
END:STANDARD
END:VTIMEZONE
BEGIN:VTIMEZONE
TZID:Europe/Bratislava
BEGIN:DAYLIGHT
TZOFFSETFROM:+0100
TZOFFSETTO:+0200
TZNAME:CEST
DTSTART:20250330T010000
END:DAYLIGHT
BEGIN:STANDARD
TZOFFSETFROM:+0200
TZOFFSETTO:+0100
TZNAME:CET
DTSTART:20251026T010000
END:STANDARD
END:VTIMEZONE
BEGIN:VEVENT
DTSTART;TZID=Europe/Belgrade:20250125T090000
DTEND;TZID=Europe/Belgrade:20250125T210000
DTSTAMP:20260426T052707
CREATED:20241003T101648Z
LAST-MODIFIED:20241003T101648Z
UID:10000252-1737795600-1737838800@sigiforge.com
SUMMARY:The Duke's Winter Cup
DESCRIPTION:A HEMA Tournament in Novi Sad\, Serbia \nThe categories are:\n– Longsword (mixed)\n– Longsword (women)\n– Hutton’s saber (mixed)\n– Hutton’s saber (women)\nThe participation fee is 30 EUR for one category and +15 EUR for each additional one. \nRegistration:\nhttps://hemagon.com/tournament/WinterDukesCup
URL:https://sigiforge.com/event/the-dukes-winter-cup/
LOCATION:Vienna
CATEGORIES:Longsword Open,Longsword Women,Saber
ATTACH;FMTTYPE=image/jpeg:https://sigiforge.com/wp-content/uploads/2024/10/458525539_815768654046611_881182041052135085_n.jpg
ORGANIZER;CN="The Red Ravens":MAILTO:alexey.trekin@gmail.com
END:VEVENT
BEGIN:VEVENT
DTSTART;TZID=Europe/Bratislava:20250125T100000
DTEND;TZID=Europe/Bratislava:20250126T180000
DTSTAMP:20260426T052708
CREATED:20241021T151242Z
LAST-MODIFIED:20241021T151242Z
UID:10000258-1737799200-1737914400@sigiforge.com
SUMMARY:La Voûte de Fer 2025
DESCRIPTION:The Voûte de Fer is coming bakc in january 2025 ! A new edition on the span of 2 days\, organized by both the SAEA Paris and the Chapitre des Armes.\nThis year’s edition will feature the following disciplines :\n_Longsword Open and Longsword Women on saturday the 25th\n_Saber Open and Saber Women on sunday the 26th\n_Rapier Open on saturday the 26th\nWe are impatient to see you at the event !
URL:https://sigiforge.com/event/la-voute-de-fer-2025/
LOCATION:Vienna
CATEGORIES:Longsword Open,Longsword Women,Rapier,Saber
ATTACH;FMTTYPE=image/jpeg:https://sigiforge.com/wp-content/uploads/2024/10/9ac9bc21-7441-476a-92a2-f064cf472c34-min-scaled.jpg
ORGANIZER;CN="SAEA Paris":MAILTO:lavoutedefer@gmail.com
END:VEVENT
END:VCALENDAR