BEGIN:VCALENDAR
VERSION:2.0
PRODID:-//Sigi Forge - ECPv6.10.2//NONSGML v1.0//EN
CALSCALE:GREGORIAN
METHOD:PUBLISH
X-WR-CALNAME:Sigi Forge
X-ORIGINAL-URL:https://sigiforge.com
X-WR-CALDESC:Events for Sigi Forge
REFRESH-INTERVAL;VALUE=DURATION:PT1H
X-Robots-Tag:noindex
X-PUBLISHED-TTL:PT1H
BEGIN:VTIMEZONE
TZID:Europe/Prague
BEGIN:DAYLIGHT
TZOFFSETFROM:+0100
TZOFFSETTO:+0200
TZNAME:CEST
DTSTART:20250330T010000
END:DAYLIGHT
BEGIN:STANDARD
TZOFFSETFROM:+0200
TZOFFSETTO:+0100
TZNAME:CET
DTSTART:20251026T010000
END:STANDARD
END:VTIMEZONE
BEGIN:VTIMEZONE
TZID:Europe/Bratislava
BEGIN:DAYLIGHT
TZOFFSETFROM:+0100
TZOFFSETTO:+0200
TZNAME:CEST
DTSTART:20250330T010000
END:DAYLIGHT
BEGIN:STANDARD
TZOFFSETFROM:+0200
TZOFFSETTO:+0100
TZNAME:CET
DTSTART:20251026T010000
END:STANDARD
END:VTIMEZONE
BEGIN:VEVENT
DTSTART;VALUE=DATE:20250405
DTEND;VALUE=DATE:20250406
DTSTAMP:20260426T000042
CREATED:20241021T100013Z
LAST-MODIFIED:20241021T100013Z
UID:10000256-1743811200-1743897599@sigiforge.com
SUMMARY:Pražský argument 2025
DESCRIPTION:Pražský argument 2025\, 4th year\nCome to Prague on 5.4.2025 and meet your friends. The tournament will be held in LSO and LSW categories.\nFollow the event on our website and fb.\n…\nPražský argument 2025\, 4.ročník\nPřijeďte si zašermovat do Prahy 5.4.2025 a setkat se s přáteli. Turnaj proběhne v kategoriích LSO a LSW.\nUdálost sledujte na našem webu a fb.
URL:https://sigiforge.com/event/prazsky-argument-2025/
LOCATION:Sportovní hala Jedenáctka\, Mírového hnutí 3\, Praha 11\, 14900\, Czech Republic
CATEGORIES:Longsword Open,Longsword Women
ORGANIZER;CN="Posledn%C3%AD argument":MAILTO:posledni.argument@gmail.com
END:VEVENT
BEGIN:VEVENT
DTSTART;TZID=Europe/Bratislava:20250412T080000
DTEND;TZID=Europe/Bratislava:20250413T200000
DTSTAMP:20260426T000042
CREATED:20250228T073422Z
LAST-MODIFIED:20250228T073422Z
UID:10000306-1744444800-1744574400@sigiforge.com
SUMMARY:Ace of Blades 2025
DESCRIPTION:Ace of Blades 2025 is the second edition of an ambitious HEMA event in Eastern Europe\, organized by Iron Will HEMA Academy. \n>>> When?\n– Saturday\, 12 April (08\,00 – 20\,00)\n– Sunday\, 13 April (08\,00 – 20\,00) \n>>> Where?\nCSTA salle (Clubul Sporturilor Tehnico-Aplicative)\nAddress:\nAleea Mateloților 1\, București 013716\nhttps://maps.app.goo.gl/1XisQdt7X4Hm8fbDA \nNOTE: We recommend participants that are not living in Bucharest should look for accommodation that is (relatively) close to the salle. This way\, you can be more comfortable when we finish the activities set for Saturday to go change at your accommodation\, for the Social Dinner. Which\, by the way\, will take place here:\nhttps://maps.app.goo.gl/Ypi3JYnm2BRBJ2F87 \n>>> Activities:\nAoB 2025 will feature the following. \nMAIN Activities:\n– Open LS tournament\n– Women’s LS Tournament\n– Open Sabre Tournament \nAUXILIARY Activities:\n– Flourish Display\n– Multiple Opponents Contest \nAs can be seen\, we’ve kept the activities we did in the first edition and added to them. 😉 You can check out AoB 2024\, if you want to get a general idea of how things went:\nhttps://www.facebook.com/events/1186258899074018/ \n>>> Registration form:\nhttps://forms.gle/1qRKytKvwUcTdUbB7 \nWe look forward to seeing you in 12-13 April!
URL:https://sigiforge.com/event/ace-of-blades-2025/
LOCATION:CSTA (Clubul Sporturilor Tehnico-Aplicative)\, Aleea Mateloților 1\, Bucuresti\, Bucuresti\, 013716\, Romania
CATEGORIES:Longsword Open,Longsword Women,Saber
ATTACH;FMTTYPE=image/png:https://sigiforge.com/wp-content/uploads/2025/02/aob_3_black_gold_1080x1080.png
ORGANIZER;CN="Iron Will HEMA Academy":MAILTO:ironwillhema@gmail.com
END:VEVENT
BEGIN:VEVENT
DTSTART;TZID=Europe/Bratislava:20250426T070000
DTEND;TZID=Europe/Bratislava:20250426T180000
DTSTAMP:20260426T000042
CREATED:20241211T105202Z
LAST-MODIFIED:20250110T100816Z
UID:10000265-1745650800-1745690400@sigiforge.com
SUMMARY:Brünner stich 2025
DESCRIPTION:Next edition of tournament Brünner stich is here again! It will be take place in Brno as again on 26th of April 2025. We will compete in two categories LSO and LSW. For more information follow our social sites! \n——————— \nDalší ročník turnaje Brünner stich je zpět! Stejně jako minulý rok se bude konat v jihu Moravy v Brně\, a to 26. Dubna 2025. Soutěžit se bude ve dvou kategoriích LSO a LSW. Pro bližší informace sledujte naše sociální sítě.
URL:https://sigiforge.com/event/brunner-stich-2025/
LOCATION:KY
CATEGORIES:Longsword Open,Longsword Women
END:VEVENT
END:VCALENDAR