BEGIN:VCALENDAR
VERSION:2.0
PRODID:-//Sigi Forge - ECPv6.10.2//NONSGML v1.0//EN
CALSCALE:GREGORIAN
METHOD:PUBLISH
X-ORIGINAL-URL:https://sigiforge.com
X-WR-CALDESC:Events for Sigi Forge
REFRESH-INTERVAL;VALUE=DURATION:PT1H
X-Robots-Tag:noindex
X-PUBLISHED-TTL:PT1H
BEGIN:VTIMEZONE
TZID:Europe/Belgrade
BEGIN:DAYLIGHT
TZOFFSETFROM:+0100
TZOFFSETTO:+0200
TZNAME:CEST
DTSTART:20240331T010000
END:DAYLIGHT
BEGIN:STANDARD
TZOFFSETFROM:+0200
TZOFFSETTO:+0100
TZNAME:CET
DTSTART:20241027T010000
END:STANDARD
END:VTIMEZONE
BEGIN:VEVENT
DTSTART;TZID=Europe/Belgrade:20241207T080000
DTEND;TZID=Europe/Belgrade:20241208T210000
DTSTAMP:20260426T055755
CREATED:20241004T125915Z
LAST-MODIFIED:20241004T130350Z
UID:10000253-1733558400-1733691600@sigiforge.com
SUMMARY:Swordplay 2024
DESCRIPTION:Swordplay is one of the largest HEMA tournaments in Southeastern Europe with it’s seventh installment happening this year. Established by Terca\, a school of historical fencing from Serbia\, Swordplay strives to gather fencers from all around Europe who want to compete and exchange experiences with like-minded people in a competitive environment.\nThis year disciplines include:\n– Open single sidesword\n– Open single rapier\n– Ladies longsword\n– Open longsowrd\n– Open smallsword
URL:https://sigiforge.com/event/swordplay-2024/
LOCATION:SC Rakovica\, 2 Viševačka\, 11090\, Beograd-Rakovica\, Grad Beograd\, Belgrade\, 11000\, Serbia
CATEGORIES:HEMA Ratings,Longsword Open,Rapier,Single sword
ATTACH;FMTTYPE=image/png:https://sigiforge.com/wp-content/uploads/2024/10/Swordplay_logo_Yearless-03.png
ORGANIZER;CN="School of historical fencing - Terca":MAILTO:tercafencing@gmail.com
END:VEVENT
END:VCALENDAR