BEGIN:VCALENDAR
VERSION:2.0
PRODID:-//Sigi Forge - ECPv6.10.2//NONSGML v1.0//EN
CALSCALE:GREGORIAN
METHOD:PUBLISH
X-ORIGINAL-URL:https://sigiforge.com
X-WR-CALDESC:Events for Sigi Forge
REFRESH-INTERVAL;VALUE=DURATION:PT1H
X-Robots-Tag:noindex
X-PUBLISHED-TTL:PT1H
BEGIN:VTIMEZONE
TZID:America/Denver
BEGIN:DAYLIGHT
TZOFFSETFROM:-0700
TZOFFSETTO:-0600
TZNAME:MDT
DTSTART:20260308T090000
END:DAYLIGHT
BEGIN:STANDARD
TZOFFSETFROM:-0600
TZOFFSETTO:-0700
TZNAME:MST
DTSTART:20261101T080000
END:STANDARD
END:VTIMEZONE
BEGIN:VEVENT
DTSTART;TZID=America/Denver:20260516T090000
DTEND;TZID=America/Denver:20260517T190000
DTSTAMP:20260425T053721
CREATED:20260323T201058Z
LAST-MODIFIED:20260323T201058Z
UID:10000472-1778922000-1779044400@sigiforge.com
SUMMARY:Battle Born VI
DESCRIPTION:Battle Born is Nevada’s premier Historical European Martial Arts tournament\, located in Carson City\, Nevada. In 2026\, Battle Born will host fencers from across North America in steel longsword\, rapier\, broadsword and smallsword competitions. This year we will be hosting workshops from Richard Marsden\, Justinder Singh\, Andrew Bradford\, Sigmund Werndorf\, and John Patterson. \nOur focus is to try to kindle the connections between participants—we are a mid-sized event\, and plan to always remain a mid-sized event\, with competitors who come from all across the US & Canada to compete and participate in classes\, and our goal is to foster opportunities to collaborate\, train together\, and build relationships. \nOur tournaments use a unique ruleset that helps to bring out historical fencing while remaining simple enough to allow our judges to focus on judging. \nWe hand-pick our judges and we pay them professional wages. We take judging seriously.
URL:https://sigiforge.com/event/battle-born-vi/
LOCATION:Carson City Community Center\, 851 E. William St\, Carson City\, NV\, United States
CATEGORIES:Broadsword,Longsword Open,Rapier,Women tournament
ATTACH;FMTTYPE=image/jpeg:https://sigiforge.com/wp-content/uploads/2026/03/c0aa4251-eb53-41dc-8003-57b7fe5631ac-scaled.jpg
GEO:39.1697396;-119.760157
X-APPLE-STRUCTURED-LOCATION;VALUE=URI;X-ADDRESS=Carson City Community Center 851 E. William St Carson City NV United States;X-APPLE-RADIUS=500;X-TITLE=851 E. William St:geo:-119.760157,39.1697396
END:VEVENT
END:VCALENDAR